BEGIN:VCALENDAR
VERSION:2.0
PRODID:-//兵庫県作業療法士会　研修案内 - ECPv6.7.0//NONSGML v1.0//EN
CALSCALE:GREGORIAN
METHOD:PUBLISH
X-WR-CALNAME:兵庫県作業療法士会　研修案内
X-ORIGINAL-URL:https://ot-hyogo.or.jp/file
X-WR-CALDESC:兵庫県作業療法士会　研修案内 のイベント
REFRESH-INTERVAL;VALUE=DURATION:PT1H
X-Robots-Tag:noindex
X-PUBLISHED-TTL:PT1H
BEGIN:VTIMEZONE
TZID:Asia/Tokyo
BEGIN:STANDARD
TZOFFSETFROM:+0900
TZOFFSETTO:+0900
TZNAME:JST
DTSTART:20220101T000000
END:STANDARD
END:VTIMEZONE
BEGIN:VEVENT
DTSTART;TZID=Asia/Tokyo:20221013T190000
DTEND;TZID=Asia/Tokyo:20221013T210000
DTSTAMP:20260424T144334
CREATED:20220914T054855Z
LAST-MODIFIED:20221023T070859Z
UID:381-1665687600-1665694800@ot-hyogo.or.jp
SUMMARY:407「認知症について～認知症のある方の生きる世界に触れる～」締切10.5
DESCRIPTION:テーマ\n東播磨ブロック主催 第2回ブロック研修会\n「認知症について～認知症のある方の生きる世界に触れる～」 \n内容\n「認知症のある方の生きる世界に触れる」と題して、認知症のBPSDの捉え方やその支援方法についてご講義いただくとともに、一緒に考えていく内容となっております。 \n日時\n2022年10月13日（木）19：00～21：00（受付：18：30～） \n会場\nオンライン（Zoom） \n※受付完了者に研修日の３日前（平日のみ）までにメールにてミーティングを配信します \n→10月7日（金）11時00分頃にミーティング情報配信完了しました。（↓以下参照） \n【事務局より】407　東播磨ブロック研修会（10/13）受講確定者へメールを送信しました \n講師\n鍛冶　実　先生（赤穂市立介護老人保健施設　老健あこう） \n定員\n30名 \n生涯教育ポイント\n２P付与されます \n受講費\n１０００円　（銀行振込のみ対応） \n【振込みの際のご注意】\n「振込人名」の後に「ヒ407　OT協会番号」を追加してください。\n（例：ヒョウゴタロウ　ヒ407　12345）\n※振込人名後の「ヒ407」で本研修の受講費として処理します。忘れずにご入力をお願いいたします。振込人名のみ場合は確認連絡が届く可能性があります。\n※振込時にお手元に残る振込明細書（記録）は研修会開始まで保管ください。\n※受講料の入金と下記申込ボタンからの申し込みが揃った時点で受付完了となります。\nいずれか一方でも確認できない場合、申し込みは自動キャンセルとなります。 \n【振込先口座】\n金融機関：三井住友銀行　普通口座　北須磨支店　5206374\n名義人 ：一般社団法人兵庫県作業療法士会 \n申込み条件\n☒　兵庫県士会員 \n受講条件\nオンラインでの研修会に参加される方は、参加条件・準備事項・個人情報保護について以下の資料を必ずご確認ください。 \nオンライン研修会に参加される皆さまへ \nオンライン研修における研修情報および個人情報保護について \n締め切り\n2022年10月5日（水）13：00 \n問い合わせ先\nhigashiharimanoot@yahoo.co.jp \n申し込み受付は終了しました。
URL:https://ot-hyogo.or.jp/file/event/407%e3%80%8c%e8%aa%8d%e7%9f%a5%e7%97%87%e3%81%ab%e3%81%a4%e3%81%84%e3%81%a6%ef%bd%9e%e8%aa%8d%e7%9f%a5%e7%97%87%e3%81%ae%e3%81%82%e3%82%8b%e6%96%b9%e3%81%ae%e7%94%9f%e3%81%8d%e3%82%8b%e4%b8%96
LOCATION:オンライン(Zoom)
CATEGORIES:兵庫県作業療法士会主催の研修
END:VEVENT
BEGIN:VEVENT
DTSTART;TZID=Asia/Tokyo:20221007T190000
DTEND;TZID=Asia/Tokyo:20221007T203000
DTSTAMP:20260424T144334
CREATED:20220913T062550Z
LAST-MODIFIED:20221023T071254Z
UID:375-1665169200-1665174600@ot-hyogo.or.jp
SUMMARY:411「施設の役職者向け研修会（総務部）」締切9.30
DESCRIPTION:テーマ\n（一社）兵庫県作業療法士会　施設の役職者向け研修会（総務部） \n内容\n第1部　日本作業療法士協会での取り組み及び予防的観点\n第1部　講師：日本作業療法士協会　倫理委員会委員長　太田 睦美 氏 \n第2部　県士会に関する質疑応答 \n日時\n2022年10月7日（金）19:00～20:30（受付18:45～） \n会場\nオンライン（Zoom） \n※受付完了者に研修日の３日前（平日のみ）までにメールにてミーティングを配信します \n→10月4日（火）14時30分頃にミーティング情報配信完了しました。（↓以下参照） \n【事務局より】411　兵庫県作業療法士会　施設の役職者向け研修会（10/7）申込者へメールを送信しました \n講師\n日本作業療法士協会　倫理委員会委員長　太田 睦美 氏 \n定員\n300名 \n生涯教育ポイント\n付与対象外です \n受講費\n無料 \n申込み条件\n県下全施設の作業療法部門長および役職を持つ作業療法士（一施設複数名でも可）（技士長、部長、課長、係長、主任、リーダーなど、代理出席でも可能） \n職場に1名しか作業療法士が在籍しない施設の作業療法士 \n兵庫県作業療法士会　理事、（正・副）部長、ブロック長、委員長） \n受講条件\nオンラインでの研修会に参加される方は、参加条件・準備事項・個人情報保護について以下の資料を必ずご確認ください。 \nオンライン研修会に参加される皆さまへ \nオンライン研修における研修情報および個人情報保護について \n締め切り\n9月30日（金）13：00迄 \n問い合わせ先\n県士会事務局総務部 大谷将之\n \n申し込み受付は終了しました
URL:https://ot-hyogo.or.jp/file/event/411%e3%80%8c%e6%96%bd%e8%a8%ad%e3%81%ae%e5%bd%b9%e8%81%b7%e8%80%85%e5%90%91%e3%81%91%e7%a0%94%e4%bf%ae%e4%bc%9a%ef%bc%88%e7%b7%8f%e5%8b%99%e9%83%a8%ef%bc%89%e3%80%8d%e7%b7%a0%e5%88%879-30
LOCATION:オンライン(Zoom)
CATEGORIES:兵庫県作業療法士会主催の研修
END:VEVENT
BEGIN:VEVENT
DTSTART;TZID=Asia/Tokyo:20221001T080000
DTEND;TZID=Asia/Tokyo:20221001T170000
DTSTAMP:20260424T144334
CREATED:20230515T023333Z
LAST-MODIFIED:20230515T023333Z
UID:1280-1664611200-1664643600@ot-hyogo.or.jp
SUMMARY:テスト
DESCRIPTION:あいうえお
URL:https://ot-hyogo.or.jp/file/event/%e3%83%86%e3%82%b9%e3%83%88
LOCATION:オンライン(Zoom)
CATEGORIES:兵庫県作業療法士会主催の研修
END:VEVENT
END:VCALENDAR