BEGIN:VCALENDAR
VERSION:2.0
PRODID:-//兵庫県作業療法士会　研修案内 - ECPv6.7.0//NONSGML v1.0//EN
CALSCALE:GREGORIAN
METHOD:PUBLISH
X-ORIGINAL-URL:https://ot-hyogo.or.jp/file
X-WR-CALDESC:兵庫県作業療法士会　研修案内 のイベント
REFRESH-INTERVAL;VALUE=DURATION:PT1H
X-Robots-Tag:noindex
X-PUBLISHED-TTL:PT1H
BEGIN:VTIMEZONE
TZID:Asia/Tokyo
BEGIN:STANDARD
TZOFFSETFROM:+0900
TZOFFSETTO:+0900
TZNAME:JST
DTSTART:20220101T000000
END:STANDARD
END:VTIMEZONE
BEGIN:VEVENT
DTSTART;TZID=Asia/Tokyo:20221030T093000
DTEND;TZID=Asia/Tokyo:20221030T170000
DTSTAMP:20260424T103400
CREATED:20220920T090420Z
LAST-MODIFIED:20221027T041331Z
UID:422-1667122200-1667149200@ot-hyogo.or.jp
SUMMARY:414「老年期障害の作業療法」締切10.25
DESCRIPTION:テーマ\n現職者選択研修　老年期障害の作業療法 \n内容\n・老年期の基礎知識\n・老年期作業療法の治療的枠組み\n・地域分野の老年期作業療法\n・医療機関における老年期作業療法 \n日時\n2022年10月30日（日）　9：30～17:00（8時30分から受付開始） \n会場\nWeb開催（zoom使用）\n※受付完了者に研修日の３日前（平日のみ）までにメールにてミーティングを配信します \n→10月27日（木）13時00分頃にミーティング情報配信完了しました。（↓以下参照） \n【事務局より】414　教育部現職者選択研修【老年期障害の作業療法】（10/30）受講確定者へメールを送信しました \n講師\n・横井 賀津志 氏（大阪公立大学）\n・松下 太 氏（森ノ宮医療大学）\n・鍛治 実 氏（赤穂市立介護老人保健施設 老健あこう）\n・濱脇 大祐 氏（土井リハビリテーション病院） \n定員\n50名（オンラインのみ） \n生涯教育ポイント\n☒　２P付与されます \n受講費\n4000円（銀行振り込みのみ対応）\n–\n【振込みの際のご注意】\n「振込人名」の後に「キ414　OT協会番号」を追加してください。\n（例：ヒョウゴタロウ　キ414　12345）\n※振込人名後の「キ414」で本研修の受講費として処理します。忘れずにご入力をお願いいたします。振込人名のみ場合は確認連絡が届く可能性があります。\n※振込時にお手元に残る振込明細書（記録）は研修会開始まで保管ください。\n※受講料の入金と下記申込ボタンからの申し込みが揃った時点で受付完了となります。\n－いずれか一方でも確認できない場合、申し込みは自動キャンセルとなります。\n–\n【振込先口座】→受付終了につき削除しました \n申込み条件\n☒　兵庫県士会員\n☒　兵庫県士会員以外（OT協会に在籍する他府県士会員） \n受講条件\nオンラインでの研修会に参加される方は、参加条件・準備事項・個人情報保護について以下の資料を必ずご確認ください。 \nオンライン研修会に参加される皆さまへ \nオンライン研修における研修情報および個人情報保護について \n締め切り\n10月25日 木曜日 火曜日 13時まで\n※事務局が作成している研修会スケジュールを必ずご確認ください。 \nその他\n会員として申し込むには申込時点で県士会員である必要があります。 \n問い合わせ先\n末吉 謙斗（すえよしけんと）　明石仁十病院（ TEL：078-942-1921 ）\n \nこの研修は申込受け付けを終了しました（画像などを設置） \n－ \n－ \n 
URL:https://ot-hyogo.or.jp/file/event/414%e3%80%8c%e8%80%81%e5%b9%b4%e6%9c%9f%e9%9a%9c%e5%ae%b3%e3%81%ae%e4%bd%9c%e6%a5%ad%e7%99%82%e6%b3%95%e3%80%8d%e7%b7%a0%e5%88%8710-25
LOCATION:オンライン(Zoom)
CATEGORIES:兵庫県作業療法士会主催の研修
END:VEVENT
END:VCALENDAR