BEGIN:VCALENDAR
VERSION:2.0
PRODID:-//兵庫県作業療法士会　研修案内 - ECPv6.7.0//NONSGML v1.0//EN
CALSCALE:GREGORIAN
METHOD:PUBLISH
X-ORIGINAL-URL:https://ot-hyogo.or.jp/file
X-WR-CALDESC:兵庫県作業療法士会　研修案内 のイベント
REFRESH-INTERVAL;VALUE=DURATION:PT1H
X-Robots-Tag:noindex
X-PUBLISHED-TTL:PT1H
BEGIN:VTIMEZONE
TZID:Asia/Tokyo
BEGIN:STANDARD
TZOFFSETFROM:+0900
TZOFFSETTO:+0900
TZNAME:JST
DTSTART:20220101T000000
END:STANDARD
END:VTIMEZONE
BEGIN:VEVENT
DTSTART;TZID=Asia/Tokyo:20221118T190000
DTEND;TZID=Asia/Tokyo:20221118T210000
DTSTAMP:20260424T091207
CREATED:20220928T111025Z
LAST-MODIFIED:20221115T030708Z
UID:454-1668798000-1668805200@ot-hyogo.or.jp
SUMMARY:416「社会生活を見据えたプログラムをつくる」締切11.10
DESCRIPTION:研修案内のダウンロードはこちら \nテーマ\n丹波・北播磨ブロック＆精神分野作業療法委員会共催\n第一回人材育成研修会\n「社会生活を見据えたプログラムをつくる」 \n内容\n精神分野だけでなく、様々な分野で実践できるプログラムを考える研修です。\n分野を問わず、地域社会とつながるOTプログラムを考えたい作業療法士が対象です。 \n日時\n２０２２年１１月１８日（金）１９：００～２１：００ \n会場\nオンライン開催\n※受付完了者に研修日の３日前（平日のみ）までにメールにてミーティングを配信します \n→11/15（火）12時00分頃にミーティング情報配信完了しました。（以下参照） \n【事務局より】416　丹波北播磨ブロック＆精神分野作業療法委員会共催研修会（11/18）受講確定者へメールを送信しました \n講師\n宮崎宏興（ＮＰＯ法人いねいぶる） \n定員\n４０名 \n生涯教育ポイント\n☒　２P付与されます \n受講費\n（銀行振り込みのみ対応）\n兵庫県士会員　1\,000円\n兵庫県士会員以外（OT協会に在籍する他府県士会員）　1\,000円\n日本OT協会・他府県士会に在籍していないOT　2\,000円 \n【振込みの際のご注意】\n「振込人名」の後に「セ416　OT協会番号」を追加してください。\n（例：ヒョウゴタロウ　セ416　12345　協会番号のないOTは　セ416　のみを追加）\n※振込人名後の「セ416」で本研修の受講費として処理します。忘れずにご入力をお願いいたします。振込人名のみ場合は確認連絡が届く可能性があります。\n※振込時にお手元に残る振込明細書（記録）は研修会開始まで保管ください。\n※受講料の入金と下記申込ボタンからの申し込みが揃った時点で受付完了となります。\nーいずれか一方でも確認できない場合、申し込みは自動キャンセルとなります。 \n【振込先口座】\n金融機関：三井住友銀行　普通口座　北須磨支店　5206374\n名義人 ：一般社団法人兵庫県作業療法士会 \n申込み条件\n☒　兵庫県士会員\n☒　兵庫県士会員以外（OT協会に在籍する他府県士会員）\n☒　その他（日本OT協会・他府県士会に在籍していないOT） \n受講条件\nオンラインでの研修会に参加される方は、参加条件・準備事項・個人情報保護について以下の資料を必ずご確認ください。 \nオンライン研修会に参加される皆さまへ \nオンライン研修における研修情報および個人情報保護について \n締め切り\n１１月１０日（木）１３時まで \n問い合わせ先\n精神分野作業療法委員会　(森川)\n \n－ \n申し込み受付は終了しました
URL:https://ot-hyogo.or.jp/file/event/416%e3%80%8c%e7%a4%be%e4%bc%9a%e7%94%9f%e6%b4%bb%e3%82%92%e8%a6%8b%e6%8d%ae%e3%81%88%e3%81%9f%e3%83%97%e3%83%ad%e3%82%b0%e3%83%a9%e3%83%a0%e3%82%92%e3%81%a4%e3%81%8f%e3%82%8b%e3%80%8d%e7%b7%a0
LOCATION:オンライン(Zoom)
CATEGORIES:兵庫県作業療法士会主催の研修
END:VEVENT
END:VCALENDAR