BEGIN:VCALENDAR
VERSION:2.0
PRODID:-//兵庫県作業療法士会　研修案内 - ECPv6.7.0//NONSGML v1.0//EN
CALSCALE:GREGORIAN
METHOD:PUBLISH
X-ORIGINAL-URL:https://ot-hyogo.or.jp/file
X-WR-CALDESC:兵庫県作業療法士会　研修案内 のイベント
REFRESH-INTERVAL;VALUE=DURATION:PT1H
X-Robots-Tag:noindex
X-PUBLISHED-TTL:PT1H
BEGIN:VTIMEZONE
TZID:Asia/Tokyo
BEGIN:STANDARD
TZOFFSETFROM:+0900
TZOFFSETTO:+0900
TZNAME:JST
DTSTART:20220101T000000
END:STANDARD
END:VTIMEZONE
BEGIN:VEVENT
DTSTART;TZID=Asia/Tokyo:20221208T190000
DTEND;TZID=Asia/Tokyo:20221208T210000
DTSTAMP:20260424T074634
CREATED:20221102T092226Z
LAST-MODIFIED:20221205T054045Z
UID:617-1670526000-1670533200@ot-hyogo.or.jp
SUMMARY:425「和歌山県共催　MTDLP事例発表会」締切(聴講)12.1
DESCRIPTION:テーマ\n和歌山県共催　ＭＴＤＬＰ事例発表会 \n内容\n今回、和歌山県士会と共催でのMTDLP事例発表会を開催することとなりました。\n兵庫県・和歌山県　各1例の事例検討会となります。事例を通し、MTDLPへの理解も深まる機会となります。ぜひご参加ください。 \n日時\n2022年12月8日　19：00～21：00（受付　18：40） \n会場\nZoomによるオンライン参加\n※受付完了者に研修日の３日前（平日のみ）までにメールにてミーティングを配信します \n→12/5（月）14時30分頃にミーティング情報配信完了しました。（以下参照） \n【事務局より】425　和歌山共催　NTDLP事例発表会（12/8）受講確定者へメールを送信しました \n講師\n藤田　純　先生（田辺中央病院）\n崎本　史生　先生（神戸リハビリテーション病院） \n定員\n聴講者　　　10名 \n受講費\n１０００円\n【振込みの際のご注意】\n「振込人名」の後に「キ425　OT協会番号」を追加してください。\n（例：ヒョウゴタロウ　キ425　12345）\n※振込人名後の「キ425」で本研修の受講費として処理します。忘れずにご入力をお願いいたします。振込人名のみ場合は確認連絡が届く可能性があります。\n※振込時にお手元に残る振込明細書（記録）は研修会開始まで保管ください。\n※受講料の入金と下記申込ボタンからの申し込みが揃った時点で受付完了となります。\nーいずれか一方でも確認できない場合、申し込みは自動キャンセルとなります。 \n【振込先口座】→受付終了のため削除しました \n申込み条件\n日本作業療法士協会会員かつ兵庫県作業療法士会員であること\n※会員として申し込むには申込時点で県士会員である必要があります。 \n受講条件\nオンラインでの研修会に参加される方は、参加条件・準備事項・個人情報保護について以下の資料を必ずご確認ください。 \nオンライン研修会に参加される皆さまへ \nオンライン研修における研修情報および個人情報保護について \n締め切り\n聴講　申し込み日：２０２２年１２月１日　１３時まで \nその他\n※事例発表会に聴講者としての参加は、ＭＴＤＬＰ研修の要件を満たしません。 \n注意点\n●2017年4月より基礎ポイント（２ポイント）付与に伴い、参加には受講費1\,000円が必要になりました。 \n●基礎ポイント付与対象となるのは、2017年4月以降のMTDLP事例発表会です。 \n問い合わせ先\n順心神戸病院　浦田　　TEL078-754-8700 \n申し込み受付は終了しました
URL:https://ot-hyogo.or.jp/file/event/425%e3%80%8c%e5%92%8c%e6%ad%8c%e5%b1%b1%e7%9c%8c%e5%85%b1%e5%82%ac%e3%80%80mtdlp%e4%ba%8b%e4%be%8b%e7%99%ba%e8%a1%a8%e4%bc%9a%e3%80%8d%e7%b7%a0%e5%88%87%e8%81%b4%e8%ac%9b12-1
LOCATION:オンライン(Zoom)
CATEGORIES:兵庫県作業療法士会主催の研修
END:VEVENT
END:VCALENDAR