BEGIN:VCALENDAR
VERSION:2.0
PRODID:-//兵庫県作業療法士会　研修案内 - ECPv6.7.0//NONSGML v1.0//EN
CALSCALE:GREGORIAN
METHOD:PUBLISH
X-WR-CALNAME:兵庫県作業療法士会　研修案内
X-ORIGINAL-URL:https://ot-hyogo.or.jp/file
X-WR-CALDESC:兵庫県作業療法士会　研修案内 のイベント
REFRESH-INTERVAL;VALUE=DURATION:PT1H
X-Robots-Tag:noindex
X-PUBLISHED-TTL:PT1H
BEGIN:VTIMEZONE
TZID:Asia/Tokyo
BEGIN:STANDARD
TZOFFSETFROM:+0900
TZOFFSETTO:+0900
TZNAME:JST
DTSTART:20220101T000000
END:STANDARD
END:VTIMEZONE
BEGIN:VEVENT
DTSTART;TZID=Asia/Tokyo:20221211T093000
DTEND;TZID=Asia/Tokyo:20221211T154000
DTSTAMP:20260424T074518
CREATED:20221118T062022Z
LAST-MODIFIED:20221118T062207Z
UID:749-1670751000-1670773200@ot-hyogo.or.jp
SUMMARY:「人材育成研修 STEP Ⅱ・訪問リハ実務者 研修会」締切12.1
DESCRIPTION:－\n　チラシのダウンロードはこちら\n－\n\n－\n　チラシのダウンロードはこちら\n－
URL:https://ot-hyogo.or.jp/file/event/749
LOCATION:三宮研修センター
CATEGORIES:兵庫県作業療法士会主催の研修
END:VEVENT
BEGIN:VEVENT
DTSTART;TZID=Asia/Tokyo:20221211T100000
DTEND;TZID=Asia/Tokyo:20221211T120000
DTSTAMP:20260424T074518
CREATED:20221102T093703Z
LAST-MODIFIED:20221206T041239Z
UID:625-1670752800-1670760000@ot-hyogo.or.jp
SUMMARY:426「座位から立位・立位から歩行までの動作活動」締切12.6
DESCRIPTION:テーマ\n2022年度第1回丹波北播磨ブロック研修会 \n内容\n座位から立位・立位から歩行までの動作活動 \n日時\n2022年12月11日（日）10：00-12：00 \n会場\n対面開催　三木市教育会館　中研修室\n〒673-0433　兵庫県三木市福井1933-12 \n講師\n正木健一氏（理学療法士・株式会社ヌーベルバーグ） \n定員\n30名 \n生涯教育ポイント\n☒　２P付与されます \n受講費\n（銀行振り込みのみ対応）\n県士会員　　1000円\n非県士会員　2000円\n他職種　　　 500円 \n【振込みの際のご注意】\n「振込人名」の後に「タン426　OT協会番号」を追加してください。\n（例：ヒョウゴタロウ　タン426　12345　協会番号のない方は　タン426　のみを追加）\n※振込人名後の「タン426」で本研修の受講費として処理します。忘れずにご入力をお願いいたします。振込人名のみ場合は確認連絡が届く可能性があります。\n※振込時にお手元に残る振込明細書（記録）は研修会開始まで保管ください。\n※受講料の入金と下記申込ボタンからの申し込みが揃った時点で受付完了となります。\nーいずれか一方でも確認できない場合、申し込みは自動キャンセルとなります。 \n【振込先口座】→受付終了のため削除しました \n申込み条件\n☒　兵庫県士会員\n☒　兵庫県士会員以外（OT協会に在籍する他府県士会員）\n☒　その他（他職種、一般、日本OT協会・他府県士会に在籍していないOT） \n締め切り\n2022年12月6日（火）13：00 \nその他\n今回は理学療法士の正木健一先生をお招きし、「座位から立位・立位から歩行までの動作活動」というテーマでご講義頂きます。臨床において座位から歩行までの動作指導をする場面は多々あると思います。指導の際には対象者の疾患や体格によってアプローチの仕方が変わると思います。この度の研修では正木先生の豊富な経験から動作指導する際に必要なポイントを実技を交えて分かりやすく教えて頂きます。沢山のご参加をお待ちしております。\n＊本研修会は対面にて開催します。開催にあたって以下の点にご協力下さい。\n・参加される方はマスクの着用をお願いします。\n・手袋とフェイスシールドの着用は任意とします。\n・マスク、手袋、フェイスシールドは各自で持参して下さい。\n・参加される方は会場入り口でアルコール消毒と検温をお願いします。 \n問い合わせ先\n介護老人保健施設　サンビラ三木　TEL：0794-70-8202 \n申し込み受付は終了しました
URL:https://ot-hyogo.or.jp/file/event/426%e3%80%8c%e5%ba%a7%e4%bd%8d%e3%81%8b%e3%82%89%e7%ab%8b%e4%bd%8d%e3%83%bb%e7%ab%8b%e4%bd%8d%e3%81%8b%e3%82%89%e6%ad%a9%e8%a1%8c%e3%81%be%e3%81%a7%e3%81%ae%e5%8b%95%e4%bd%9c%e6%b4%bb%e5%8b%95
LOCATION:三木市教育会館　中研修室
CATEGORIES:兵庫県作業療法士会主催の研修
END:VEVENT
END:VCALENDAR