BEGIN:VCALENDAR
VERSION:2.0
PRODID:-//兵庫県作業療法士会　研修案内 - ECPv6.7.0//NONSGML v1.0//EN
CALSCALE:GREGORIAN
METHOD:PUBLISH
X-ORIGINAL-URL:https://ot-hyogo.or.jp/file
X-WR-CALDESC:兵庫県作業療法士会　研修案内 のイベント
REFRESH-INTERVAL;VALUE=DURATION:PT1H
X-Robots-Tag:noindex
X-PUBLISHED-TTL:PT1H
BEGIN:VTIMEZONE
TZID:Asia/Tokyo
BEGIN:STANDARD
TZOFFSETFROM:+0900
TZOFFSETTO:+0900
TZNAME:JST
DTSTART:20230101T000000
END:STANDARD
END:VTIMEZONE
BEGIN:VEVENT
DTSTART;TZID=Asia/Tokyo:20230120T183000
DTEND;TZID=Asia/Tokyo:20230120T210000
DTSTAMP:20260424T062410
CREATED:20221219T082324Z
LAST-MODIFIED:20230908T070949Z
UID:863-1674239400-1674248400@ot-hyogo.or.jp
SUMMARY:439「現職者共通研修　事例報告・事例検討」締切12.23
DESCRIPTION:テーマ\n2022年度神戸東・阪神地区精神科　現職者共通研修　事例報告・事例検討 \n内容\n現職者共通研修　事例報告・事例検討会 \n日時\n2023年1月20日（金）　18：30～21：00 \n会場\nZoomでのオンライン開催\n※受付完了者に研修日の３日前（平日のみ）までにメールにてミーティングを配信します \n→1月17日（火）13時頃に研修に関するミーティング情報を送信しました（以下参照） \n【事務局より】431　淡路ブロックMTDLP事例発表会（1/20）受講確定者へメールを送信しました \n定員\n発表者　5名　 （生涯教育ポイントが発生します）\n検討者　20名　（生涯教育ポイントが発生します）\n聴講者　20名　（生涯教育ポイントは発生しません） \n受講費\n発表者及び検討者　各１，０００円　※聴講者は受講費不要です\n（銀行振り込みのみ対応） \n  \n【振込みの際のご注意】\n「振込人名」の後に「コ439　OT協会番号」を追加してください。\n（例：ヒョウゴタロウ　コ439　12345）\n※振込人名後の「コ439」で本研修の受講費として処理します。忘れずにご入力をお願いいたします。振込人名のみ場合は確認連絡が届く可能性があります。\n※振込時にお手元に残る振込明細書（記録）は研修会開始まで保管ください。\n※受講料の入金と下記申込ボタンからの申し込みが揃った時点で受付完了となります。\nーいずれか一方でも確認できない場合、申し込みは自動キャンセルとなります。 \n  \n【振込先口座】→受付終了のため削除しました \n申し込み期間\n12月23日（金）13時\n※ファシリテーターの方も聴講者としての申し込みが必要です \n申込み条件\n☒　兵庫県士会員 \n受講条件\nオンラインでの研修会に参加される方は、参加条件・準備事項・個人情報保護について以下の資料を必ずご確認ください。 \nオンライン研修会に参加される皆さまへ \nオンライン研修における研修情報および個人情報保護について \nその他\n発表者、ファシリテーターは兵庫県作業療法士会員\n原則1人の発表者に１人のファシリテーターを付けて頂くようにお願いします。\n※会員として申し込むには申込時点で県士会員である必要があります。 \n問い合わせ先\n兵庫県立ひょうごこころの医療センター　福羽（ふくば）\nTEL：078-581-1013\n－ \n申し込み受付は終了しました
URL:https://ot-hyogo.or.jp/file/event/439%e3%80%8c%e7%8f%be%e8%81%b7%e8%80%85%e5%85%b1%e9%80%9a%e7%a0%94%e4%bf%ae%e3%80%80%e4%ba%8b%e4%be%8b%e5%a0%b1%e5%91%8a%e3%83%bb%e4%ba%8b%e4%be%8b%e6%a4%9c%e8%a8%8e%e3%80%8d%e7%b7%a0%e5%88%8712-23
LOCATION:オンライン(Zoom)
CATEGORIES:兵庫県作業療法士会主催の研修
END:VEVENT
BEGIN:VEVENT
DTSTART;TZID=Asia/Tokyo:20230120T190000
DTEND;TZID=Asia/Tokyo:20230120T210000
DTSTAMP:20260424T062410
CREATED:20221114T125055Z
LAST-MODIFIED:20230117T042234Z
UID:722-1674241200-1674248400@ot-hyogo.or.jp
SUMMARY:431「淡路ブロック MTDLP事例発表会」締切(発表)12.19 (聴講)1.6
DESCRIPTION:テーマ\n淡路ブロック　ＭＴＤＬＰ事例発表会 \n内容\nMTDLP基礎研修修了した皆様には、次のステップである実践者研修修了を目指し、自施設で実践を行い、事例発表会にて発表頂きたいと思います。多数の発表よろしくお願いします。また以後発表を予定されている方は聴講者として参加することをおすすめします。 \n2018年度より、発表者は事例発表後に協会の事例報告を行いＭＴＤＬＰ指導者を目指す方（Aコース）と事例発表を行いＭＴＤＬＰ研修修了を目指す方（Bコース）で発表シートを選択できるようになっております。 \n発表者は、「MTDLP事例発表会発表資料変更のおしらせ」「MTDLP事例発表における発表者の皆様へ」をよく読み、資料の作成および事前準備をお願いします。発表に関しては「MTDLP事例発表会に向けたチェックリスト」を必ず参考にして準備をお願いします。 \nMTDLP事例発表会発表資料変更のおしらせ \nMTDLP事例発表における発表者の皆様へ \nMTDLP事例発表会に向けたチェックリスト \n日時\n2023年1月20日　19：00～21：00（受付 18：45～） \n会場\nZOOMによるオンライン参加 \n※受付完了者に研修日の３日前（平日のみ）までにメールにてミーティングを配信します \n→1月17日（火）13時20分頃に研修に関するミーティング情報を送信しました（以下参照） \n【事務局より】431　淡路ブロックMTDLP事例発表会（1/20）受講確定者へメールを送信しました \n講師\n北岡　裕也先生（関西総合リハビリテーション専門学校） \n定員\n発表者　　2名\n聴講者　　10名 \n参加費\n１０００円　（銀行振り込みのみ対応） \n【振込みの際のご注意】\n「振込人名」の後に「ア431　OT協会番号」を追加してください。\n（例：ヒョウゴタロウ　ア431　12345）\n※振込人名後の「ア431」で本研修の受講費として処理します。忘れずにご入力をお願いいたします。\n振込人名のみ場合は確認連絡が届く可能性があります。\n※振込時にお手元に残る振込明細書（記録）は研修会開始まで保管ください。\n※受講料の入金と下記申込ボタンからの申し込みが揃った時点で受付完了となります。\nーいずれか一方でも確認できない場合、申し込みは自動キャンセルとなります。 \n【振込先口座】→受付終了のため削除しました\n申込み条件\n庫県作業療法士会員のうちMTDLP基礎研修\n（平成28年度～現職者選択研修MTDLP）修了者\n※会員として申し込むには申込時点で県士会員である必要があります。 \n受講条件\nオンラインでの研修会に参加される方は、参加条件・準備事項・個人情報保護について以下の資料を必ずご確認ください。 \nオンライン研修会に参加される皆さまへ \nオンライン研修における研修情報および個人情報保護について \n締め切り\n発表　申し込み日：２０２２年１２月１９日　１３時まで（開催日1カ月前） \n聴講　申し込み日：２０２３年０１月０６日　１３時まで（開催日17日前まで） \n事例発表資料締切：２０２３年０１月０６日　１３時まで（開催日2週間前） \n  \nその他\n※事例発表会に聴講者としての参加は、ＭＴＤＬＰ研修の要件を満たしません。 \n※オンラインでの発表会となりますので発表者の方は当日の資料印刷は必要ありません。 \n注意点\n●2017年4月より基礎ポイント（２ポイント）付与に伴い、参加には受講費1\,000円が必要になりました。 \n●発表者の、発表によるポイント付与はありません。発表者も、参加者としてのポイント付与はできますので、参加手続きをして参加して下さい。 \n●基礎ポイント付与対象となるのは、2017年4月以降のMTDLP事例発表会です。 \n問い合わせ先\n聖隷淡路病院　瀧川　未奈\n \n全ての枠において申し込み受付を終了しました \n 
URL:https://ot-hyogo.or.jp/file/event/431%e3%80%8c%e6%b7%a1%e8%b7%af%e3%83%96%e3%83%ad%e3%83%83%e3%82%af%e3%80%80%ef%bd%8d%ef%bd%94%ef%bd%84%ef%bd%8c%ef%bd%90%e4%ba%8b%e4%be%8b%e7%99%ba%e8%a1%a8%e4%bc%9a%e3%80%8d%e7%b7%a0%e5%88%87
LOCATION:オンライン(Zoom)
CATEGORIES:兵庫県作業療法士会主催の研修
END:VEVENT
BEGIN:VEVENT
DTSTART;TZID=Asia/Tokyo:20230120T194000
DTEND;TZID=Asia/Tokyo:20230120T210000
DTSTAMP:20260424T062410
CREATED:20230106T074712Z
LAST-MODIFIED:20230106T074712Z
UID:972-1674243600-1674248400@ot-hyogo.or.jp
SUMMARY:「神戸ブロック勉強会（小児分野）」締切1.19
DESCRIPTION:〇テーマ\n「手先が不器用な子どもたち（発達性協調運動障害）について　～よく挙がる主訴「ちょうちょ結びが難しい」を例に〜」 \n〇内容\n講義 \n〇日時\n2023年1月20日（金）\n19：40～21:00（受付開始19：30） \n〇場所（ツール）\nオンライン（Zoom で開催） \n〇発表者\n公益財団法人ひょうご子どもと家庭福祉財団　井上 \n〇会場整理費\n無料 \n〇申し込み方法\nメールにて、以下の内容をお送りください。\n①氏名\n②所属\n③職種\n④経験年数 \n〇申し込み先\n （代表：井上） \n〇〆切\n2023年1月19日（木）17：00\n〆切後、お申込みいただいたメールアドレスへZoomの案内をお送りさせていただきます。
URL:https://ot-hyogo.or.jp/file/event/%e3%80%8c%e7%a5%9e%e6%88%b8%e3%83%96%e3%83%ad%e3%83%83%e3%82%af%e5%8b%89%e5%bc%b7%e4%bc%9a%ef%bc%88%e5%b0%8f%e5%85%90%e5%88%86%e9%87%8e%ef%bc%89%e3%80%8d%e7%b7%a0%e5%88%871-19
LOCATION:オンライン(Zoom)
CATEGORIES:兵庫県作業療法士会主催の研修
END:VEVENT
END:VCALENDAR