BEGIN:VCALENDAR
VERSION:2.0
PRODID:-//兵庫県作業療法士会　研修案内 - ECPv6.7.0//NONSGML v1.0//EN
CALSCALE:GREGORIAN
METHOD:PUBLISH
X-ORIGINAL-URL:https://ot-hyogo.or.jp/file
X-WR-CALDESC:兵庫県作業療法士会　研修案内 のイベント
REFRESH-INTERVAL;VALUE=DURATION:PT1H
X-Robots-Tag:noindex
X-PUBLISHED-TTL:PT1H
BEGIN:VTIMEZONE
TZID:Asia/Tokyo
BEGIN:STANDARD
TZOFFSETFROM:+0900
TZOFFSETTO:+0900
TZNAME:JST
DTSTART:20230101T000000
END:STANDARD
END:VTIMEZONE
BEGIN:VEVENT
DTSTART;TZID=Asia/Tokyo:20230203T190000
DTEND;TZID=Asia/Tokyo:20230203T210000
DTSTAMP:20260424T045617
CREATED:20221102T100644Z
LAST-MODIFIED:20230131T030847Z
UID:630-1675450800-1675458000@ot-hyogo.or.jp
SUMMARY:427「2022年度現職者共通研修　事例報告・事例検討」締切(発表)11.30　(聴講/検討)1.18
DESCRIPTION:テーマ\n2022年度現職者共通研修　事例報告・事例検討　淡路ブロック \n内容\nWEB開催となります。 \n日時\n2023年2月3日（金）　19:00～21:00（受付18:30～） \n会場\nWEB開催（Zoom）\n※受付完了者に研修日の３日前（平日のみ）までにメールにてミーティングを配信します \n→1月31日（火）12時00分頃に研修に関するミーティング情報を送信しました（以下参照） \n【事務局より】427　淡路ブロック現職共通研修事例報告・検討（2/3）受講確定者へメールを送信しました \n定員\n発表者10名　（生涯教育ポイントが発生します）\n検討者10名　（生涯教育ポイントが発生します）\n聴講者20名　（生涯教育ポイントは発生しません） \n受講費\n発表者及び検討者　１，０００円　※聴講者は受講費不要です\n（銀行振り込みのみ対応） \n【振込みの際のご注意】\n「振込人名」の後に「ア427　OT協会番号」を追加してください。\n（例：ヒョウゴタロウ　ア427　12345）\n※振込人名後の「ア427」で本研修の受講費として処理します。忘れずにご入力をお願いいたします。振込人名のみ場合は確認連絡が届く可能性があります。\n※振込時にお手元に残る振込明細書（記録）は研修会開始まで保管ください。\n※受講料の入金と下記申込ボタンからの申し込みが揃った時点で受付完了となります。\nーいずれか一方でも確認できない場合、申し込みは自動キャンセルとなります。 \n【振込先口座】→受付終了のため削除しました \n受講条件\nオンラインでの研修会に参加される方は、参加条件・準備事項・個人情報保護について以下の資料を必ずご確認ください。 \nオンライン研修会に参加される皆さまへ \nオンライン研修における研修情報および個人情報保護について \n締め切り\n発表者　　　　　2022年11月30日　(水) 13時まで\n聴講者・検討者　2023年 1 月18日 （水） 13時まで \nその他\n１，発表者への連絡方法について\n2017年度から、発表申し込みをされた方に限り、締め切り後、研修会担当者から、以下の内容についてご連絡します。その際に、「マイページ　個人用メールアドレス」を使用されていただきます。ご了承下さい。 \n①　ファシリテーターの情報：現職者共通研修「事例検討・事例報告」 発表者・ファシリテーター確認についての資料をご記入頂き発表資料と一緒にご提出下さい。\n–\n現職者共通研修事例検討・報告　発表者・ファシリテーター確認について \n2， 抄録提出期間　　　：2022年12月１日（木）～16日（金）17:00まで\nー　スライド提出期間　：2023年１月4日（水）～13日（金）17:00まで　PDFで提出\nー　発表方法の説明　　：2023年1月25日（水）　20:00～　ZOOMで説明 \n※抄録とスライドの提出先は、淡路ブロックのメールアドレスにお願いします。\n \n3，※会員として申し込むには申込時点で県士会員である必要があります。 \n問い合わせ先\nケアホーム南淡路　田浦康代\n\n－ \n全区分の申し込み受付を終了しました \n 
URL:https://ot-hyogo.or.jp/file/event/427%e3%80%8c2022%e5%b9%b4%e5%ba%a6%e7%8f%be%e8%81%b7%e8%80%85%e5%85%b1%e9%80%9a%e7%a0%94%e4%bf%ae%e3%80%80%e4%ba%8b%e4%be%8b%e5%a0%b1%e5%91%8a%e3%83%bb%e4%ba%8b%e4%be%8b%e6%a4%9c%e8%a8%8e%e3%80%8d
LOCATION:オンライン(Zoom)
CATEGORIES:兵庫県作業療法士会主催の研修
END:VEVENT
END:VCALENDAR