BEGIN:VCALENDAR
VERSION:2.0
PRODID:-//兵庫県作業療法士会　研修案内 - ECPv6.7.0//NONSGML v1.0//EN
CALSCALE:GREGORIAN
METHOD:PUBLISH
X-WR-CALNAME:兵庫県作業療法士会　研修案内
X-ORIGINAL-URL:https://ot-hyogo.or.jp/file
X-WR-CALDESC:兵庫県作業療法士会　研修案内 のイベント
REFRESH-INTERVAL;VALUE=DURATION:PT1H
X-Robots-Tag:noindex
X-PUBLISHED-TTL:PT1H
BEGIN:VTIMEZONE
TZID:Asia/Tokyo
BEGIN:STANDARD
TZOFFSETFROM:+0900
TZOFFSETTO:+0900
TZNAME:JST
DTSTART:20230101T000000
END:STANDARD
END:VTIMEZONE
BEGIN:VEVENT
DTSTART;TZID=Asia/Tokyo:20230212T100000
DTEND;TZID=Asia/Tokyo:20230212T120000
DTSTAMP:20260424T045434
CREATED:20230110T063047Z
LAST-MODIFIED:20230206T040357Z
UID:994-1676196000-1676203200@ot-hyogo.or.jp
SUMMARY:445「第2回丹波北播磨ブロック研修会」締切2.6
DESCRIPTION:テーマ\n2022年度　第2回丹波北播磨ブロック研修会 \n内容\n肩を他動的に動かしながら知識の整理と着眼点を身につける\n今回は神戸学院大学の大瀧誠先生をお招きし、「肩を他動的に動かしながら知識の整理と着眼点を身につける」というテーマでご講義頂きます。当日は座学と実技を交えて行い、皆様が臨床で実践できるスキルを身につけます。沢山のご参加をお待ちしております。 \n日時\n令和5年2月12日（日）　10：00-12：00 \n会場\n三木市教育センター　中研修室\n兵庫県三木市福井1933-12 \n講師\n大瀧誠氏（作業療法士・神戸学院大学） \n定員\n30名 \n生涯教育ポイント\n２P付与されます \n受講費\n県士会員　　1000円\n非県士会員　2000円\n他職種　　　 500円\n（銀行振り込みのみ対応） \n【振込みの際のご注意】\n「振込人名」の後に「タン445　OT協会番号」を追加してください。\n（例：ヒョウゴタロウ　タン445　12345　協会番号のない方は　タン445　のみを追加）\n※振込人名後の「タン445」で本研修の受講費として処理します。忘れずにご入力をお願いいたします。振込人名のみ場合は確認連絡が届く可能性があります。\n※振込時にお手元に残る振込明細書（記録）は研修会開始まで保管ください。\n※受講料の入金と下記申込ボタンからの申し込みが揃った時点で受付完了となります。\nーいずれか一方でも確認できない場合、申し込みは自動キャンセルとなります。 \n【振込先口座】→受付終了のため削除しました \n申込み条件\n☒　兵庫県士会員\n☒　兵庫県士会員以外（OT協会に在籍する他府県士会員）\n☒　その他（他職種、一般、日本OT協会・他府県士会に在籍していないOT） \n締め切り\n令和5年2月6日（月）　13時まで \nその他\n本研修は対面にて開催します。開催にあたって以下の点にご協力下さい。\n・参加される方はマスク着用をお願いします。\n・手袋とフェイスシールドの着用は任意とします。\n・マスク、手袋、フェイスシールドは各自で持参してください。\n・参加される方は会場入り口で検温とアルコール消毒をお願いします。 \n問い合わせ先\n介護老人保健施設　サンビラ三木　永尾\nTEL：0794-70-8202 \n申し込み受付は終了しました
URL:https://ot-hyogo.or.jp/file/event/445%e3%80%8c%e7%ac%ac2%e5%9b%9e%e4%b8%b9%e6%b3%a2%e5%8c%97%e6%92%ad%e7%a3%a8%e3%83%96%e3%83%ad%e3%83%83%e3%82%af%e7%a0%94%e4%bf%ae%e4%bc%9a%e3%80%8d%e7%b7%a0%e5%88%872-6
LOCATION:三木市教育センター
CATEGORIES:兵庫県作業療法士会主催の研修
END:VEVENT
END:VCALENDAR