BEGIN:VCALENDAR
VERSION:2.0
PRODID:-//兵庫県作業療法士会　研修案内 - ECPv6.7.0//NONSGML v1.0//EN
CALSCALE:GREGORIAN
METHOD:PUBLISH
X-WR-CALNAME:兵庫県作業療法士会　研修案内
X-ORIGINAL-URL:https://ot-hyogo.or.jp/file
X-WR-CALDESC:兵庫県作業療法士会　研修案内 のイベント
REFRESH-INTERVAL;VALUE=DURATION:PT1H
X-Robots-Tag:noindex
X-PUBLISHED-TTL:PT1H
BEGIN:VTIMEZONE
TZID:Asia/Tokyo
BEGIN:STANDARD
TZOFFSETFROM:+0900
TZOFFSETTO:+0900
TZNAME:JST
DTSTART:20230101T000000
END:STANDARD
END:VTIMEZONE
BEGIN:VEVENT
DTSTART;TZID=Asia/Tokyo:20230216T190000
DTEND;TZID=Asia/Tokyo:20230216T200000
DTSTAMP:20260424T045434
CREATED:20230106T074147Z
LAST-MODIFIED:20230106T074147Z
UID:970-1676574000-1676577600@ot-hyogo.or.jp
SUMMARY:「神戸ブロックオープン勉強会」締切2.9
DESCRIPTION:●研修会名\n神戸ブロックオープン勉強会 \n●テーマ\n循環器疾患について \n●内容\n当院の心リハ指導士の資格を有した理学療法士が、基礎的な循環器疾患の知識を踏まえて、実際の臨床に置き換えた視点や多職種連携の視点でお話しします。\n新人の方や初めて循環器疾患を診る方向けに分かりやすい内容となっております。ぜひ、ご参加をお待ちしております。 \n●日時\n2023年2月16日（木） 19:00〜（60分程度） \n●会場\nオンライン（zoom） \n●講師\n野崎　惇貴（神戸市立医療センター中央市民病院、理学療法士） \n●定員\n50名 \n●会場整理費\n無料 \n●申し込み方法\nメールにて、以下の内容をお送りください。\n①氏名\n②所属\n③職種\n④経験年数 \n●申し込み先\n \n●問い合わせ先\n神戸市立医療センター中央市民病院 リハビリテーション技術部　作業療法士　桐畑　智大 \n●締め切り\n2023年2月9日（木）\n締め切り後、申し込みいただいたメールアドレスへzoomの案内を送らせていただきます。
URL:https://ot-hyogo.or.jp/file/event/%e3%80%8c%e7%a5%9e%e6%88%b8%e3%83%96%e3%83%ad%e3%83%83%e3%82%af%e3%82%aa%e3%83%bc%e3%83%97%e3%83%b3%e5%8b%89%e5%bc%b7%e4%bc%9a%e3%80%8d%e7%b7%a0%e5%88%872-9
LOCATION:オンライン(Zoom)
CATEGORIES:兵庫県作業療法士会主催の研修
END:VEVENT
BEGIN:VEVENT
DTSTART;TZID=Asia/Tokyo:20230216T190000
DTEND;TZID=Asia/Tokyo:20230216T210000
DTSTAMP:20260424T045434
CREATED:20221222T075929Z
LAST-MODIFIED:20230213T034726Z
UID:893-1676574000-1676581200@ot-hyogo.or.jp
SUMMARY:441「第2回ベースアップ研修会」締切2.9
DESCRIPTION:チラシのダウンロードはこちら \nテーマ\n精神分野作業療法委員会主催\n第2回ベースアップ研修会「事例を通して考える精神科でのMTDLPの活用」 \n内容\n精神科病院の入院患者さんにMTDLPをどう活用したらいいの？できる？\n合意形成をどうしてる？こんな疑問にいくつかの事例を通して講師の先生に解説していただきます。\n※この研修会は精神科病院における臨床現場でのMTDLP導入の一助となるよう企画しているものですので、事例シートの書き方などの解説は行いません。 \n日時\n2023年2月16日（木）19:00～21:00 \n会場\nzoom\n※受付完了者に研修日の３日前（平日のみ）までにメールにてミーティングを配信します \n→2月13日（月）12時40分頃に研修に関するミーティング情報を送信しました（以下参照） \n【事務局より】441 精神分野作業療法委員会第２回ベースアップ研修会（2/16）受講確定者へメールを送信しました \n講師\n小南陽平（宝塚リハビリテーション病院）\n瀬尾美智子（有馬病院） \n定員\n30名 \n生涯教育ポイント\n☒　２P付与されます \n受講費\n兵庫県士会員　1000円\nOT協会かつ他府県士会に所属するOT　1000円\n上記以外　2000円\n（銀行振り込みのみ対応） \n【振込みの際のご注意】\n「振込人名」の後に「セ441　OT協会番号」を追加してください。\n（例：ヒョウゴタロウ　セ441　12345　協会番号のない方は　セ441　のみを追加）\n※振込人名後の「セ441」で本研修の受講費として処理します。忘れずにご入力をお願いいたします。振込人名のみ場合は確認連絡が届く可能性があります。\n※振込時にお手元に残る振込明細書（記録）は研修会開始まで保管ください。\n※受講料の入金と下記申込ボタンからの申し込みが揃った時点で受付完了となります。\nーいずれか一方でも確認できない場合、申し込みは自動キャンセルとなります。 \n【振込先口座】→受付終了のため削除しました \n申込み条件\n☒　兵庫県士会員\n☒　兵庫県士会員以外（OT協会に在籍する他府県士会員）\n☒　その他（他職種、一般、日本OT協会・他府県士会に在籍していないOT） \n受講条件\nオンラインでの研修会に参加される方は、参加条件・準備事項・個人情報保護について以下の資料を必ずご確認ください。 \nオンライン研修会に参加される皆さまへ \nオンライン研修における研修情報および個人情報保護について \n締め切り\n2023年2月9日（木）13時まで \n問い合わせ先\n森川孝子　 \n申し込み受付は終了しました
URL:https://ot-hyogo.or.jp/file/event/441%e3%80%8c%e7%ac%ac2%e5%9b%9e%e3%83%99%e3%83%bc%e3%82%b9%e3%82%a2%e3%83%83%e3%83%97%e7%a0%94%e4%bf%ae%e4%bc%9a%e3%80%8d%e7%b7%a0%e5%88%872-9
LOCATION:オンライン(Zoom)
CATEGORIES:兵庫県作業療法士会主催の研修
END:VEVENT
END:VCALENDAR