BEGIN:VCALENDAR
VERSION:2.0
PRODID:-//兵庫県作業療法士会　研修案内 - ECPv6.7.0//NONSGML v1.0//EN
CALSCALE:GREGORIAN
METHOD:PUBLISH
X-ORIGINAL-URL:https://ot-hyogo.or.jp/file
X-WR-CALDESC:兵庫県作業療法士会　研修案内 のイベント
REFRESH-INTERVAL;VALUE=DURATION:PT1H
X-Robots-Tag:noindex
X-PUBLISHED-TTL:PT1H
BEGIN:VTIMEZONE
TZID:Asia/Tokyo
BEGIN:STANDARD
TZOFFSETFROM:+0900
TZOFFSETTO:+0900
TZNAME:JST
DTSTART:20230101T000000
END:STANDARD
END:VTIMEZONE
BEGIN:VEVENT
DTSTART;TZID=Asia/Tokyo:20230819T133000
DTEND;TZID=Asia/Tokyo:20230819T160000
DTSTAMP:20260423T194051
CREATED:20230713T060202Z
LAST-MODIFIED:20230817T010315Z
UID:1505-1692451800-1692460800@ot-hyogo.or.jp
SUMMARY:460「移動用リフト体験研修会」締切8.4
DESCRIPTION:申し込み締め切り延長しました \n8月17日（木）9時50分頃、受講確定者へ研修に関する案内を送信しました（以下参照） \n【事務局より】460　総務部福祉用具係研修「移動用リフト体験」（8/19）受講確定者へメールを送信しました \nタイトル\n移動用リフト体験研修会 \n内容\n移動用リフトを使う場面や対象をどう評価しているか、事例を踏まえて学んでいただきます。また、床走行式、天井走行式などさまざまな機種のリフトやスリングについて適応や使用する環境を紹介しながら体験する機会を設けています。 \n日時\n８月１９日（土）　１３：３０ ～ １６：００（受付 １３：００～） \n会場\n特別養護老人ホーム万寿の家 \n講師\n野上　雅子OTR \n定員\n２０名 \n生涯教育ポイント\n☒　２P付与されます \n受講費\n２，０００円　銀行振り込みのみ対応（当日受付での支払い不可） \n【振込みの際のご注意】\n「振込人名」の後に「ソ460　OT協会番号」を追加してください。\n（例：ヒョウゴタロウ　ソ460　12345）\n※振込人名後の「ソ460」で本研修の受講費として処理します。忘れずにご入力をお願いいたします。振込人名のみ場合は確認連絡が届く可能性があります。\n※振込時にお手元に残る振込明細書（記録）は研修会開始まで保管ください。\n※受講料の入金と下記申込ボタンからの申し込みが揃った時点で受付完了となります。\nーいずれか一方でも確認できない場合、申し込みは自動キャンセルとなります。 \n【振込先口座】→受付終了のため削除しました \n申込み条件\n☒　兵庫県士会員 \n締め切り\n８月４日（金）13時    ８月16日（水）13時に延長しました \n問い合わせ先\n総務部福祉用具係　大仲　洋太郎\nTEL:079-427-1771　E-mail:y.oonaka@enzin.co.jp\n– \n申し込みは上記問い合わせ先までメールでご連絡ください
URL:https://ot-hyogo.or.jp/file/event/460%e3%80%8c%e7%a7%bb%e5%8b%95%e7%94%a8%e3%83%aa%e3%83%95%e3%83%88%e4%bd%93%e9%a8%93%e7%a0%94%e4%bf%ae%e4%bc%9a%e3%80%8d%e7%b7%a0%e5%88%878-4
LOCATION:特別養護老人ホーム万寿の家
CATEGORIES:兵庫県作業療法士会主催の研修
END:VEVENT
END:VCALENDAR