BEGIN:VCALENDAR
VERSION:2.0
PRODID:-//兵庫県作業療法士会　研修案内 - ECPv6.7.0//NONSGML v1.0//EN
CALSCALE:GREGORIAN
METHOD:PUBLISH
X-ORIGINAL-URL:https://ot-hyogo.or.jp/file
X-WR-CALDESC:兵庫県作業療法士会　研修案内 のイベント
REFRESH-INTERVAL;VALUE=DURATION:PT1H
X-Robots-Tag:noindex
X-PUBLISHED-TTL:PT1H
BEGIN:VTIMEZONE
TZID:Asia/Tokyo
BEGIN:STANDARD
TZOFFSETFROM:+0900
TZOFFSETTO:+0900
TZNAME:JST
DTSTART:20230101T000000
END:STANDARD
END:VTIMEZONE
BEGIN:VEVENT
DTSTART;TZID=Asia/Tokyo:20230824T190000
DTEND;TZID=Asia/Tokyo:20230824T200000
DTSTAMP:20260423T194053
CREATED:20230719T091706Z
LAST-MODIFIED:20230719T091706Z
UID:1511-1692903600-1692907200@ot-hyogo.or.jp
SUMMARY:「神戸ブロックオープン勉強会」締切8.17
DESCRIPTION:●研修会名\n神戸ブロックオープン勉強会 \n●テーマ\nVRを用いた作業療法について \n●内容\n近年、バーチャルリアリティ技術はリハビリ分野にも応用されてきており、今後も発展すると言われています。今回、海外の研究や自験例を通じて、VRを活用したOTはどのようなものかをご紹介させていただければと思います。 \n●日時\n2023年8月24日（木） 19:00〜20:00 \n●会場\nオンライン（zoom） \n●講師\n今田　泰裕（神戸掖済会病院） \n●定員\n50名 \n●会場整理費\n無料 \n●申し込み方法\nメールにて、以下の内容をお送りください。\n※タイトルは「神戸ブロックオープン勉強会の申し込みについて」でお願いします。\n①氏名\n②所属\n③職種\n④経験年数 \n●申し込み先\n \n●問い合わせ先\n兵庫県立リハビリテーション中央病院\n金井塚 啓樹 \n●締め切り\n2023年8月17日（木）\n締め切り後、申し込みいただいたメールアドレスへzoomの案内を送らせていただきます。
URL:https://ot-hyogo.or.jp/file/event/%e3%80%8c%e7%a5%9e%e6%88%b8%e3%83%96%e3%83%ad%e3%83%83%e3%82%af%e3%82%aa%e3%83%bc%e3%83%97%e3%83%b3%e5%8b%89%e5%bc%b7%e4%bc%9a%e3%80%8d%e7%b7%a0%e5%88%878-17
LOCATION:オンライン(Zoom)
CATEGORIES:兵庫県作業療法士会主催の研修
END:VEVENT
END:VCALENDAR