BEGIN:VCALENDAR
VERSION:2.0
PRODID:-//兵庫県作業療法士会　研修案内 - ECPv6.7.0//NONSGML v1.0//EN
CALSCALE:GREGORIAN
METHOD:PUBLISH
X-ORIGINAL-URL:https://ot-hyogo.or.jp/file
X-WR-CALDESC:兵庫県作業療法士会　研修案内 のイベント
REFRESH-INTERVAL;VALUE=DURATION:PT1H
X-Robots-Tag:noindex
X-PUBLISHED-TTL:PT1H
BEGIN:VTIMEZONE
TZID:Asia/Tokyo
BEGIN:STANDARD
TZOFFSETFROM:+0900
TZOFFSETTO:+0900
TZNAME:JST
DTSTART:20230101T000000
END:STANDARD
END:VTIMEZONE
BEGIN:VEVENT
DTSTART;TZID=Asia/Tokyo:20230915T190000
DTEND;TZID=Asia/Tokyo:20230915T210000
DTSTAMP:20260423T180916
CREATED:20230728T031627Z
LAST-MODIFIED:20230912T034918Z
UID:1537-1694804400-1694811600@ot-hyogo.or.jp
SUMMARY:463「超参加型　作業療法評価の視点　～現場で実践するため～」締切日9.7
DESCRIPTION:内　容\n疾患別、分野別の「評価」の研修会は多くありましたが、それらをどのように組み立てて実践していくか、参加型で開催した研修会はこれまであったでしょうか。おそらく、今回初めての試みとなります。コロナ禍で培った経験を基に、jambord(Google)等のオンラインツールを活かし、参加者の経験や意見を尊重し、アクティブな参加を促進します。講師からのフィードバックと共に、現場で実践できる事を目指します。是非ご参加下さい！ \n日　時\n令和５年９月１５日(金)　１９：００ ～ ２１：００（受付 １８：４０～） \n会　場\nオンライン（Zoom）\n※受付完了者に研修日の３日前（平日のみ）までにメールにてミーティングを配信します \n→9月12日（火）12時40分頃に研修に関するミーティング情報を送信しました（以下参照） \n【事務局より】463　神戸ブロック研修会「超参加型　作業療法の視点」（9/15）受講確定者へメールを送信しました \n講　師\n西江井島病院　松本　宏昭先生 \n定　員\n３０名 \n生涯教育ポイント\n２P付与されます \n受講費\n１０００円（銀行振り込みのみ対応） \n【振込みの際のご注意】\n「振込人名」の後に「コ463　OT協会番号」を追加してください。\n（例：ヒョウゴタロウ　コ463　12345　協会番号のない方は　コ463　のみを追加）\n※振込人名後の「コ463」で本研修の受講費として処理します。忘れずにご入力をお願いいたします。振込人名のみ場合は確認連絡が届く可能性があります。\n※振込時にお手元に残る振込明細書（記録）は研修会開始まで保管ください。\n※受講料の入金と下記申込ボタンからの申し込みが揃った時点で受付完了となります。\nーいずれか一方でも確認できない場合、申し込みは自動キャンセルとなります。 \n【振込先口座】\n金融機関：三井住友銀行　普通口座　北須磨支店　5206374\n名義人 ：一般社団法人兵庫県作業療法士会 \n申込み条件\n　兵庫県士会員\n　日本OT協会及び他府県士会の両方に所属するOT\n　日本OT協会・他府県士会の一方のみ在籍している、またはいずれにも在籍していないOT\n　他職種、一般 \n受講条件\nオンラインでの研修会に参加される方は、参加条件・準備事項・個人情報保護について以下の資料を必ずご確認ください。 \nオンライン研修会に参加される皆さまへ \nオンライン研修における研修情報および個人情報保護について \n締め切り\n９月７日（木）13時 \n問い合わせ先\n西部しあわせ訪問看護ステーション\n作業療法士　田路隼人\nMAIL： \n申し込み受付は終了しました
URL:https://ot-hyogo.or.jp/file/event/463%e3%80%8c%e8%b6%85%e5%8f%82%e5%8a%a0%e5%9e%8b%e3%80%80%e4%bd%9c%e6%a5%ad%e7%99%82%e6%b3%95%e8%a9%95%e4%be%a1%e3%81%ae%e8%a6%96%e7%82%b9%e3%80%80%ef%bd%9e%e7%8f%be%e5%a0%b4%e3%81%a7%e5%ae%9f
LOCATION:オンライン(Zoom)
CATEGORIES:兵庫県作業療法士会主催の研修
END:VEVENT
BEGIN:VEVENT
DTSTART;TZID=Asia/Tokyo:20230915T194000
DTEND;TZID=Asia/Tokyo:20230915T210000
DTSTAMP:20260423T180916
CREATED:20230823T100952Z
LAST-MODIFIED:20230823T100952Z
UID:1612-1694806800-1694811600@ot-hyogo.or.jp
SUMMARY:「神戸ブロック勉強会（小児分野）」締切9.14
DESCRIPTION:◯テーマ\n「3Dプリンターを活用したデザイナーとOTの地域での協業について」 \n◯内容\n発表 \n◯日時\n2023年9月15日（金）\n19:40～21:00　 （19:30受付開始） \n◯場所（ツール）\nオンライン（zoomで開催） \n◯発表者\nNPO法人　そいる　田中 啓規　氏 \n◯会場整理費\n無料 \n◯申し込み方法\nメールにて、以下の内容をお送りください。\n①氏名\n②所属\n③職種\n④経験年数 \n◯申し込み先\n（代表：井上） \n◯〆切\n2023年9月14日（木）17:00\n〆切後、申し込みいただいたメールアドレスへzoomの案内を送らせていただきます。
URL:https://ot-hyogo.or.jp/file/event/%e3%80%8c%e7%a5%9e%e6%88%b8%e3%83%96%e3%83%ad%e3%83%83%e3%82%af%e5%8b%89%e5%bc%b7%e4%bc%9a%ef%bc%88%e5%b0%8f%e5%85%90%e5%88%86%e9%87%8e%ef%bc%89%e3%80%8d%e7%b7%a0%e5%88%879-14
LOCATION:オンライン(Zoom)
CATEGORIES:兵庫県作業療法士会主催の研修
END:VEVENT
END:VCALENDAR