BEGIN:VCALENDAR
VERSION:2.0
PRODID:-//兵庫県作業療法士会　研修案内 - ECPv6.7.0//NONSGML v1.0//EN
CALSCALE:GREGORIAN
METHOD:PUBLISH
X-ORIGINAL-URL:https://ot-hyogo.or.jp/file
X-WR-CALDESC:兵庫県作業療法士会　研修案内 のイベント
REFRESH-INTERVAL;VALUE=DURATION:PT1H
X-Robots-Tag:noindex
X-PUBLISHED-TTL:PT1H
BEGIN:VTIMEZONE
TZID:Asia/Tokyo
BEGIN:STANDARD
TZOFFSETFROM:+0900
TZOFFSETTO:+0900
TZNAME:JST
DTSTART:20230101T000000
END:STANDARD
END:VTIMEZONE
BEGIN:VEVENT
DTSTART;TZID=Asia/Tokyo:20230929T193000
DTEND;TZID=Asia/Tokyo:20230929T213000
DTSTAMP:20260423T162813
CREATED:20230830T102838Z
LAST-MODIFIED:20230926T050511Z
UID:1624-1696015800-1696023000@ot-hyogo.or.jp
SUMMARY:466「認知行動療法の実践的介入」締切9.22
DESCRIPTION:タイトル\n西播磨ブロック勉強会　認知行動療法の実践的介入 \n内　容\n認知行動療法は、うつ病以外にも不安症や強迫症など多岐にわたる疾患に治療効果と再発予防効果があると言われています。また、精神科の治療としてだけではなく、教育やスポーツなどあらゆる領域で考え方が取り入れられているようです。今回は、認知行動療法について概論から臨床で実践できる介入について講義して頂きます。興味のある方は、精神科領域に限らず多領域からもぜひ参加をお待ちしております。 \n日　時\n9月29日　19：30 ～ 21：30（受付 19：15～） \n会　場\nオンライン（Zoom）\n※受付完了者に研修日の３日前（平日のみ）までにメールにてミーティングを配信します \n→9月26日（火）13時50分頃に研修に関するミーティング情報を送信しました（以下参照） \n【事務局より】466　西播磨ブロック研修会「認知行動療法の実践的介入」（9/29）受講確定者へメールを送信しました \n講　師\n村田俊郎先生（明石こころのホスピタル） \n定　員\n３０名 \n生涯教育ポイント\n☒　２P付与されます \n受講費\n１０００円　（銀行振り込みのみ対応） \n【振込みの際のご注意】\n「振込人名」の後に「ニシ466　OT協会番号」を追加してください。\n（例：ヒョウゴタロウ　ニシ466　12345　協会番号のない方は　ニシ466　のみを追加）\n※振込人名後の「ニシ466」で本研修の受講費として処理します。忘れずにご入力をお願いいたします。振込人名のみ場合は確認連絡が届く可能性があります。\n※振込時にお手元に残る振込明細書（記録）は研修会開始まで保管ください。\n※受講料の入金と下記申込ボタンからの申し込みが揃った時点で受付完了となります。\nーいずれか一方でも確認できない場合、申し込みは自動キャンセルとなります。 \n【振込先口座】\n金融機関：三井住友銀行　普通口座　北須磨支店　5206374\n名義人 ：一般社団法人兵庫県作業療法士会 \n申込み条件\n☒　兵庫県士会員\n☒　日本OT協会及び他府県士会の両方に所属するOT\n☒　日本OT協会・他府県士会の一方のみ在籍している、またはいずれにも在籍していないOT \n受講条件\nオンラインでの研修会に参加される方は、参加条件・準備事項・個人情報保護について以下の資料を必ずご確認ください。 \nオンライン研修会に参加される皆さまへ \nオンライン研修における研修情報および個人情報保護について \n締め切り\n９月２２日（金）13時 \n問い合わせ先\n渡部　静（IHI播磨病院）　 \n  \n申し込み受付は終了しました
URL:https://ot-hyogo.or.jp/file/event/466%e3%80%8c%e8%aa%8d%e7%9f%a5%e8%a1%8c%e5%8b%95%e7%99%82%e6%b3%95%e3%81%ae%e5%ae%9f%e8%b7%b5%e7%9a%84%e4%bb%8b%e5%85%a5%e3%80%8d%e7%b7%a0%e5%88%879-22
LOCATION:オンライン(Zoom)
CATEGORIES:兵庫県作業療法士会主催の研修
END:VEVENT
END:VCALENDAR