BEGIN:VCALENDAR
VERSION:2.0
PRODID:-//兵庫県作業療法士会　研修案内 - ECPv6.7.0//NONSGML v1.0//EN
CALSCALE:GREGORIAN
METHOD:PUBLISH
X-WR-CALNAME:兵庫県作業療法士会　研修案内
X-ORIGINAL-URL:https://ot-hyogo.or.jp/file
X-WR-CALDESC:兵庫県作業療法士会　研修案内 のイベント
REFRESH-INTERVAL;VALUE=DURATION:PT1H
X-Robots-Tag:noindex
X-PUBLISHED-TTL:PT1H
BEGIN:VTIMEZONE
TZID:Asia/Tokyo
BEGIN:STANDARD
TZOFFSETFROM:+0900
TZOFFSETTO:+0900
TZNAME:JST
DTSTART:20230101T000000
END:STANDARD
END:VTIMEZONE
BEGIN:VEVENT
DTSTART;TZID=Asia/Tokyo:20231030T183000
DTEND;TZID=Asia/Tokyo:20231030T200000
DTSTAMP:20260423T150633
CREATED:20231003T073100Z
LAST-MODIFIED:20231003T074741Z
UID:1760-1698690600-1698696000@ot-hyogo.or.jp
SUMMARY:「第2回兵庫県リハ3士会北播磨圏域リハビリテーション支援センター共催研修」締切10.20
DESCRIPTION:－\n　チラシのダウンロードはこちら\n－ \nタイトル\n令和5年度　第2回兵庫県リハ3士会北播磨圏域リハビリテーション支援センター共催研修 \n内　容\n地域リハビリテーションの現状とこれから\nテーマ①　訪問リハビリテーションからの卒業に向けて\nテーマ②　作業療法士として地域で暮らす認知症の方との関りから見えたこと\n－　　　　～小野市認知症初期集中支援チームの活動を通して～ \n日　時\n10月30日　18：30 ～ 20：00（受付 18：30～） \n会　場\nハイブリッド開催\n現地会場：小野市うるおい交流館エクラ・大会議室\nWEB参加：ZOOM使用 \n講　師\n栄宏会小野病院　訪問リハビリテーション　森脇　久仁先生（理学療法士）\n土井リハビリテーション病院　デイケアセンター　森本　守先生（作業療法士）\nみきやまリハビリテーション病院　武田　佳恵先生（作業療法士） \n定　員\n100名 \n生涯教育ポイント\n☒　付与対象外です \n受講費\n無料 \n申込み条件\n北播磨圏域に勤務する理学療法士・言語聴覚士・作業療法士が対象 \n受講条件\nオンラインでの研修会に参加される方は、参加条件・準備事項・個人情報保護について以下の資料を必ずご確認ください。 \nオンライン研修会に参加される皆さまへ \nオンライン研修における研修情報および個人情報保護について \n締め切り\n10月20日（金） \n問い合わせ先\n北播磨圏域リハビリテーション支援センター事務局\n担当：奥野　TEL：070-4220-5114 \nお申込み方法\n下記申し込みフォーム、またはチラシ内QR コードから、お申込みください。\nhttps://forms.gle/1b9EjzbHD1z1uTN88 \n－\n　チラシのダウンロードはこちら\n－
URL:https://ot-hyogo.or.jp/file/event/1760
LOCATION:ハイブリッド開催
CATEGORIES:兵庫県作業療法士会主催の研修
END:VEVENT
END:VCALENDAR