BEGIN:VCALENDAR
VERSION:2.0
PRODID:-//兵庫県作業療法士会　研修案内 - ECPv6.7.0//NONSGML v1.0//EN
CALSCALE:GREGORIAN
METHOD:PUBLISH
X-ORIGINAL-URL:https://ot-hyogo.or.jp/file
X-WR-CALDESC:兵庫県作業療法士会　研修案内 のイベント
REFRESH-INTERVAL;VALUE=DURATION:PT1H
X-Robots-Tag:noindex
X-PUBLISHED-TTL:PT1H
BEGIN:VTIMEZONE
TZID:Asia/Tokyo
BEGIN:STANDARD
TZOFFSETFROM:+0900
TZOFFSETTO:+0900
TZNAME:JST
DTSTART:20230101T000000
END:STANDARD
END:VTIMEZONE
BEGIN:VEVENT
DTSTART;TZID=Asia/Tokyo:20231124T190000
DTEND;TZID=Asia/Tokyo:20231124T210000
DTSTAMP:20260423T152453
CREATED:20231017T081907Z
LAST-MODIFIED:20231121T042148Z
UID:1840-1700852400-1700859600@ot-hyogo.or.jp
SUMMARY:480「手の関節可動域拡大のための知識の整理と技術」締切11.17
DESCRIPTION:11月21日（火）13時10分頃、受付完了者へ研修に関する案内を送信しました（以下参照） \n【事務局より】480 丹波北播磨ブロック研修会「手の関節可動域拡大のための知識の整理と技術」（11/24）受付完了者へメールを送信しました \nタイトル\n手の関節可動域拡大のための知識の整理と技術 \n内容\nこの度は、神戸学院総合大学リハビリテーション学部の大瀧誠先生をお招きし、「手の関節可動域拡大のための知識の整理と技術」というテーマでご講義頂きます。手の機能的使用につなげるための関節可動域拡大に必要な知識と技術について以下の内容を実技等交えてお話頂く予定です。 \n手に関する講義（運動学・関節運動学）\n↓\n手指の実技（MP関節・PIP関節・DIP関節）\n↓\n手関節に関する講義（運動学・解剖学）\n↓\n手関節の実技\n↓\n手のアーチに関する講義（運動学）\n↓\n手のアーチ、手のアーチ、前腕、手全体のアプローチの流れ \n日時\n11月24日　19：00 ～ 21：00（受付 18：45～） \n会場\n三木市立教育センター\n※受付完了者には研修日の３日前（平日のみ）までにメールにて受講に関するお知らせを配信致します。 \n講師\n大瀧誠先生（健康学博士・認定作業療法士） \n定　員\n40名 \n生涯教育ポイント\n☒　２P付与されます \n受講費\n銀行振込のみ対応（当日受付での支払い不可）\n兵庫県作業療法士会　会員　　1000円\n兵庫県作業療法士会　非会員　1000円\n作業療法士以外の職種　　　　500円 \n【振込みの際のご注意】\n「振込人名」の後に「タン480　OT協会番号」を追加してください。\n（例：ヒョウゴタロウ　タン480　12345　協会番号のない方は　タン480　のみを追加）\n※振込人名後の「タン480」で本研修の受講費として処理します。忘れずにご入力をお願いいたします。振込人名のみ場合は確認連絡が届く可能性があります。\n※振込時にお手元に残る振込明細書（記録）は研修会開始まで保管ください。\n※受講料の入金と下記申込ボタンからの申し込みが揃った時点で受付完了となります。\nーいずれか一方でも確認できない場合、申し込みは自動キャンセルとなります。 \n【振込先口座】→受付終了につき削除しました \n申込み条件\n☒　兵庫県士会員\n☒　日本OT協会及び他府県士会の両方に所属するOT\n☒　日本OT協会・他府県士会の一方のみ在籍している、またはいずれにも在籍していないOT\n☒　他職種、一般 \n締め切り\n11月17日（金）13時 \n問い合わせ先\n介護老人保健施設　サンビラ三木　永尾　　TEL：0797-70-8202– \n申込受付は終了しました
URL:https://ot-hyogo.or.jp/file/event/1840
LOCATION:三木市立教育センター
CATEGORIES:兵庫県作業療法士会主催の研修
END:VEVENT
END:VCALENDAR