BEGIN:VCALENDAR
VERSION:2.0
PRODID:-//兵庫県作業療法士会　研修案内 - ECPv6.7.0//NONSGML v1.0//EN
CALSCALE:GREGORIAN
METHOD:PUBLISH
X-WR-CALNAME:兵庫県作業療法士会　研修案内
X-ORIGINAL-URL:https://ot-hyogo.or.jp/file
X-WR-CALDESC:兵庫県作業療法士会　研修案内 のイベント
REFRESH-INTERVAL;VALUE=DURATION:PT1H
X-Robots-Tag:noindex
X-PUBLISHED-TTL:PT1H
BEGIN:VTIMEZONE
TZID:Asia/Tokyo
BEGIN:STANDARD
TZOFFSETFROM:+0900
TZOFFSETTO:+0900
TZNAME:JST
DTSTART:20240101T000000
END:STANDARD
END:VTIMEZONE
BEGIN:VEVENT
DTSTART;TZID=Asia/Tokyo:20240125T190000
DTEND;TZID=Asia/Tokyo:20240125T210000
DTSTAMP:20260423T120833
CREATED:20231211T082912Z
LAST-MODIFIED:20240122T030648Z
UID:2155-1706209200-1706216400@ot-hyogo.or.jp
SUMMARY:497「阪神北南ブロック　ＭＴＤＬＰ事例発表会」締切(発表)1.11 (聴講)1.18
DESCRIPTION:1月22日（月）12時00分頃、受付完了者へ研修に関する案内を送信しました（以下参照） \n497　阪神北南ブロックMTDLP事例発表会（1/25）受付完了者へメールを送信しました \nタイトル\n阪神北南ブロック　ＭＴＤＬＰ事例発表会 \nMTDLP基礎研修修了した皆様には、次のステップである実践者研修修了を目指し、自施設で実践を行い、事例発表会にて発表頂きたいと思います。多数の発表よろしくお願いします。また以後発表を予定されている方は聴講者として参加することをおすすめします。 \n2018年度より、発表者は事例発表後に協会の事例報告を行いＭＴＤＬＰ指導者を目指す方（Aコース）と事例発表を行いＭＴＤＬＰ研修修了を目指す方（Bコース）で発表シートを選択できるようになっております。 \n発表者は、「MTDLP事例発表会発表資料変更のおしらせ」「MTDLP事例発表における発表者の皆様へ」をよく読み、資料の作成および事前準備をお願いします。発表に関しては「MTDLP事例発表会に向けたチェックリスト」を必ず参考にして準備をお願いします。 \nMTDLP事例発表会発表資料変更のおしらせ \nMTDLP事例発表における発表者の皆様へ \nMTDLP事例発表会に向けたチェックリスト \n日　時\n2024年1月25日　19：00 ～ 21：00（受付 18：45～） \n会　場\nオンライン（Zoom）\n※受付完了者に研修日の３日前（平日のみ）までにメールにてミーティングを配信します \n講　師\n小南　陽平　先生（宝塚リハビリテーション病院） \n定　員\n発表者　2名（生涯ポイント非該当）\n聴講者　8名（生涯ポイント２ポイント） \n受講費\n1\,000円（銀行振り込みのみ対応）\n【振込みの際のご注意】\n「振込人名」の後に「ハ497　OT協会番号」を追加してください。\n（例：ヒョウゴタロウ　ハ497　12345）\n※振込人名後の「ハ497」で本研修の受講費として処理します。忘れずにご入力をお願いいたします。振込人名のみ場合は確認連絡が届く可能性があります。\n※振込時にお手元に残る振込明細書（記録）は研修会開始まで保管ください。\n※受講料の入金と下記申込ボタンからの申し込みが揃った時点で受付完了となります。\nーいずれか一方でも確認できない場合、申し込みは自動キャンセルとなります。 \n【振込先口座】→受付終了のため削除しました \n申込条件\nMTDLP基礎研修（平成28年度～現職者選択研修MTDLP）修了者 \n受講条件\nオンラインでの研修会に参加される方は、参加条件・準備事項・個人情報保護について以下の資料を必ずご確認ください。 \nオンライン研修会に参加される皆さまへ \nオンライン研修における研修情報および個人情報保護について \n締め切り\n発表申し込み　　：1月11日（木）　13時\n聴講申し込み　　：1月18日（木）　13時\n事例発表資料締切：1月11日（木）　13時 \nその他\n・聴講者は、MTDLP研修の要件を満たしません。\n・オンラインでの開催となりますので、発表者の方は当日の資料印刷は必要ありません。\n・締め切り後、研修会担当者から、発表者への連絡が必要な場合は「マイページ 個人用メールアドレス」を使用させていただきます。ご了承下さい。 \n問い合わせ先\n島崎　俊二　西宮協立脳神経外科病院\nE-mail: \n– \n申し込み受付は終了しました \n 
URL:https://ot-hyogo.or.jp/file/event/2155
LOCATION:オンライン(Zoom)
CATEGORIES:兵庫県作業療法士会主催の研修
END:VEVENT
END:VCALENDAR