BEGIN:VCALENDAR
VERSION:2.0
PRODID:-//兵庫県作業療法士会　研修案内 - ECPv6.7.0//NONSGML v1.0//EN
CALSCALE:GREGORIAN
METHOD:PUBLISH
X-ORIGINAL-URL:https://ot-hyogo.or.jp/file
X-WR-CALDESC:兵庫県作業療法士会　研修案内 のイベント
REFRESH-INTERVAL;VALUE=DURATION:PT1H
X-Robots-Tag:noindex
X-PUBLISHED-TTL:PT1H
BEGIN:VTIMEZONE
TZID:Asia/Tokyo
BEGIN:STANDARD
TZOFFSETFROM:+0900
TZOFFSETTO:+0900
TZNAME:JST
DTSTART:20240101T000000
END:STANDARD
END:VTIMEZONE
BEGIN:VEVENT
DTSTART;TZID=Asia/Tokyo:20240127T090000
DTEND;TZID=Asia/Tokyo:20240127T120000
DTSTAMP:20260423T121109
CREATED:20231117T072502Z
LAST-MODIFIED:20240124T035625Z
UID:2047-1706346000-1706356800@ot-hyogo.or.jp
SUMMARY:492「中播磨ブロック　現職者共通研修 事例検討・事例報告」締切(発表)12.11 (検討/聴講)1.15
DESCRIPTION:1月24日（水）12時50分頃に研修に関するミーティング情報をPeatixから送信しました（以下参照）\n492　中播磨ブロック現職者共通研修事例検討・事例報告（1/27）受付完了者へメールを送信しました \nタイトル\n中播磨ブロック　現職者共通研修 事例検討・事例報告 \n内　容\n現職者共通研修\n・事例検討\n・事例報告 \n日　時\n2024年1月27日（土）　9：00 ～ 12：00（受付 8：30～） \n会　場\n姫路医療専門学校（大講義室、木工室）\n※受講確定者には研修日の３日前（平日のみ）までにメールにて受講に関するお知らせを配信致します \n定　員\n発表者　30名　（生涯教育ポイント２P）\n検討者　制限なし　（生涯教育ポイント２P）\n聴講者　制限なし　（生涯教育ポイント非該当） \n受講費\n発表者及び検討者　1\,000円（銀行振り込みのみ対応） \n※Peatixシステム利用料の一部（150円）を受講者にご負担いただきます。\n※聴講者は受講費不要です\n※発表・検討の両方を同時に行う場合は、受講費は2000円＋Peatixの利用料150円が必要です。\n※この度の研修はPeatixから申し込みをお願いいたします。\nPeatix の申し込み及び入金により、受付完了となります。申し込みのみでは受付完\n了とはなりませんのでご注意ください。\n入金完了後、自動返信にてメールが届けば受付完了となります。 \n申込条件\n申込の時点で兵庫県作業療法士会会員である必要があります \n締め切り\n発表者　2023年12月11日（月）13時\n検討者　2024年1月15日（月）13時\n聴講者　2024年1月15日（月）13時 \nその他\n発表者には受付時に「事例報告指導者の情報」を入力いただきますので氏名、OT協会会員番号、所属先を確認の上、申し込みをお願い致します。 \n– \n２.発表までの流れ \n① 各発表資料提出について\n各発表資料を提出期限までに提出ください。\n発表資料とは、発表用レジュメ(Windows Word)及び発表用スライド(Windows PowerPoint)を指します。\n各提出日を厳守いただき、下記の問い合わせ先に送信ください。 \n– \n●発表用レジュメの提出期限は2023年12月25日（月曜日）です。\nレジュメは規定の形式が決まっています。\nMicrosoft Wordで作成しPDFに変換をしてください。\n以下のページ(レジュメのフォーマットについて)から、規定形式をダウンロードの上、１ページに収まるよう作成ください。\nレジュメ提出の際はPDF形式にて下記の問い合わせ先に送信してください。\n＊発表資料に支障がでる為、文字数、フォント、余白、ヘッダーやフッターの使用等すべての設定は変更禁止です。 \n– \n●発表用スライドは発表当日にUSBでデータを持参してください。\nMicrosoft Power Pointで作成ください。\n発表時間7分、質疑応答3分となります。尚、発表用スライドはアニメーションをなるべく使用しないようお願いします。 \n＊レジュメのファイル名は、会員番号.名前.所属にしてください。\n例）9999999.兵庫太郎.〇△□病院\n尚、提出先につきましては、下記の問い合わせ先になります。レジュメおよびスライド提出の際は、必ずファイルに指定されたパスワードの設定をお願いします。指定のパスワードは申し込み後のメールにて連絡させていただきますので、必ずご確認ください \n– \n　発表用レジュメのフォーマットについて \n–\n　現職者共通研修「事例検討・事例報告」発表者・事例報告指導者確認について \n– \n問い合わせ先\n中播磨ブロック　ブロック長　野島\n\n– \n申し込み受付は終了しました \n 
URL:https://ot-hyogo.or.jp/file/event/2047
LOCATION:姫路医療専門学校
CATEGORIES:兵庫県作業療法士会主催の研修
END:VEVENT
BEGIN:VEVENT
DTSTART;TZID=Asia/Tokyo:20240127T100000
DTEND;TZID=Asia/Tokyo:20240127T120000
DTSTAMP:20260423T121109
CREATED:20231130T074012Z
LAST-MODIFIED:20240124T065714Z
UID:2103-1706349600-1706356800@ot-hyogo.or.jp
SUMMARY:493「地域ケア推進委員会　2023年度 第二回人材育成研修」締切1.22
DESCRIPTION:1月24日（水）12時20分頃、受付完了者へ研修に関する案内を送信しました（以下参照） \n493　地域ケア推進委員会　第２回人材育成研修（1/27）受付完了者へメールを送信しました－ \n  \n　チラシのダウンロードはこちら \nタイトル\n地域ケア推進委員会　2023年度 第二回人材育成研修\n地域における作業療法士の役割　～自治体の戦略を知り、地域連携を考える～ \n内容\n① 上郡町における総合事業の戦略と実践\n② 上郡町の通所Cの実践とセラピストに求められる役割 \n近年、地域リハビリテーション活動支援事業や日常生活・総合支援事業などの医療保険、介護保険の外で活躍するOTが増えており、これまでとは異なる役割が求めれています。\n今回の研修では、兵庫県内でも地域の実情に対して戦略を持って先進的に取り組んでいる上郡町の実践から「地域における作業療法士に求められている役割」について学ぶことを目的に研修会を実施します。 \n日時\n1月27日　10：00 ～ 12：00（受付 9：45～） \n会場\n三宮研修センター　7階・701号室\n（神戸市中央区八幡通4-2-12 カサベラFRⅡビル） \n講師\n①上郡町 国保介護支援課 地域包括支援係 係長・保健師　久須 陽香 氏\n②株式会社一期一会 訪問看護ステーション縁 取締役・理学療法士　山中 亮二 氏\nコメディカル部主任・理学療法士　乗船 雄太 氏 \n定　員\n45名 \n生涯教育ポイント\n☒　付与対象外です \n受講費\n無料 \n申込み条件\n☒　兵庫県士会員\n☒　上記以外の兵庫県内の作業療法士 \n締め切り\n1月22日（月）13時 \n問い合わせ先\n一般社団法人　兵庫県作業療法士会　地域ケア推進委員会\n担当者　佐野 善章　 \n– \n申し込み受付は終了しました
URL:https://ot-hyogo.or.jp/file/event/2103
LOCATION:三宮研修センター
CATEGORIES:兵庫県作業療法士会主催の研修
END:VEVENT
BEGIN:VEVENT
DTSTART;TZID=Asia/Tokyo:20240127T133000
DTEND;TZID=Asia/Tokyo:20240127T170000
DTSTAMP:20260423T121109
CREATED:20231030T062803Z
LAST-MODIFIED:20240124T065453Z
UID:1938-1706362200-1706374800@ot-hyogo.or.jp
SUMMARY:487「障がいのある方・高齢者の自動車運転」締切1.22
DESCRIPTION:1月24日（水）15時40分頃、受付完了者へ研修に関する案内を送信しました（以下参照） \n487　自動車運転支援委員会主催研修　「障がいのある方、高齢者の自動車運転」（1/27）受付完了者へメールを送信しました \n－\n　チラシのダウンロードはこちら\n－ \nタイトル\n自動車運転支援委員会主催.\n作業療法士と自動車教習所でつながろう！「障がいのある方、高齢者の自動車運転」\n〜警察・作業療法士・運転指導員の立場から〜 \n内　容\n警察（公安委員会）、作業療法士、運転指導員、それぞれの立場から障がいのある方、\n高齢者の自動車運転（免許更新、実車前・実車評価、見極め教習など）についての講義と、\n作業療法士と自動車教習所とのつながり作りのためのグループワークを行います。 \n日　時\n２０２４年１月２７日（土）　１３：３０ ～ １７：００（受付 １３：００～、開始１３：２５） \n会　場\n明石免許試験場 ３階 第１講習室\n※受講確定者には研修日の３日前（平日のみ）までにメールにて受講に関するお知らせを配信致します。 \n講　師\n・兵庫県警察本部交通課\nー中川清澄警部、森田和紀警部補、冨士原智警部補 \n・兵庫県作業療法士会自動車運転支援委員会委員長\nー作業療法士 笹沼里味氏 \n・障がい者支援施設 自立生活訓練センター\nー運転指導員 掘井好典氏 \n定　員\n６０名 \n生涯教育ポイント\n☒　２P付与されます \n受講費\n・兵庫県作業療法士会会員 作業療法士 １０００円　銀行振込のみ対応（当日受付での支払い不可）\n・兵庫県指定自動車教習所協会員の自動車教習指導員　無料 \n【振込みの際のご注意】\n「振込人名」の後に「ジ487　OT協会番号」を追加してください。\n（例：ヒョウゴタロウ　ジ487　12345）\n※振込人名後の「ジ487」で本研修の受講費として処理します。忘れずにご入力をお願いいたします。振込人名のみ場合は確認連絡が届く可能性があります。\n※振込時にお手元に残る振込明細書（記録）は研修会開始まで保管ください。\n※受講料の入金と下記申込ボタンからの申し込みが揃った時点で受付完了となります。\nーいずれか一方でも確認できない場合、申し込みは自動キャンセルとなります。 \n【振込先口座】→受付終了のため削除しました \n申込み条件\n☒　兵庫県士会員\n☒　他職種（兵庫県指定自動車教習所協会に所属する自動車教習指導員） \n受講条件\n申し込み条件と同じです。 \n締め切り\n2024年1月22日（月）13時 \nその他\n兵庫県作業療法士会会員、兵庫県指定自動車教習所協会員の自動車教習指導員 \n問い合わせ先\n自動車運転支援委員会 笹沼里味\n\nー \n申し込み受付は終了しました
URL:https://ot-hyogo.or.jp/file/event/1938
LOCATION:明石免許試験場
CATEGORIES:兵庫県作業療法士会主催の研修
END:VEVENT
END:VCALENDAR