BEGIN:VCALENDAR
VERSION:2.0
PRODID:-//兵庫県作業療法士会　研修案内 - ECPv6.7.0//NONSGML v1.0//EN
CALSCALE:GREGORIAN
METHOD:PUBLISH
X-WR-CALNAME:兵庫県作業療法士会　研修案内
X-ORIGINAL-URL:https://ot-hyogo.or.jp/file
X-WR-CALDESC:兵庫県作業療法士会　研修案内 のイベント
REFRESH-INTERVAL;VALUE=DURATION:PT1H
X-Robots-Tag:noindex
X-PUBLISHED-TTL:PT1H
BEGIN:VTIMEZONE
TZID:Asia/Tokyo
BEGIN:STANDARD
TZOFFSETFROM:+0900
TZOFFSETTO:+0900
TZNAME:JST
DTSTART:20240101T000000
END:STANDARD
END:VTIMEZONE
BEGIN:VEVENT
DTSTART;TZID=Asia/Tokyo:20240128T093000
DTEND;TZID=Asia/Tokyo:20240128T130000
DTSTAMP:20260423T120813
CREATED:20231027T060510Z
LAST-MODIFIED:20240125T031944Z
UID:1930-1706434200-1706446800@ot-hyogo.or.jp
SUMMARY:486「東播磨ブロック　現職者共通研修 事例検討・事例報告」締切(発表)11.27 (検討)1.11 (聴講)1.15
DESCRIPTION:1月25日（木）12時10分頃に研修に関するミーティング情報をPeatixから送信しました（以下参照） \n486　東播磨ブロック現職者共通研修事例検討・事例報告（1/28）受付完了者へメールを送信しました \nタイトル\n東播磨ブロック　現職者共通研修 事例検討・事例報告 \n内　容\n事例検討・事例報告 \n日　時\nR6年1月28日　9：30 ～ 13：00（受付 8：30～） \n会　場\n順心リハビリテーション病院　地域リハビリテーションセンター\n※受講確定者には研修日の３日前（平日のみ）までにメールにて受講に関するお知らせを配信致します。 \n講　師\nなし \n定　員\n発表者　なし　（生涯教育ポイント２P）\n検討者　なし　（生涯教育ポイント２P）\n聴講者　なし　（生涯教育ポイント非該当） \n受講費\n発表者及び検討者　1\,000円（銀行振り込みのみ対応）事前登録のみ受け付け可　当日受付での支払い不可 \n※Peatixシステム利用料の一部（150円）を受講者にご負担いただきます。\n※聴講者は受講費不要です\n※発表・検討の両方を同時に行う場合は、受講費は2000円＋Peatixの利用料150円が必要です。\n※この度の研修はPeatixから申し込みをお願いいたします。\nPeatix の申し込み及び入金により、受付完了となります。申し込みのみでは受付完了とはなりませんのでご注意ください。\n入金完了後、自動返信にてメールが届けば受付完了となります。 \n申込条件\n申込の時点で兵庫県作業療法士会会員である必要があります \n締め切り\n発表者　11月27日（月）13時\n検討者　1月11日（木）13時\n聴講者　1月15日（月）13時 \nその他\n発表者には受付時に「事例報告指導者の情報」を入力いただきますので氏名、OT協会会員番号、所属先を確認の上、申し込みをお願い致します。 \n現職者共通研修「事例検討・事例報告」発表者・事例報告指導者確認について（PDF） \n問い合わせ先\n順心かんの希　安東（） \n申し込み受付\n申し込み受付は終了しましたー \n 
URL:https://ot-hyogo.or.jp/file/event/1930
LOCATION:順心リハビリテーション病院
CATEGORIES:兵庫県作業療法士会主催の研修
END:VEVENT
END:VCALENDAR