BEGIN:VCALENDAR
VERSION:2.0
PRODID:-//兵庫県作業療法士会　研修案内 - ECPv6.7.0//NONSGML v1.0//EN
CALSCALE:GREGORIAN
METHOD:PUBLISH
X-ORIGINAL-URL:https://ot-hyogo.or.jp/file
X-WR-CALDESC:兵庫県作業療法士会　研修案内 のイベント
REFRESH-INTERVAL;VALUE=DURATION:PT1H
X-Robots-Tag:noindex
X-PUBLISHED-TTL:PT1H
BEGIN:VTIMEZONE
TZID:Asia/Tokyo
BEGIN:STANDARD
TZOFFSETFROM:+0900
TZOFFSETTO:+0900
TZNAME:JST
DTSTART:20240101T000000
END:STANDARD
END:VTIMEZONE
BEGIN:VEVENT
DTSTART;TZID=Asia/Tokyo:20240203T130000
DTEND;TZID=Asia/Tokyo:20240203T164000
DTSTAMP:20260423T103351
CREATED:20231225T052232Z
LAST-MODIFIED:20240131T042510Z
UID:2204-1706965200-1706978400@ot-hyogo.or.jp
SUMMARY:499「学校連携のできるセラピスト育成シンポジウム」締切1.29
DESCRIPTION:1月31日（水）12時45分及び13時15分頃に研修に関するミーティング情報をPeatixから送信しました（以下参照） \n499　育ちと学びの支援委員会学校連携のできるセラピスト育成シンポジウム（2/3）受付完了者へメールを送信しました \n－\n　チラシのダウンロードはこちら\n－ \nタイトル\n育ちと学びの支援委員会\n学校連携のできるセラピスト育成シンポジウム \n内容\n事業所や療育施設が学校と連携をして子どもを支援することが増えてきています。\n特別支援教育の「今」を実践する各領域からの報告を通じて、これからの学校連携の方向性を探ります。 \n日時\n2024年2月3日　13：00 ～ 16：40（受付 12：30～） \n会場\n神戸臨床研究情報センター（TRI） \n講師\n\n\n\n講演\n石倉 健二 氏（兵庫教育大学大学院学校教育研究科 特別支援教育専攻障害科学コース ）\n–\n\n\nシンポジウム\n渡邊 亜由美 氏（尼崎市立園田南小学校 肢体不自由学級担任）\n平山 幸子 氏（神戸市立灘さくら支援学校 コーディネーター）\n森田 捷平 氏（明石市立明石養護学校 理学療法士）\n東 健太 氏(兵庫県立障害児者リハビリテーションセンター 理学療法士)\n\n\n\n定員\n\n\n\n会場参加\n80名\n\n\nオンライン参加\n80名\n\n\n\n※受付完了者に研修日の３日前（平日のみ）までにメールにて研修に関するご連絡（毛会場参加者）又はミーティング情報（オンライン参加者）を配信します \n生涯教育ポイント\n☒　２P付与されます\n（日本作業療法士協会・各都道府県士会に入会されているOTのみ付与されます） \n受講費\n職種かつ、士会の所属の有無により異なります。以下、申し込み条件をよく確認ください。\n–\n1\,150円（受講費1\,000円+システム利用料150円）\n該当条件\n●兵庫県PT/OT/ST士会員\n●日本各協会及び各都道府県士会の両方に所属するPT/OT/ST\n●所属が明確な教員・学校関係者\n– \n–\n上記以外は2\,150円（受講費2\,000円+システム利用料150円）\n該当条件\n●日本各協会・他府県士会の一方のみ在籍している、又はいずれにも在籍していなPT/OT/ST\n●PT/OT/ST以外の他職種また所属が明らかでない学校関係者、一般 \n締め切り\n１月２９日（月）13時 \nその他\nオンラインでの研修会に参加される方は、参加条件・準備事項・個人情報保護について以下の資料を必ずご確認ください。 \nオンライン研修会に参加される皆さまへ \nオンライン研修における研修情報および個人情報保護について \n問い合わせ先\n関西総合リハビリテーション専門学校　開發　基文\n0799-60-3602\n– \n参加申し込み受付は終了しました
URL:https://ot-hyogo.or.jp/file/event/2204
LOCATION:神戸臨床研究情報センター TRI
CATEGORIES:兵庫県作業療法士会主催の研修
END:VEVENT
END:VCALENDAR