BEGIN:VCALENDAR
VERSION:2.0
PRODID:-//兵庫県作業療法士会　研修案内 - ECPv6.7.0//NONSGML v1.0//EN
CALSCALE:GREGORIAN
METHOD:PUBLISH
X-ORIGINAL-URL:https://ot-hyogo.or.jp/file
X-WR-CALDESC:兵庫県作業療法士会　研修案内 のイベント
REFRESH-INTERVAL;VALUE=DURATION:PT1H
X-Robots-Tag:noindex
X-PUBLISHED-TTL:PT1H
BEGIN:VTIMEZONE
TZID:Asia/Tokyo
BEGIN:STANDARD
TZOFFSETFROM:+0900
TZOFFSETTO:+0900
TZNAME:JST
DTSTART:20240101T000000
END:STANDARD
END:VTIMEZONE
BEGIN:VEVENT
DTSTART;TZID=Asia/Tokyo:20240419T183000
DTEND;TZID=Asia/Tokyo:20240419T203000
DTSTAMP:20260423T073144
CREATED:20240311T110734Z
LAST-MODIFIED:20240311T111452Z
UID:2511-1713551400-1713558600@ot-hyogo.or.jp
SUMMARY:「神戸ブロック勉強会（神戸東・阪神地区精神科）」締切4.18
DESCRIPTION:●研修会名\n神戸ブロック勉強会（神戸東・阪神地区精神科） \n●テーマ\n今年度の勉強会のテーマ決め \n●内容\n新年度、再スタートをきる勉強会です。職場で新しい職員を迎えたところもそうでないところも、気持ちを新たに精神科の勉強会に参加していきませんか。今回は、顔合わせと勉強会の計画を予定しています。ブロックに関係なく、お誘いあわせの上、ご参加ください。 \n●日時\n2024年4月19日（金）\n時間：18：30～20：30 \n●会場\n兵庫県立ひょうごこころの医療センター \n●講師\nなし \n●定員\n20名 \n●会場整理費\n無料 \n●申し込み方法\nメールにて、以下の内容をお送りください。\n※タイトルは「東神戸・阪神地区精神科勉強会の申し込みについて」でお願いいたします。\n①氏名\n②所属\n③職種\n④経験年数 \n●申し込み先\n \n●問い合わせ先\nありまこうげんホスピタル\n山西慧治 \n●締め切り\n2024年4月18日（木）17：00
URL:https://ot-hyogo.or.jp/file/event/2511
LOCATION:兵庫県立ひょうごこころの医療センター
CATEGORIES:兵庫県作業療法士会主催の研修
END:VEVENT
BEGIN:VEVENT
DTSTART;TZID=Asia/Tokyo:20240419T193000
DTEND;TZID=Asia/Tokyo:20240419T210000
DTSTAMP:20260423T073144
CREATED:20240319T134945Z
LAST-MODIFIED:20240326T115941Z
UID:2522-1713555000-1713560400@ot-hyogo.or.jp
SUMMARY:「神戸ブロック勉強会（小児分野）」締切4.18
DESCRIPTION:タイトル\n神戸ブロック勉強会（小児分野） \n内容\n小児リハビリテーション　最近のトピックス \n日時\n4月19日（金）　19：30 ～ 21：00（受付 19：20～） \n会場\n神戸市男女共同参画センター　あすてっぷKOBE　セミナー室５ \n講師\n若林秀昭（兵庫県立リハビリテーション中央病院） \n定　員\n20名 \n会場整理費\n無料 \n申込み方法\nメールにて以下の内容をお送りください。\n①氏名　➁所属　③職種　④経験年数 \n申込み／問合せ\n　（市山） \n締め切り\n4月18日（木）13時 \nその他\n育ちと学びの支援委員会では、特別支援学校、学童保育、児童発達支援（放デイ含む）事業所等の支援をして頂ける方を募集しています。直接支援でなくても、支援場面に同行して参加したい方など、興味のある方でも結構です。\nトピックスだけでなく、県士会事業についても少しお話しますので、関心のある方は是非勉強会にご参加ください。
URL:https://ot-hyogo.or.jp/file/event/2522
LOCATION:神戸市男女共同参画センター
CATEGORIES:兵庫県作業療法士会主催の研修
END:VEVENT
END:VCALENDAR