BEGIN:VCALENDAR
VERSION:2.0
PRODID:-//兵庫県作業療法士会　研修案内 - ECPv6.7.0//NONSGML v1.0//EN
CALSCALE:GREGORIAN
METHOD:PUBLISH
X-ORIGINAL-URL:https://ot-hyogo.or.jp/file
X-WR-CALDESC:兵庫県作業療法士会　研修案内 のイベント
REFRESH-INTERVAL;VALUE=DURATION:PT1H
X-Robots-Tag:noindex
X-PUBLISHED-TTL:PT1H
BEGIN:VTIMEZONE
TZID:Asia/Tokyo
BEGIN:STANDARD
TZOFFSETFROM:+0900
TZOFFSETTO:+0900
TZNAME:JST
DTSTART:20240101T000000
END:STANDARD
END:VTIMEZONE
BEGIN:VEVENT
DTSTART;TZID=Asia/Tokyo:20240707T092000
DTEND;TZID=Asia/Tokyo:20240707T165000
DTSTAMP:20260423T032235
CREATED:20240522T031408Z
LAST-MODIFIED:20240913T041522Z
UID:2641-1720344000-1720371000@ot-hyogo.or.jp
SUMMARY:509「教育部　第１回現職者共通研修会」締切7.2
DESCRIPTION:7月4日（木）13時00分頃に研修に関するミーティング情報をPeatixから送信しました（以下参照）\n509　第１回現職者共通研修研修会　受付完了者へメールを送信しました \nタイトル\n教育部　第１回現職者共通研修会 \n内　容\n\n\n\n①作業療法生涯教育概論\n9:20〜10:50\n\n\n②作業療法における協業・後輩育成\n11:10〜12:40\n\n\n③職業倫理\n13:30〜15:00\n\n\n④保健・医療・福祉と地域支援\n15:20〜16:50\n\n\n\n– \n①〜④の講義を別々でも申し込み可能。 \n日　時\n令和6年　7月 7日（日）　9：20 ～ 16：50（受付 9：00～） \n会　場\nオンライン（Zoom） \n※申込完了者に研修日の３日前（平日のみ）までにメールにてミーティングを配信します \n講　師\n①野田和惠先生（神戸大学大学院保健学研究科） \n②松本宏昭先生（江井島病院) \n③佐野恭子先生（宝塚リハビリテーション病院) \n④宮崎宏興先生（たつの市地域活動相談支援センター　いねいぶる） \n定　員\n100名 \n生涯教育ポイント\n☒　２P付与されます \n受講費\n（いずれもPeatixシステム利用料150円を含む）\n1講義1\,150円　全4講義受講ならば4\,150円 \n申込み条件\n☒　兵庫県士会員\n☒　日本OT協会及び他府県士会の両方に所属するOT \n兵庫県士会員として申し込むには申込の時点で兵庫県作業療法士会会員である必要があります\n※条件を満たしていない方からの申し込みは事務局にてキャンセル手続きを自動的に行いますので予めご了承ください。\n（会員か否かの確認はマイページへのログインの可否で判断できます。不明な人はまずはマイページログインができるか試してください。） \n受講条件\nオンラインでの研修会に参加される方は、参加条件・準備事項・個人情報保護について以下の資料を必ずご確認ください。 \nオンライン研修会に参加される皆さまへ \nオンライン研修における研修情報および個人情報保護について \n締め切り\n7月2日（火）13時 \nその他\n１)申し込み方法について\n①受講講義数のチケットを選択し進む。\n②受講する講義は申込者情報登録時画面で選択する \n２)事務局での自動キャンセル扱いとなった方には「ミーティング情報配信メッセージ」が届きません。また自動キャンセル時に返金手続きも完了しています。 \n問い合わせ先\n佐東　健　　兵庫医科大学病院（TEL：0798-45-6388　FAX：0798-45-6948） \n申し込み受付\n以下のURLからお願いします\nhttps://peatix.com/event/3959475/view
URL:https://ot-hyogo.or.jp/file/event/2641
LOCATION:オンライン(Zoom)
CATEGORIES:兵庫県作業療法士会主催の研修
END:VEVENT
END:VCALENDAR