BEGIN:VCALENDAR
VERSION:2.0
PRODID:-//兵庫県作業療法士会　研修案内 - ECPv6.7.0//NONSGML v1.0//EN
CALSCALE:GREGORIAN
METHOD:PUBLISH
X-WR-CALNAME:兵庫県作業療法士会　研修案内
X-ORIGINAL-URL:https://ot-hyogo.or.jp/file
X-WR-CALDESC:兵庫県作業療法士会　研修案内 のイベント
REFRESH-INTERVAL;VALUE=DURATION:PT1H
X-Robots-Tag:noindex
X-PUBLISHED-TTL:PT1H
BEGIN:VTIMEZONE
TZID:Asia/Tokyo
BEGIN:STANDARD
TZOFFSETFROM:+0900
TZOFFSETTO:+0900
TZNAME:JST
DTSTART:20240101T000000
END:STANDARD
END:VTIMEZONE
BEGIN:VEVENT
DTSTART;TZID=Asia/Tokyo:20241011T193000
DTEND;TZID=Asia/Tokyo:20241011T213000
DTSTAMP:20260422T223700
CREATED:20240826T073225Z
LAST-MODIFIED:20241008T033440Z
UID:2963-1728675000-1728682200@ot-hyogo.or.jp
SUMMARY:523 第一回 阪神北南ブロック研修会「行為の障害に関する基本的な評価と介入の視点」締切10.4
DESCRIPTION:10月8日（火）12時30分頃に研修に関するミーティング情報をPeatixから送信しました（以下参照) \n523　阪神北南ブロック第１回ブロック研修会（10/11）受付完了者へメールを送信しました \nタイトル\n第一回　阪神北南ブロック研修会　「行為の障害に関する基本的な評価と介入の視点」 \n内容\n失行に対しての基本的な評価や介入について \n日時\n10月11日（金曜日）　19：30～ 21：30（受付 19：00～） \n会場\n西宮アミティーベイコムホール　小会議室303\n※受付完了者には研修日の３日前（平日のみ）までPeatixメッセージから受講に関するお知らせを配信致します。 \n講師\n清水　大輔先生（兵庫医科大学） \n定　員\n30名 \n生涯教育ポイント\n☒　２P付与されます \n申込み条件と受講費\n\n\n\n☒　兵庫県士会員\n1\,000円\n\n\n☒　OT協会及び他府県士会の両方に入会しているOT\n兵庫県士会員と同額\n\n\n☒　OT協会のみ入会しているOT\n兵庫県士会員の倍額\n\n\n\nー\n※上記以外のOTは受講できません\n※有料の場合、すべての受講費に別途Peatix利用料150円が加算されます\n兵庫県士会員として申し込むには申込の時点で兵庫県作業療法士会会員である必要があります\n※条件を満たしていない方からの申し込みは事務局にてキャンセル手続きを自動的に行いますので予めご了承ください。\n（会員か否かの確認はマイページへのログインの可否で判断できます。不明な人はまずはマイページログインができるか試してください。） \n締め切り\n10月4日（金）13時 \nその他\n事務局での自動キャンセル扱いとなった方には「ミーティング情報配信メッセージ」が届きません。また自動キャンセル時に返金手続きも完了しています。 \n問い合わせ先\n高橋　快　 \n申し込み受付\n以下のURLからお願いします\nhttps://peatix.com/event/4107569/view
URL:https://ot-hyogo.or.jp/file/event/2963
LOCATION:西宮アミティーベイコムホール
CATEGORIES:兵庫県作業療法士会主催の研修
END:VEVENT
END:VCALENDAR