BEGIN:VCALENDAR
VERSION:2.0
PRODID:-//兵庫県作業療法士会　研修案内 - ECPv6.7.0//NONSGML v1.0//EN
CALSCALE:GREGORIAN
METHOD:PUBLISH
X-ORIGINAL-URL:https://ot-hyogo.or.jp/file
X-WR-CALDESC:兵庫県作業療法士会　研修案内 のイベント
REFRESH-INTERVAL;VALUE=DURATION:PT1H
X-Robots-Tag:noindex
X-PUBLISHED-TTL:PT1H
BEGIN:VTIMEZONE
TZID:Asia/Tokyo
BEGIN:STANDARD
TZOFFSETFROM:+0900
TZOFFSETTO:+0900
TZNAME:JST
DTSTART:20240101T000000
END:STANDARD
END:VTIMEZONE
BEGIN:VEVENT
DTSTART;TZID=Asia/Tokyo:20241025T183000
DTEND;TZID=Asia/Tokyo:20241025T203000
DTSTAMP:20260422T223821
CREATED:20240917T065719Z
LAST-MODIFIED:20240917T065847Z
UID:3086-1729881000-1729888200@ot-hyogo.or.jp
SUMMARY:「神戸ブロック勉強会（神戸東・阪神地区精神科）」締切10.24
DESCRIPTION:●研修会名\n神戸ブロック勉強会（神戸東・阪神地区精神科） \n●テーマ\n「一緒に考えよう！OTプログラムと介護予防の取り組みついて〜相談&検討会」 \n●内容\n2グループに別れて相談・検討会。\n①プログラムについての相談会。\n各施設が対象者別に多様なプログラムを紹介し、情報共有や相談を行う。\n②介護予防の検討会。入院患者様のADLに着目し、介入することで介護予防に繋げていけそうな項目の検討と、具体策を話し合う。 \n●日時\n2024年10月25日（金）\n時間：18：30～20：30 \n●会場\n向陽病院 \n●講師\nなし \n●定員\n20名 \n●会場整理費\n無料 \n●申し込み方法\nメールにて、以下の内容をお送りください。\n※タイトルは「東神戸・阪神地区精神科勉強会の申し込みについて」でお願いいたします。\n①氏名\n②所属\n③職種\n④経験年数 \n●申し込み先\n \n●問い合わせ先\nありまこうげんホスピタル\n山西慧治 \n●締め切り\n2024年10月24日（木）17：00
URL:https://ot-hyogo.or.jp/file/event/3086
LOCATION:向陽病院
CATEGORIES:兵庫県作業療法士会主催の研修
END:VEVENT
BEGIN:VEVENT
DTSTART;TZID=Asia/Tokyo:20241025T193000
DTEND;TZID=Asia/Tokyo:20241025T210000
DTSTAMP:20260422T223821
CREATED:20241015T052452Z
LAST-MODIFIED:20241017T012140Z
UID:3249-1729884600-1729890000@ot-hyogo.or.jp
SUMMARY:「神戸ブロック勉強会（小児分野）」締切10.24
DESCRIPTION:タイトル\n神戸ブロック勉強会（小児分野） \n内容\n「重症心身障害児者の遊び・活動」 \n日時\n10月25日（金）　19：30 ～ 21：00（入室可能19:20〜） \n会場\nオンライン開催（ZOOM） \n講師\n三宅　百合子　（医療福祉センター　きずな） \n定　員\n人数問わず \n費用\n無料 \n申込み方法\nメールにて以下の内容をお送りください。\n①氏名　➁所属　③職種　④経験年数 \n申込み／問合せ\n（市山） \n締め切り\n10月24日（木）13時
URL:https://ot-hyogo.or.jp/file/event/3249
LOCATION:オンライン(Zoom)
CATEGORIES:兵庫県作業療法士会主催の研修
END:VEVENT
END:VCALENDAR