BEGIN:VCALENDAR
VERSION:2.0
PRODID:-//兵庫県作業療法士会　研修案内 - ECPv6.7.0//NONSGML v1.0//EN
CALSCALE:GREGORIAN
METHOD:PUBLISH
X-ORIGINAL-URL:https://ot-hyogo.or.jp/file
X-WR-CALDESC:兵庫県作業療法士会　研修案内 のイベント
REFRESH-INTERVAL;VALUE=DURATION:PT1H
X-Robots-Tag:noindex
X-PUBLISHED-TTL:PT1H
BEGIN:VTIMEZONE
TZID:Asia/Tokyo
BEGIN:STANDARD
TZOFFSETFROM:+0900
TZOFFSETTO:+0900
TZNAME:JST
DTSTART:20240101T000000
END:STANDARD
END:VTIMEZONE
BEGIN:VEVENT
DTSTART;TZID=Asia/Tokyo:20241027T093000
DTEND;TZID=Asia/Tokyo:20241027T170000
DTSTAMP:20260422T223837
CREATED:20240930T075219Z
LAST-MODIFIED:20241024T033205Z
UID:3130-1730021400-1730048400@ot-hyogo.or.jp
SUMMARY:528「教育部　現職者選択研修（身体障害領域）」締切10.21
DESCRIPTION:10月24日（木）12時20分頃に研修に関するミーティング情報をPeatixから送信しました（以下参照) \n528　教育部　現職者選択研修（身体障害領域）（10/27）受付完了者へメールを送信しました \nタイトル\n教育部　現職者選択研修（身体障害領域） \n内　容\n・身体障害領域の基礎知識\n・急性期作業療法\n・回復期の作業療法\n・生活期・終末期の作業療法 \n日　時\n10月27日（日）9：30 ～17：00（受付 8：30～） \n会　場\nオンライン（Zoom）\n※受付完了者には研修日の３日前（平日のみ）までにメッセージにてミーティング情報を配信致します。 \n講　師\n・大道　克己　氏（姫路赤十字病院）\n・高井　京子　氏（北播磨総合医療センター）\n・大賀　隆正　氏（兵庫県立リハビリテーション中央病院）\n・常本　浩美　氏（あわじ白寿苑） \n定　員\n50名 \n生涯教育ポイント\n☒　２P付与されます \n申込み条件と受講費\n\n\n\n☒　兵庫県士会員\n4\,000円\n\n\n☒　OT協会及び他府県士会の両方に入会しているOT\n兵庫県士会員と同額\n\n\n\n–\n※上記以外のOTは受講できません\n※有料の場合、すべての受講費に別途Peatix利用料150円が加算されます\n※兵庫県士会員として申し込むには申込の時点で兵庫県作業療法士会会員である必要があります。（※条件を満たしていない方からの申し込みは事務局にてキャンセル手続きを自動的に行いますので予めご了承ください。）\n（会員か否かの確認はマイページへのログインの可否で判断できます。不明な人はまずはマイページログインができるか試してください。） \n受講条件\nオンラインでの研修会に参加される方は、参加条件・準備事項・個人情報保護について以下の資料を必ずご確認ください。 \nオンライン研修会に参加される皆さまへ \nオンライン研修における研修情報および個人情報保護について \n締め切り\n10月21日（月）13時 \nその他\n事務局での自動キャンセル扱いとなった方には「ミーティング情報配信メッセージ」が届きません。また自動キャンセル時に返金手続きも完了しています \n問い合わせ先\n宇都宮　秀啓（うつのみや　ひであき）\n明石こころのホスピタル（TEL：078-923-0877）\nメール：utsunomiya.ot.cocoro@gmail.com \n申し込み受付\n定員に達したため申し込み受付は終了しました
URL:https://ot-hyogo.or.jp/file/event/3130
LOCATION:オンライン(Zoom)
CATEGORIES:兵庫県作業療法士会主催の研修
END:VEVENT
END:VCALENDAR