BEGIN:VCALENDAR
VERSION:2.0
PRODID:-//兵庫県作業療法士会　研修案内 - ECPv6.7.0//NONSGML v1.0//EN
CALSCALE:GREGORIAN
METHOD:PUBLISH
X-ORIGINAL-URL:https://ot-hyogo.or.jp/file
X-WR-CALDESC:兵庫県作業療法士会　研修案内 のイベント
REFRESH-INTERVAL;VALUE=DURATION:PT1H
X-Robots-Tag:noindex
X-PUBLISHED-TTL:PT1H
BEGIN:VTIMEZONE
TZID:Asia/Tokyo
BEGIN:STANDARD
TZOFFSETFROM:+0900
TZOFFSETTO:+0900
TZNAME:JST
DTSTART:20240101T000000
END:STANDARD
END:VTIMEZONE
BEGIN:VEVENT
DTSTART;TZID=Asia/Tokyo:20241101T193000
DTEND;TZID=Asia/Tokyo:20241101T213000
DTSTAMP:20260422T205914
CREATED:20240917T070438Z
LAST-MODIFIED:20241029T044555Z
UID:3091-1730489400-1730496600@ot-hyogo.or.jp
SUMMARY:526　神戸ブロック研修会 「解剖に基づいた腱板断裂の評価と治療－解剖、評価、治療、ADL指導－」締切10.24
DESCRIPTION:10月29日（火）13時30分頃に研修に関するミーティング情報をPeatixから送信しました（以下参照) \n526　神戸ブロック研修会「解剖に基づいた腱板断裂の評価と治療」（11/1）受付完了者へメールを送信しました \nタイトル\n神戸ブロック研修会\n「解剖に基づいた腱板断裂の評価と治療－解剖、評価、治療、ADL指導－」 \n内　容\n腱板断裂の病態、手術方法、腱板断裂に必要な解剖学、評価（評価方法、触診）、治療（運動療法、セルフエクササイズ）、ADL指導を中心にご紹介します。 \n日　時\n11月1日　19：30 ～ 21：30（受付19：15～） \n会　場\nオンライン（Zoom）\n※受付完了者には研修日の３日前（平日のみ）までにメッセージにてミーティング情報を配信致します。 \n講　師\n水島　健太郎氏（大久保病院　理学療法士） \n定　員\n50名 \n生涯教育ポイント\n☒　２P付与されます \n申込み条件と受講費\n  \n\n\n\n☒　兵庫県士会員\n１，０００円\n\n\n☒　OT協会及び他府県士会の両方に入会しているOT\n兵庫県士会員と同額\n\n\n☒　OT協会のみ入会しているOT\n兵庫県士会員の倍額\n\n\n☒　OT協会休会中のOT\n0円（生涯教育ポイント付与無）\n\n\n☒　他職種（OT以外の医療職・介護職など）\n兵庫県士会員の半額\n\n\n\nー\n※上記以外のOTは受講できません\n※有料の場合、すべての受講費に別途Peatix利用料150円が加算されます\n※兵庫県士会員として申し込むには申込の時点で兵庫県作業療法士会会員である必要があります\n（※条件を満たしていない方からの申し込みは事務局にてキャンセル手続きを自動的に行いますので予めご了承ください。）\n（会員か否かの確認はマイページへのログインの可否で判断できます。不明な人はまずはマイページログインができるか試してください。）\n \n受講条件\nオンラインでの研修会に参加される方は、参加条件・準備事項・個人情報保護について以下の資料を必ずご確認ください。 \nオンライン研修会に参加される皆さまへ\nオンライン研修における研修情報および個人情報保護について \n締め切り\n10月24日（木）13時 \nその他\n事務局での自動キャンセル扱いとなった方には「ミーティング情報配信メッセージ」が届きません。また自動キャンセル時に返金手続きも完了しています \n問い合わせ先\n名谷病院　吉留　実悠\n \n申し込み受付\n以下のURLからお願いします\nhttps://peatix.com/event/4134706/view
URL:https://ot-hyogo.or.jp/file/event/3091
LOCATION:オンライン(Zoom)
CATEGORIES:兵庫県作業療法士会主催の研修
END:VEVENT
END:VCALENDAR