BEGIN:VCALENDAR
VERSION:2.0
PRODID:-//兵庫県作業療法士会　研修案内 - ECPv6.7.0//NONSGML v1.0//EN
CALSCALE:GREGORIAN
METHOD:PUBLISH
X-ORIGINAL-URL:https://ot-hyogo.or.jp/file
X-WR-CALDESC:兵庫県作業療法士会　研修案内 のイベント
REFRESH-INTERVAL;VALUE=DURATION:PT1H
X-Robots-Tag:noindex
X-PUBLISHED-TTL:PT1H
BEGIN:VTIMEZONE
TZID:Asia/Tokyo
BEGIN:STANDARD
TZOFFSETFROM:+0900
TZOFFSETTO:+0900
TZNAME:JST
DTSTART:20240101T000000
END:STANDARD
END:VTIMEZONE
BEGIN:VEVENT
DTSTART;TZID=Asia/Tokyo:20241122T193000
DTEND;TZID=Asia/Tokyo:20241122T193000
DTSTAMP:20260422T205955
CREATED:20241105T065935Z
LAST-MODIFIED:20241105T070235Z
UID:3315-1732303800-1732303800@ot-hyogo.or.jp
SUMMARY:「神戸ブロック勉強会（小児分野）」締切11.21
DESCRIPTION:タイトル\n神戸ブロック勉強会（小児分野） \n内容\n特別支援学校の作業療法相談ケース報告会① \n日時\n11月22日（金）　19：30 ～ 21：00（入室可能19:20〜） \n会場\nオンライン開催（ZOOM） \n講師\n宍戸　聖弥（はくほう会医療専門学校） \n定　員\n人数問わず \n費用\n無料 \n申込み方法\nメールにて以下の内容をお送りください。\n①氏名　➁所属　③職種　④経験年数 \n申込み／問合せ\n（市山） \n締め切り\n11月21日（木）13時
URL:https://ot-hyogo.or.jp/file/event/3315
LOCATION:オンライン(Zoom)
CATEGORIES:兵庫県作業療法士会主催の研修
END:VEVENT
END:VCALENDAR