BEGIN:VCALENDAR
VERSION:2.0
PRODID:-//兵庫県作業療法士会　研修案内 - ECPv6.7.0//NONSGML v1.0//EN
CALSCALE:GREGORIAN
METHOD:PUBLISH
X-WR-CALNAME:兵庫県作業療法士会　研修案内
X-ORIGINAL-URL:https://ot-hyogo.or.jp/file
X-WR-CALDESC:兵庫県作業療法士会　研修案内 のイベント
REFRESH-INTERVAL;VALUE=DURATION:PT1H
X-Robots-Tag:noindex
X-PUBLISHED-TTL:PT1H
BEGIN:VTIMEZONE
TZID:Asia/Tokyo
BEGIN:STANDARD
TZOFFSETFROM:+0900
TZOFFSETTO:+0900
TZNAME:JST
DTSTART:20240101T000000
END:STANDARD
END:VTIMEZONE
BEGIN:VEVENT
DTSTART;TZID=Asia/Tokyo:20241208T090000
DTEND;TZID=Asia/Tokyo:20241208T125000
DTSTAMP:20260422T192242
CREATED:20240822T053622Z
LAST-MODIFIED:20241205T043031Z
UID:2943-1733648400-1733662200@ot-hyogo.or.jp
SUMMARY:522 教育部主催研修会　新卒・復職者向け 「リスク管理研修会～脳血管疾患～」締切12.3
DESCRIPTION:12月5日（木）13時20分頃に研修に関するミーティング情報をPeatixから送信しました（以下参照) \n522 教育部　新卒・復職者向け研修「リスク管理研修会」（12/8）受付完了者へメールを送信しました \nタイトル\n教育部主催研修会　新卒・復職者向け　「リスク管理研修会～脳血管疾患～」 \n内　容\n臨床場面で担当する機会も多い脳血管疾患。一人でわからないことを抱え込んでいませんか。本講座では多方面でご活躍されている講師の先生方をお招きし、基礎から応用まで幅広く理解できるよう\,リスク管理のポイントを学びます. 新人の方・復職予定の方はじめ\, 興味のある兵庫県OT士会員の方はどなたでも受講できます \n日　時\n2024年12月8日（日）　9：00～12：50（受付開始8：30～） \n会　場\nオンライン（Zoom）\n※受付完了者に研修日の３日前（平日のみ）までにPeatixメッセージからミーティングを配信します \n講　師\n西宮協立脳神経外科病院　兵庫医科大学特別招教授　小山　哲男先生\n「脳血管障害のリハビリテーション：予後予測を中心に」 \n大阪公立大学　　竹林　崇先生\n「脳卒中後上肢麻痺に対する課題志向型アプローチについて」 \n定　員\nなし \n生涯教育ポイント\n☒　２P付与されます \n申込み条件と受講費\n\n\n\n☒　兵庫県士会員\n2\,000円\n\n\n\nー\n※上記以外のOTは受講できません\n※有料の場合、すべての受講費に別途Peatix利用料150円が加算されます\n兵庫県士会員として申し込むには申込の時点で兵庫県作業療法士会会員である必要があります\n※条件を満たしていない方からの申し込みは事務局にてキャンセル手続きを自動的に行いますので予めご了承ください。\n（会員か否かの確認はマイページへのログインの可否で判断できます。不明な人はまずはマイページログインができるか試してください。） \n受講条件\nオンラインでの研修会に参加される方は、参加条件・準備事項・個人情報保護について以下の資料を必ずご確認ください。 \nオンライン研修会に参加される皆さまへ \nオンライン研修における研修情報および個人情報保護について \n締め切り\n12月3日（火）13時 \nその他\n事務局での自動キャンセル扱いとなった方には「ミーティング情報配信メッセージ」が届きません。また自動キャンセル時に返金手続きも完了しています \n問い合わせ先\n関西労災病院　中央リハビリテーション部　中野　潤子\n（06）6416-1221 \n申し込み受付\n終了しました
URL:https://ot-hyogo.or.jp/file/event/2943
LOCATION:オンライン(Zoom)
CATEGORIES:兵庫県作業療法士会主催の研修
END:VEVENT
END:VCALENDAR