BEGIN:VCALENDAR
VERSION:2.0
PRODID:-//兵庫県作業療法士会　研修案内 - ECPv6.7.0//NONSGML v1.0//EN
CALSCALE:GREGORIAN
METHOD:PUBLISH
X-ORIGINAL-URL:https://ot-hyogo.or.jp/file
X-WR-CALDESC:兵庫県作業療法士会　研修案内 のイベント
REFRESH-INTERVAL;VALUE=DURATION:PT1H
X-Robots-Tag:noindex
X-PUBLISHED-TTL:PT1H
BEGIN:VTIMEZONE
TZID:Asia/Tokyo
BEGIN:STANDARD
TZOFFSETFROM:+0900
TZOFFSETTO:+0900
TZNAME:JST
DTSTART:20240101T000000
END:STANDARD
END:VTIMEZONE
BEGIN:VEVENT
DTSTART;TZID=Asia/Tokyo:20241221T130000
DTEND;TZID=Asia/Tokyo:20241221T160000
DTSTAMP:20260422T192432
CREATED:20241002T064928Z
LAST-MODIFIED:20241205T070403Z
UID:3179-1734786000-1734796800@ot-hyogo.or.jp
SUMMARY:532「一般市民公開講座　ずっと「私」でいられるための支援」締切12.18
DESCRIPTION:– \n　チラシのダウンロードはこちら \n– \nタイトル\n一般市民公開講座　ずっと「私」でいられるための支援 \n内容\n①映画上映：オレンジ・ランプ\n②特別講演：ずっと「私」でいられるための支援 \n日時\n12月21日（土曜日）　13：00 ～ 16：00（受付 12：30～） \n会場\nウィズあかし　子午線ホール \n講師\n中西誠司氏（兵庫県作業療法士会　認知症対策委員会　副委員長） \n定　員\n150名 \n参加費\n無料 \n生涯教育ポイント\n☒　付与対象外です \n締め切り\n12月18日（水）13時 \nお申込み\n以下申し込みフォームもしくはFAXで申し込みください \n申し込みフォームはこちら\nhttps://peatix.com/event/4152266/view \n問い合わせ先\n12月18日（水）午前中まで 兵庫県作業療法士会　事務局\nE- mail：hyogo-ot@oasis.ocn.ne.jp \n12月18日（水）午後以降と当日の緊急連絡先　兵庫県作業療法士会　広報啓発部\nE- mail：kouhou_keihatu@ot-hyogo.or.jp\n–
URL:https://ot-hyogo.or.jp/file/event/3179
LOCATION:ウィズあかし　子午線ホール
CATEGORIES:兵庫県作業療法士会主催の研修
END:VEVENT
END:VCALENDAR