BEGIN:VCALENDAR
VERSION:2.0
PRODID:-//兵庫県作業療法士会　研修案内 - ECPv6.7.0//NONSGML v1.0//EN
CALSCALE:GREGORIAN
METHOD:PUBLISH
X-ORIGINAL-URL:https://ot-hyogo.or.jp/file
X-WR-CALDESC:兵庫県作業療法士会　研修案内 のイベント
REFRESH-INTERVAL;VALUE=DURATION:PT1H
X-Robots-Tag:noindex
X-PUBLISHED-TTL:PT1H
BEGIN:VTIMEZONE
TZID:Asia/Tokyo
BEGIN:STANDARD
TZOFFSETFROM:+0900
TZOFFSETTO:+0900
TZNAME:JST
DTSTART:20250101T000000
END:STANDARD
END:VTIMEZONE
BEGIN:VEVENT
DTSTART;TZID=Asia/Tokyo:20250220T190000
DTEND;TZID=Asia/Tokyo:20250220T203000
DTSTAMP:20260422T161838
CREATED:20250207T090641Z
LAST-MODIFIED:20250207T091025Z
UID:3631-1740078000-1740083400@ot-hyogo.or.jp
SUMMARY:「神戸オープンブロック勉強会」締切2.19
DESCRIPTION:タイトル\n神戸オープンブロック勉強会 \n内容\n脳損傷者に対する上肢機能アプローチ \n日時\n2月20日（木）　19:00 ～ 20:30（受付 18：45～） \n会場\n兵庫県立リハビリテーション中央病院（作業療法室） \n講師\n大賀　隆正（兵庫県立リハビリテーション中央病院） \n定員\n20名 \n会場整理費\n無料 \n申込み方法\nメールにて以下の内容をお送りください。\n①氏名　②所属　③職種　④経験年数 \n申込み／問合せ\n　（市山） \n締め切り\n2月19日（水）13時まで
URL:https://ot-hyogo.or.jp/file/event/3631
LOCATION:兵庫県立リハビリテーション中央病院
CATEGORIES:兵庫県作業療法士会主催の研修
END:VEVENT
BEGIN:VEVENT
DTSTART;TZID=Asia/Tokyo:20250220T190000
DTEND;TZID=Asia/Tokyo:20250220T210000
DTSTAMP:20260422T161838
CREATED:20250121T044719Z
LAST-MODIFIED:20250218T012950Z
UID:3555-1740078000-1740085200@ot-hyogo.or.jp
SUMMARY:552「東播磨ブロック MTDLP事例発表会」締切2.13
DESCRIPTION:2月18日（火）10時20分頃に研修に関するミーティング情報をPeatixから送信しました（以下参照) \n552　東播磨ブロックMTDLP事例発表（2/20）受付完了者へメールを送信しました \nタイトル\n東播磨ブロックＭＴＤＬＰ事例発表会 \n内容\nMTDLP基礎研修修了した皆様には、次のステップである実践者研修修了を目指し、自施設で実践を行い、事例発表会にて発表頂きたいと思います。多数の発表よろしくお願いします。また以後発表を予定されている方は聴講者として参加することをおすすめします。 \n2018年度より、発表者は事例発表後に協会の事例報告を行いＭＴＤＬＰ指導者を目指す方（Aコース）と事例発表を行いＭＴＤＬＰ研修修了を目指す方（Bコース）で発表シートを選択できるようになっております。 \n発表者は、「MTDLP事例発表会発表資料変更のおしらせ」「MTDLP事例発表における発表者の皆様へ」をよく読み、資料の作成および事前準備をお願いします。発表に関しては「MTDLP事例発表会に向けたチェックリスト」を必ず参考にして準備をお願いします。 \nMTDLP事例発表会発表資料変更のおしらせ \nMTDLP事例発表における発表者の皆様へ \nMTDLP事例発表会に向けたチェックリスト \n日時\n2月20日（木曜日）　19：00 ～ 21：00（受付 18：45～） \n会　場\nオンライン（Zoom）\n※受付完了者には研修日の３日前（平日のみ）までPeatixメッセージからミーティング情報を配信致します。 \n→運営都合により2/18（火）にミーティング情報配信いたします。ご迷惑をおかけしますが、今しばらくお待ちください。 \n→配信完了しました \n講　師\n松本宏昭先生　末吉謙斗先生 \n定　員\n発表者　3名（生涯ポイント２ポイント）\n聴講者　20名（生涯ポイント２ポイント） \n受講費\n1\,000円（※別途Peatix利用料150円が加算されます） \n申込条件\n1）発表者・聴講者ともにOT協会員・都道府県士会の両方に入会していること\n2）発表者は、MTDLP基礎研修（平成28年度～現職者選択研修MTDLP）修了者であること\n※申込条件がある場合、申込の時点でその会員資格を有する必要があります\n※条件を満たしていない方からの申し込みは事務局にてキャンセル手続きを自動的に行いますので予めご了承ください。\n（兵庫県士会員か否かの確認はマイページへのログインの可否で判断できます。不明な人はまずはマイページログインができるか試してください。） \n受講条件\nオンラインでの研修会に参加される方は、参加条件・準備事項・個人情報保護について以下の資料を必ずご確認ください。 \nオンライン研修会に参加される皆さまへ \nオンライン研修における研修情報および個人情報保護について \n締め切り\n発表申し込み：2月13日（木）　13時\n聴講申し込み：2月13日（木）　13時\n事例発表資料締切：2月15日（土） \nその他\n・聴講者は、MTDLP研修の要件を満たしません。\n・オンラインでの開催となりますので、発表者の方は当日の資料印刷は必要ありません。\n・締め切り後、研修会担当者から、発表者への連絡が必要な場合は「マイページ 個人用メールアドレス」を使用させていただきます。ご了承下さい。\n・事務局での自動キャンセル扱いとなった方には「ミーティング情報配信メッセージ」が届きません。また自動キャンセル時に返金手続きも完了しています \n問い合わせ先\n甲南加古川病院　リハビリテーション部　柏木　079-438-0621 \n資料送付先\n \n申し込み受付\n※発表者は定員に達したため受付を終了しています。\n受付期日を過ぎたため終了しています。
URL:https://ot-hyogo.or.jp/file/event/3555
LOCATION:オンライン(Zoom)
CATEGORIES:兵庫県作業療法士会主催の研修
END:VEVENT
END:VCALENDAR