BEGIN:VCALENDAR
VERSION:2.0
PRODID:-//兵庫県作業療法士会　研修案内 - ECPv6.7.0//NONSGML v1.0//EN
CALSCALE:GREGORIAN
METHOD:PUBLISH
X-WR-CALNAME:兵庫県作業療法士会　研修案内
X-ORIGINAL-URL:https://ot-hyogo.or.jp/file
X-WR-CALDESC:兵庫県作業療法士会　研修案内 のイベント
REFRESH-INTERVAL;VALUE=DURATION:PT1H
X-Robots-Tag:noindex
X-PUBLISHED-TTL:PT1H
BEGIN:VTIMEZONE
TZID:Asia/Tokyo
BEGIN:STANDARD
TZOFFSETFROM:+0900
TZOFFSETTO:+0900
TZNAME:JST
DTSTART:20250101T000000
END:STANDARD
END:VTIMEZONE
BEGIN:VEVENT
DTSTART;TZID=Asia/Tokyo:20250223T100000
DTEND;TZID=Asia/Tokyo:20250223T150000
DTSTAMP:20260422T161821
CREATED:20241015T053443Z
LAST-MODIFIED:20250220T051146Z
UID:3253-1740304800-1740322800@ot-hyogo.or.jp
SUMMARY:536「阪神北・南ブロック 第２回 現職者共通研修 事例検討・事例報告」締切(発表)11.20 (検討/聴講)2.5
DESCRIPTION:2月20日（木）14時頃に研修に関するミーティング情報をPeatixから送信しました（以下参照) \n536 阪神北南ブロック現職共通研修事例検討・事例報告（2/23）受付完了者へメールを送信しました \nタイトル\n阪神北・南ブロック　第２回　現職者共通研修 事例検討・事例報告 \n日　時\n2月23日（日曜日）　10：00　～　15：00　（受付9：30～）\n※終了時間は参加人数によって変動する可能性があります。 \n会　場\nオンライン（Zoom）\n※受付完了者に研修日の３日前（平日のみ）までにPeatixメッセージからミーティングを配信します \n定　員\n発表者　18名　（生涯教育ポイント２P）\n検討者　制限なし　（生涯教育ポイント２P）\n聴講者　制限なし　（生涯教育ポイント非該当） \n受講費\n発表者及び検討者　1\,000円\n同時履修者　　　　2\,000円\n※別途Peatix利用料150円が加算されます\n※聴講者は受講費不要です \n申込条件\n発表者；兵庫県作業療法士会会員であること\n検討者；OT協会員であること、当日の発表者への質疑が必須となります\n聴講者；特になし \n※申込条件がある場合、申込の時点でその会員資格を有する必要があります\n兵庫県士会員として申し込むには申込の時点で兵庫県作業療法士会会員である必要があります\n※条件を満たしていない方からの申し込みは事務局にてキャンセル手続きを自動的に行いますので予めご了承ください。\n（会員か否かの確認はマイページへのログインの可否で判断できます。不明な人はまずはマイページログインができるか試してください。） \n受講条件\nオンラインでの研修会に参加される方は、参加条件・準備事項・個人情報保護について以下の資料を必ずご確認ください。 \nオンライン研修会に参加される皆さまへ \nオンライン研修における研修情報および個人情報保護について \n締め切り\n発表者　締め切り　11月20日（水）13時\n検討者　締め切り　2月5日（水）13時\n聴講者　締め切り　2月5日（水）13時 \n抄録・スライドの提出について\n抄録　　…　令和7年1月15日（水）午後13時まで（※Wordでの提出）\nスライド…　令和7年2月12日（水）午後13時まで（※PDFでの提出）\n※抄録・スライドは下記の問い合わせ先のe-mailへ提出をお願い致します。\n※抄録・スライドの書式等の詳細は発表者の申し込み締め切り後にご連絡致します。 \n事例報告指導者について\n・ 発表者には受付時に「事例報告指導者の情報」を入力していただきます。氏名、OT協会会員番号、所属先を確認の上、申し込みをお願いします。\n・ 事例報告指導者は日本作業療法士協会会員かつ都道府県作業療法士会会員であり、生涯教育制度基礎研修修了者が条件となります\n・ 事例報告指導者が不在の場合、下記の問い合わせ先e-mailへその旨をご連絡ください。ブロックより事例報告指導者の紹介を致します。\n・ 事例報告指導者の報告会当日の出席につきましては、可能な限りご出席頂きますようお願いします。ご参加いただく場合は検討者または聴講者の申し込みをお願いします。 \nその他\n事務局での自動キャンセル扱いとなった方には「ミーティング情報配信メッセージ」が届きません。また自動キャンセル時に返金手続きも完了しています \n問い合わせ先\n西宮協立リハビリテーション病院\nTEL　079-875-3000\ne-mail　 \nリハビリテーション部　作業療法科　眞木浩希 \n申し込み受付\n受付期日を過ぎたため終了しています
URL:https://ot-hyogo.or.jp/file/event/3253
LOCATION:オンライン(Zoom)
CATEGORIES:兵庫県作業療法士会主催の研修
END:VEVENT
END:VCALENDAR