BEGIN:VCALENDAR
VERSION:2.0
PRODID:-//兵庫県作業療法士会　研修案内 - ECPv6.7.0//NONSGML v1.0//EN
CALSCALE:GREGORIAN
METHOD:PUBLISH
X-WR-CALNAME:兵庫県作業療法士会　研修案内
X-ORIGINAL-URL:https://ot-hyogo.or.jp/file
X-WR-CALDESC:兵庫県作業療法士会　研修案内 のイベント
REFRESH-INTERVAL;VALUE=DURATION:PT1H
X-Robots-Tag:noindex
X-PUBLISHED-TTL:PT1H
BEGIN:VTIMEZONE
TZID:Asia/Tokyo
BEGIN:STANDARD
TZOFFSETFROM:+0900
TZOFFSETTO:+0900
TZNAME:JST
DTSTART:20250101T000000
END:STANDARD
END:VTIMEZONE
BEGIN:VEVENT
DTSTART;TZID=Asia/Tokyo:20250523T193000
DTEND;TZID=Asia/Tokyo:20250523T210000
DTSTAMP:20260422T115348
CREATED:20250507T112155Z
LAST-MODIFIED:20250507T112652Z
UID:3801-1748028600-1748034000@ot-hyogo.or.jp
SUMMARY:「神戸ブロック勉強会（小児分野）」締切5.22
DESCRIPTION:タイトル\n神戸ブロック勉強会（小児分野） \n内容\n「子ども達の生活の場である学校や園生活での作業療法士の役割とは」 \n日時\n5月23日（金）　19：30 ～ 21：00（入室開始19:15〜） \n会場\nオンライン開催（zoom） \n講師\n吉井　雄志　先生\n(こども発達支援センター　ポレポレの木) \n定　員\n人数問わず \n費用\n無料 \n申込み方法\nメールにて以下の内容をお送りください。\n①氏名　②所属　③職種　④経験年数 \n申込み／問合せ：（市山） \n締め切り\n5月22日（木）13時
URL:https://ot-hyogo.or.jp/file/event/3801
LOCATION:オンライン(Zoom)
CATEGORIES:兵庫県作業療法士会主催の研修
END:VEVENT
END:VCALENDAR