BEGIN:VCALENDAR
VERSION:2.0
PRODID:-//兵庫県作業療法士会　研修案内 - ECPv6.7.0//NONSGML v1.0//EN
CALSCALE:GREGORIAN
METHOD:PUBLISH
X-ORIGINAL-URL:https://ot-hyogo.or.jp/file
X-WR-CALDESC:兵庫県作業療法士会　研修案内 のイベント
REFRESH-INTERVAL;VALUE=DURATION:PT1H
X-Robots-Tag:noindex
X-PUBLISHED-TTL:PT1H
BEGIN:VTIMEZONE
TZID:Asia/Tokyo
BEGIN:STANDARD
TZOFFSETFROM:+0900
TZOFFSETTO:+0900
TZNAME:JST
DTSTART:20250101T000000
END:STANDARD
END:VTIMEZONE
BEGIN:VEVENT
DTSTART;TZID=Asia/Tokyo:20250620T190000
DTEND;TZID=Asia/Tokyo:20250620T203000
DTSTAMP:20260422T095605
CREATED:20250512T040219Z
LAST-MODIFIED:20250512T134419Z
UID:3820-1750446000-1750451400@ot-hyogo.or.jp
SUMMARY:第1回ブロック勉強会　「脳卒中上肢麻痺に対するスプリント療法　導入編」締切なし
DESCRIPTION:●研修会名 \n第1回ブロック勉強会　「脳卒中上肢麻痺に対するスプリント療法　導入編」 \n●内容\n脳卒中上肢麻痺に対するスプリントの種類、作成にあたっての準備や適応について。また、当院で行われているショックウェーブ療法についても実演を交えて講義いただきます。\n※主に中播磨ブロック員が対象の勉強会となっておりますが、ブロック員でない方もご参加可能でございます。 \n●日時\n2025年6月20日（金）　19：00〜20：30（受付：18：30〜） \n●会場\n石川病院　せせらぎ保育所　２階 \n●講師\n石原　翔先生（石川病院） \n●定員\n20名程度 \n●会場整理費\n無料 \n●申し込み方法\n当日会場にて受け付けいたしますので事前申し込みは不要です。 \n●問い合わせ先
URL:https://ot-hyogo.or.jp/file/event/3820
LOCATION:石川病院　せせらぎ保育所　２階
CATEGORIES:兵庫県作業療法士会主催の研修
END:VEVENT
END:VCALENDAR