BEGIN:VCALENDAR
VERSION:2.0
PRODID:-//兵庫県作業療法士会　研修案内 - ECPv6.7.0//NONSGML v1.0//EN
CALSCALE:GREGORIAN
METHOD:PUBLISH
X-ORIGINAL-URL:https://ot-hyogo.or.jp/file
X-WR-CALDESC:兵庫県作業療法士会　研修案内 のイベント
REFRESH-INTERVAL;VALUE=DURATION:PT1H
X-Robots-Tag:noindex
X-PUBLISHED-TTL:PT1H
BEGIN:VTIMEZONE
TZID:Asia/Tokyo
BEGIN:STANDARD
TZOFFSETFROM:+0900
TZOFFSETTO:+0900
TZNAME:JST
DTSTART:20250101T000000
END:STANDARD
END:VTIMEZONE
BEGIN:VEVENT
DTSTART;TZID=Asia/Tokyo:20250706T092000
DTEND;TZID=Asia/Tokyo:20250706T171000
DTSTAMP:20260422T080849
CREATED:20250528T063445Z
LAST-MODIFIED:20250703T033001Z
UID:3862-1751793600-1751821800@ot-hyogo.or.jp
SUMMARY:560「教育部　第1回現職者共通研修」締切6.30
DESCRIPTION:7月6日（木）12時15分前後に研修に関するミーティング情報をPeatixから送信しました（以下参照） \n560 教育部第１回現職共通研修（7/6）受付完了者へメールを送信しました \nタイトル\n教育部　第1回現職者共通研修 \n内　容\n  \n\n\n\n① 作業療法生涯教育概論\n9：20～10：50\n\n\n② 作業療法における協業・後輩育成\n11：10～12：40\n\n\n③ 職業倫理\n13：50～15：20\n\n\n④ 保健・医療・福祉と地域支援\n15：40～17：10\n\n\n\nー\n①～④の講義を別々でも申し込み可能\nー \n日　時\n2025年7月6日（日）　9：20 ～ 17：10（受付 9：00～） \n会　場\nオンライン（Zoom）\n※受付完了者には研修日の３日前（平日のみ）までPeatixメッセージからミーティング情報を配信致します。 \n講　師\n① 末吉謙斗 先生（明石仁十病院）\n② 松本宏明 先生（江井島病院）\n③ 佐野恭子 先生（宝塚リハビリテーション病院）\n④ 宮崎宏興 先生（特定非営利活動法人 いねいぶる） \n定　員\n100名 \n生涯教育ポイント\n☒　２P付与されます \n申込み条件と受講費\n  \n\n\n\n☒　兵庫県士会員\n1講義　１，０００円\n\n\n☒　OT協会及び他府県士会の両方に入会しているOT\n兵庫県士会員と同額\n\n\n\nー\n※上記以外のOTは受講できません\n※有料の場合、すべての受講費に別途Peatix利用料が加算されます\n※申込条件がある場合、申込の時点でその会員資格を有する必要があります\n※条件を満たしていない方からの申し込みは事務局にてキャンセル手続きを自動的に行いますので予めご了承ください。\n（兵庫県士会員か否かの確認はマイページへのログインの可否で判断できます。不明な人はまずはマイページログインができるか試してください。） \n受講条件\nオンラインでの研修会に参加される方は、参加条件・準備事項・個人情報保護について以下の資料を必ずご確認ください。 \nオンライン研修会に参加される皆さまへ\nオンライン研修における研修情報および個人情報保護について \n締め切り\n6月30日（月）13時 \nその他\n1）申し込み方法について\n① 受講講義数のチケットを選択し進む\n② 受講する講義は申込者情報登録時画面で選択する \n2）事務局での自動キャンセル扱いとなった方には「ミーティング情報配信メッセージ」が届きません。\nまた自動キャンセル時に返金手続きも完了しています。 \n問い合わせ先\n西村優子　神戸大学医学部附属病院（TEL：078-382-6065　FAX：078-382-6079） \n申し込み受付\n受付は終了しています
URL:https://ot-hyogo.or.jp/file/event/3862
LOCATION:オンライン(Zoom)
CATEGORIES:兵庫県作業療法士会主催の研修
END:VEVENT
END:VCALENDAR