BEGIN:VCALENDAR
VERSION:2.0
PRODID:-//兵庫県作業療法士会　研修案内 - ECPv6.7.0//NONSGML v1.0//EN
CALSCALE:GREGORIAN
METHOD:PUBLISH
X-WR-CALNAME:兵庫県作業療法士会　研修案内
X-ORIGINAL-URL:https://ot-hyogo.or.jp/file
X-WR-CALDESC:兵庫県作業療法士会　研修案内 のイベント
REFRESH-INTERVAL;VALUE=DURATION:PT1H
X-Robots-Tag:noindex
X-PUBLISHED-TTL:PT1H
BEGIN:VTIMEZONE
TZID:Asia/Tokyo
BEGIN:STANDARD
TZOFFSETFROM:+0900
TZOFFSETTO:+0900
TZNAME:JST
DTSTART:20250101T000000
END:STANDARD
END:VTIMEZONE
BEGIN:VEVENT
DTSTART;TZID=Asia/Tokyo:20250711T183000
DTEND;TZID=Asia/Tokyo:20250711T203000
DTSTAMP:20260422T080828
CREATED:20250624T120204Z
LAST-MODIFIED:20250624T120403Z
UID:3987-1752258600-1752265800@ot-hyogo.or.jp
SUMMARY:「神戸ブロック勉強会（神戸東・阪神地区精神科）」締切7.10
DESCRIPTION:●研修会名\n神戸ブロック勉強会（神戸東・阪神地区精神科） \n●テーマ\n「各病院の情報交換会」 \n●内容\nそれぞれの病院ごとで、課題や情報共有したい事項をお持ち寄り相談します。\nブロック関係なく、お誘いあわせの上、ご参加ください。 \n●日時\n2025年７月11日（金）\n時間：18：30～20：30 \n●会場\n兵庫県立ひょうごこころの医療センター \n●講師\nなし \n●定員\n20名 \n●会場整理費\n無料 \n●申し込み方法\nメールにて、以下の内容をお送りください。\n※タイトルは「東神戸・阪神地区精神科勉強会の申し込みについて」でお願いいたします。\n①氏名\n②所属\n③職種\n④経験年数 \n●申し込み先\n \n●問い合わせ先\nありまこうげんホスピタル\n山西慧治 \n●締め切り\n2025年7月10日（木）17：00
URL:https://ot-hyogo.or.jp/file/event/3987
LOCATION:兵庫県立ひょうごこころの医療センター
CATEGORIES:兵庫県作業療法士会主催の研修
END:VEVENT
BEGIN:VEVENT
DTSTART;TZID=Asia/Tokyo:20250711T190000
DTEND;TZID=Asia/Tokyo:20250711T203000
DTSTAMP:20260422T080828
CREATED:20250617T045832Z
LAST-MODIFIED:20250617T050933Z
UID:3942-1752260400-1752265800@ot-hyogo.or.jp
SUMMARY:「ケアマネとリハ職の情報共有の練習会（中播磨ブロック）」締切7.4
DESCRIPTION:タイトル\nケアマネとリハ職の情報共有の練習会（中播磨ブロック） \n内容\nケアマネジャーとリハ職がグループワークで、一緒にリハビリテーション計画書の情報を整理し、どのようにケアプラン作成に活用できるかを検討する \n日時\n７月１１日（金曜日）　１９：００ ～ ２０：３０（受付 １８：３０～） \n会場\n姫路市総合福祉会館　5階　第1・2会議室 \n定　員\n７５名 \n生涯教育ポイント\n☒　付与対象外です \n申込み条件と受講費\n\n\n\n☒　兵庫県士会員\n０円\n\n\n☒　OT協会及び他府県士会の両方に入会しているOT\n０円\n\n\n☒　OT協会のみ入会しているOT\n０円\n\n\n☒　OT協会休会中のOT\n０円\n\n\n\nー\n※上記以外のOTは受講できません \n締め切り\n７月４日（金） \n申し込み方法および申し込み先\n詳しくはチラシをご確認ください。 \n　チラシのダウンロードはこちら \n問い合わせ先\n姫路市在宅医療･介護連携支援センター（受託者：姫路市医師会）\nTEL：079-295-3330\nE-MAIL：
URL:https://ot-hyogo.or.jp/file/event/3942
LOCATION:姫路市総合福祉会館　5階　第1・2会議室
CATEGORIES:兵庫県作業療法士会主催の研修
END:VEVENT
END:VCALENDAR