BEGIN:VCALENDAR
VERSION:2.0
PRODID:-//兵庫県作業療法士会　研修案内 - ECPv6.7.0//NONSGML v1.0//EN
CALSCALE:GREGORIAN
METHOD:PUBLISH
X-WR-CALNAME:兵庫県作業療法士会　研修案内
X-ORIGINAL-URL:https://ot-hyogo.or.jp/file
X-WR-CALDESC:兵庫県作業療法士会　研修案内 のイベント
REFRESH-INTERVAL;VALUE=DURATION:PT1H
X-Robots-Tag:noindex
X-PUBLISHED-TTL:PT1H
BEGIN:VTIMEZONE
TZID:Asia/Tokyo
BEGIN:STANDARD
TZOFFSETFROM:+0900
TZOFFSETTO:+0900
TZNAME:JST
DTSTART:20250101T000000
END:STANDARD
END:VTIMEZONE
BEGIN:VEVENT
DTSTART;TZID=Asia/Tokyo:20250713T093000
DTEND;TZID=Asia/Tokyo:20250713T170000
DTSTAMP:20260422T080827
CREATED:20250605T102007Z
LAST-MODIFIED:20250710T031914Z
UID:3888-1752399000-1752426000@ot-hyogo.or.jp
SUMMARY:561「第1回現職者選択研修（第1回MTDLP基礎研修会）（教育部）」締切7.7
DESCRIPTION:7月10日（木）12時15分頃に研修に関するミーティング情報をPeatixから送信しました（以下参照） \n561 教育部　第１回現職者選択研修（第１回MTDLP基礎研修）（7/13）受付完了者へメールを送信しました \nタイトル\n第1回現職者選択研修（第1回MTDLP基礎研修会）（教育部） \n内　容\n生活行為向上マネジメント（MTDLP）概論＋演習研修 \n日　時\n7月13日　9：30 ～ 17：00（受付 9：00～） \n会　場\nオンライン（Zoom）\n※受付完了者には研修日の３日前（平日のみ）までPeatixメッセージからミーティング情報を配信致します。 \n講　師\n①小南　陽平　先生　（宝塚第一病院） \n②加茂　 永梨佳　先生（神戸大学大学院保健学研究科） \n定　員\n80名 \n生涯教育ポイント\n☒　２P付与されます \n申込み条件と受講費\n\n\n\n☒　兵庫県士会員\n4\,000円\n\n\n☒　OT協会及び他府県士会の両方に入会しているOT\n兵庫県士会員と同額\n\n\n\n–\n※上記以外のOTは受講できません\n※有料の場合、すべての受講費に別途Peatix利用料が加算されます\n※申込条件がある場合、申込の時点でその会員資格を有する必要があります\n※条件を満たしていない方からの申し込みは事務局にてキャンセル手続きを自動的に行いますので予めご了承ください。\n（兵庫県士会員か否かの確認はマイページへのログインの可否で判断できます。不明な人はまずはマイページログインができるか試してください。）\n \n受講条件\nオンラインでの研修会に参加される方は、参加条件・準備事項・個人情報保護について以下の資料を必ずご確認ください。 \nオンライン研修会に参加される皆さまへ \nオンライン研修における研修情報および個人情報保護について \n締め切り\n7月7日（月）13時 \nその他\n事務局での自動キャンセル扱いとなった方には「ミーティング情報配信メッセージ」が届きません。\nまた自動キャンセル時に返金手続きも完了しています。 \n問い合わせ先\n078-754-8700\n順心神戸病院　　浦田　康平 \n申し込み受付\n受付は終了しました
URL:https://ot-hyogo.or.jp/file/event/3888
LOCATION:オンライン(Zoom)
CATEGORIES:兵庫県作業療法士会主催の研修
END:VEVENT
END:VCALENDAR