BEGIN:VCALENDAR
VERSION:2.0
PRODID:-//兵庫県作業療法士会　研修案内 - ECPv6.7.0//NONSGML v1.0//EN
CALSCALE:GREGORIAN
METHOD:PUBLISH
X-ORIGINAL-URL:https://ot-hyogo.or.jp/file
X-WR-CALDESC:兵庫県作業療法士会　研修案内 のイベント
REFRESH-INTERVAL;VALUE=DURATION:PT1H
X-Robots-Tag:noindex
X-PUBLISHED-TTL:PT1H
BEGIN:VTIMEZONE
TZID:Asia/Tokyo
BEGIN:STANDARD
TZOFFSETFROM:+0900
TZOFFSETTO:+0900
TZNAME:JST
DTSTART:20250101T000000
END:STANDARD
END:VTIMEZONE
BEGIN:VEVENT
DTSTART;TZID=Asia/Tokyo:20250912T190000
DTEND;TZID=Asia/Tokyo:20250912T210000
DTSTAMP:20260422T050919
CREATED:20250806T020537Z
LAST-MODIFIED:20250909T032058Z
UID:4130-1757703600-1757710800@ot-hyogo.or.jp
SUMMARY:574「脳卒中のリハビリテーション　～座位・上肢リーチの機能評価と支援のポイント～」締切9.4
DESCRIPTION:9月9日（火）12時15分頃に研修に関するミーティング情報をPeatixから送信しました（以下参照） \n574 第1回西播磨ブロック研修会「脳卒中のリハビリテーション　～座位・上肢リーチの機能評価と支援のポイント～」（9/12）受付完了者へメールを送信しました \n  \nタイトル\n第1回西播磨ブロック研修会\n「脳卒中のリハビリテーション　～座位・上肢リーチの機能評価と支援のポイント～」 \n内容\n寝返り・座位・上肢リーチ動作の機能評価と支援について、講義を中陰に実技を含めた構成で予定しています。本年度のブロック研修会では当日資料のちょい見せをしていますので参考にしてください。興味のある方、経験の浅い方の参加を歓迎します。 \n日時\n9月12日（金曜日）　19：00～21：00（受付18：30～） \n会場\nはくほう会医療専門学校\n※使用教室は当日張り紙にて案内します。 \n講師\n竹林　修身　先生（半田中央病院）\n渡部　静　先生（はくほう会医療専門学校赤穂校） \n参考資料\n　当日資料の一部です \n定　員\n20名\n※受付完了者には研修日の３日前（平日のみ）までPeatixメッセージから受講に関するお知らせを配信致します。 \n生涯教育ポイント\n☒　２P付与されます \n申込み条件と受講費\n  \n\n\n\n☒　兵庫県士会員\n１，０００円\n\n\n☒　OT協会及び他府県士会の両方に入会しているOT\n兵庫県士会員と同額\n\n\n☒　OT協会のみ入会しているOT\n兵庫県士会員の倍額\n\n\n\nー\n※上記以外のOTは受講できません\n※有料の場合、すべての受講費に別途Peatix利用料が加算されます\n※申込条件がある場合、申込の時点でその会員資格を有する必要があります\n※条件を満たしていない方からの申し込みは事務局にてキャンセル手続きを自動的に行いますので予めご了承ください。\n（兵庫県士会員か否かの確認はマイページへのログインの可否で判断できます。不明な人はまずはマイページログインができるか試してください。） \n受講条件\n9月4日（木）13時 \nその他\n事務局での自動キャンセル扱いとなった方には「ミーティング情報配信メッセージ」が届きません。\nまた自動キャンセル時に返金手続きも完了しています \n問い合わせ先\n岡本　涼太（IHI播磨病院）  \n申し込み受付\n以下のサイトからお願いします。\nhttps://peatix.com/event/4522438/view
URL:https://ot-hyogo.or.jp/file/event/4130
LOCATION:はくほう会医療専門学校
CATEGORIES:兵庫県作業療法士会主催の研修
END:VEVENT
END:VCALENDAR