BEGIN:VCALENDAR
VERSION:2.0
PRODID:-//兵庫県作業療法士会　研修案内 - ECPv6.7.0//NONSGML v1.0//EN
CALSCALE:GREGORIAN
METHOD:PUBLISH
X-ORIGINAL-URL:https://ot-hyogo.or.jp/file
X-WR-CALDESC:兵庫県作業療法士会　研修案内 のイベント
REFRESH-INTERVAL;VALUE=DURATION:PT1H
X-Robots-Tag:noindex
X-PUBLISHED-TTL:PT1H
BEGIN:VTIMEZONE
TZID:Asia/Tokyo
BEGIN:STANDARD
TZOFFSETFROM:+0900
TZOFFSETTO:+0900
TZNAME:JST
DTSTART:20250101T000000
END:STANDARD
END:VTIMEZONE
BEGIN:VEVENT
DTSTART;TZID=Asia/Tokyo:20250922T190000
DTEND;TZID=Asia/Tokyo:20250922T210000
DTSTAMP:20260422T050920
CREATED:20250901T104748Z
LAST-MODIFIED:20250919T031703Z
UID:4210-1758567600-1758574800@ot-hyogo.or.jp
SUMMARY:578「作業（アクティビティ）のすゝめ」締切9.16
DESCRIPTION:9月19日（金）12時10分頃に研修に関するミーティング情報をPeatixから送信しました（以下参照） \n578　神戸ブロック研修会　「作業（アクテビティ）のすゝめ」（9/22）受付完了者へメールを送信しました \nタイトル\n作業（アクティビティ）のすゝめ \n内容\n作業療法の「作業」とは？　明日から取り組める、「手段としての作業」を用いた機能的リハビリ、考えてみませんか。実践的に折り紙を使ったワークシェアも行います。 \n日時\n令和7年9月22日（月曜日）　19：00 ～ 21：00（受付18：45～） \n会場\n本山リハビリテーション病院　5階リハビリ室 \n講師\n本山リハビリテーション病院　大西留美氏 \n定　員\n30名\n※受付完了者には研修日の３日前（平日のみ）までPeatixメッセージから受講に関するお知らせを配信致します。 \n生涯教育ポイント\n☑︎ 2P付与されます \n申込み条件と受講費\n  \n\n\n\n兵庫県士会員\n１，０００円\n\n\nOT協会及び他府県士会の両方に入会しているOT\n兵庫県士会員と同額\n\n\nOT協会のみ入会しているOT\n兵庫県士会員と倍額\n\n\n\nー\n※上記以外のOTは受講できません\n※有料の場合、すべての受講費に別途Peatix利用料が加算されます\n※申込条件がある場合、申込の時点でその会員資格を有する必要があります\n※条件を満たしていない方からの申し込みは事務局にてキャンセル手続きを自動的に行いますので予めご了承ください。\n（兵庫県士会員か否かの確認はマイページへのログインの可否で判断できます。不明な人はまずはマイページログインができるか試してください。） \n締め切り\n9月16日（火）13時 \nその他\n事務局での自動キャンセル扱いとなった方には「ミーティング情報配信メッセージ」が届きません。\nまた自動キャンセル時に返金手続きも完了しています \n問い合わせ先\n雑喉（ざこう）洋平　Mail： \n申し込み受付\n以下のサイトからお願いします。\n申し込み受付は終了しました
URL:https://ot-hyogo.or.jp/file/event/4210
LOCATION:本山リハビリテーション病院
CATEGORIES:兵庫県作業療法士会主催の研修
END:VEVENT
END:VCALENDAR