BEGIN:VCALENDAR
VERSION:2.0
PRODID:-//兵庫県作業療法士会　研修案内 - ECPv6.7.0//NONSGML v1.0//EN
CALSCALE:GREGORIAN
METHOD:PUBLISH
X-ORIGINAL-URL:https://ot-hyogo.or.jp/file
X-WR-CALDESC:兵庫県作業療法士会　研修案内 のイベント
REFRESH-INTERVAL;VALUE=DURATION:PT1H
X-Robots-Tag:noindex
X-PUBLISHED-TTL:PT1H
BEGIN:VTIMEZONE
TZID:Asia/Tokyo
BEGIN:STANDARD
TZOFFSETFROM:+0900
TZOFFSETTO:+0900
TZNAME:JST
DTSTART:20250101T000000
END:STANDARD
END:VTIMEZONE
BEGIN:VEVENT
DTSTART;TZID=Asia/Tokyo:20250925T190000
DTEND;TZID=Asia/Tokyo:20250925T203000
DTSTAMP:20260422T050920
CREATED:20250617T052106Z
LAST-MODIFIED:20250922T030652Z
UID:3955-1758826800-1758832200@ot-hyogo.or.jp
SUMMARY:564「学術推進部主催　学術研修会」締切9.18
DESCRIPTION:9月22日（月）12時05分頃に研修に関するミーティング情報をPeatixから送信しました（以下参照） \n564　学術推進部研修会　（9/25）受付完了者へメールを送信しました \nタイトル\n学術推進部主催　学術研修会 \n内　容\n新人・中堅OT必見！アクセプト（掲載）を目指す“事例報告”の書き方 \n日　時\n9月25日　19：00 ～ 20：30（受付 18：30～） \n会　場\nオンライン（Zoom）\n※受付完了者には研修日の３日前（平日のみ）までPeatixメッセージからミーティング情報を配信致します。 \n講　師\n小川真寛先生（神戸学院大学教授） \n定　員\nなし \n生涯教育ポイント\n☒　２P付与されます \n申込み条件と受講費\n  \n\n\n\n☒　兵庫県士会員\n１，０００円\n\n\n\nー\n※上記以外のOTは受講できません\n※有料の場合、すべての受講費に別途Peatix利用料が加算されます\n※申込条件がある場合、申込の時点でその会員資格を有する必要があります\n※条件を満たしていない方からの申し込みは事務局にてキャンセル手続きを自動的に行いますので予めご了承ください。\n（兵庫県士会員か否かの確認はマイページへのログインの可否で判断できます。不明な人はまずはマイページログインができるか試してください。） \n受講条件\nオンラインでの研修会に参加される方は、参加条件・準備事項・個人情報保護について以下の資料を必ずご確認ください。 \nオンライン研修会に参加される皆さまへ\nオンライン研修における研修情報および個人情報保護について \n締め切り\n9月18日（木）13時 \nその他\n事務局での自動キャンセル扱いとなった方には「ミーティング情報配信メッセージ」が届きません。\nまた自動キャンセル時に返金手続きも完了しています。 \n問い合わせ先\n坂口雄哉　Mail:\n（画像などを設置） \nTell:078-304-3141 \n申し込み受付は終了しました
URL:https://ot-hyogo.or.jp/file/event/3955
LOCATION:オンライン(Zoom)
CATEGORIES:兵庫県作業療法士会主催の研修
END:VEVENT
END:VCALENDAR