BEGIN:VCALENDAR
VERSION:2.0
PRODID:-//兵庫県作業療法士会　研修案内 - ECPv6.7.0//NONSGML v1.0//EN
CALSCALE:GREGORIAN
METHOD:PUBLISH
X-ORIGINAL-URL:https://ot-hyogo.or.jp/file
X-WR-CALDESC:兵庫県作業療法士会　研修案内 のイベント
REFRESH-INTERVAL;VALUE=DURATION:PT1H
X-Robots-Tag:noindex
X-PUBLISHED-TTL:PT1H
BEGIN:VTIMEZONE
TZID:Asia/Tokyo
BEGIN:STANDARD
TZOFFSETFROM:+0900
TZOFFSETTO:+0900
TZNAME:JST
DTSTART:20250101T000000
END:STANDARD
END:VTIMEZONE
BEGIN:VEVENT
DTSTART;TZID=Asia/Tokyo:20251003T190000
DTEND;TZID=Asia/Tokyo:20251003T210000
DTSTAMP:20260422T034053
CREATED:20250825T130401Z
LAST-MODIFIED:20250930T041146Z
UID:4199-1759518000-1759525200@ot-hyogo.or.jp
SUMMARY:577「第2回淡路ブロック研修会」締切9.25
DESCRIPTION:9月30日（火）13時00分頃に研修に関するミーティング情報をPeatixから送信しました（以下参照）\n577　淡路ブロック第２回研修会　（10/3）受付完了者へメールを送信しました \nタイトル\n第2回淡路ブロック研修会\n「明日からの臨床が楽しくなる認知症作業療法」 \n内容\n新人時代、認知症に対して無知だったことで、多くの対象者に単なる「リハビリ」を実施しては作業療法士として苦悩してきました。今は「認知症リフレーミング（かじが勝手に作った造語）」という考え方をもって、認知症のネガティブに偏った枠組みをポジティブに変えようと日々楽しく作業療法を実践しています。今回は、認知症リフレーミングという考え方に触れつつ、明日からの臨床が楽しくなるような関わり方をお伝えできればと思います。 \n日時\n10月3日 (金曜日)　　19：00～21：00 (受付18：45～) \n会場\n洲本伊月病院 \n講師\n鍛治　実　先生（赤穂市立介護老人保健施設　老健あこう） \n定員\n30名\n※受付終完了者には研修日の3日前(平日のみ)までPeatixメッセージから受講に関するお知らせを配信いたします。 \n生涯教育ポイント\n☑︎ 2P付与されます \n申込み条件と受講費\n\n\n\n兵庫県士会員\n１，０００円\n\n\nOT協会及び他府県士会の両方に入会しているOT\n兵庫県士会員と同額\n\n\nOT協会のみ入会しているOT\n兵庫県士会員と倍額\n\n\nOT協会休会中のOT\n0円(生涯教育ポイント付与無)\n\n\n他職種（OT以外の医療職・介護職など）\n兵庫県士会員と半額\n\n\n一般\n0円\n\n\n\nー\n※上記以外のOTは受講できません\n※有料の場合、すべての受講費に別途Peatix利用料が加算されます\n※申込条件がある場合、申込の時点でその会員資格を有する必要があります\n※条件を満たしていない方からの申し込みは事務局にてキャンセル手続きを自動的に行いますので予めご了承ください。\n（兵庫県士会員か否かの確認はマイページへのログインの可否で判断できます。不明な人はまずはマイページログインができるか試してください。） \n締め切り\n9月25日(木) 13時 \nその他\n事務局での自動キャンセル扱いとなった方には「ミーティング情報配信メッセージ」が届きません。\nまた自動キャンセル時に返金手続きも完了しています。 \n問い合わせ先\n泉昇太(洲本伊月病院)　 \n申し込み受付\n以下のサイトからお願いします。 \n受付終了致しました。
URL:https://ot-hyogo.or.jp/file/event/4199
LOCATION:洲本伊月病院
CATEGORIES:兵庫県作業療法士会主催の研修
END:VEVENT
END:VCALENDAR