BEGIN:VCALENDAR
VERSION:2.0
PRODID:-//兵庫県作業療法士会　研修案内 - ECPv6.7.0//NONSGML v1.0//EN
CALSCALE:GREGORIAN
METHOD:PUBLISH
X-ORIGINAL-URL:https://ot-hyogo.or.jp/file
X-WR-CALDESC:兵庫県作業療法士会　研修案内 のイベント
REFRESH-INTERVAL;VALUE=DURATION:PT1H
X-Robots-Tag:noindex
X-PUBLISHED-TTL:PT1H
BEGIN:VTIMEZONE
TZID:Asia/Tokyo
BEGIN:STANDARD
TZOFFSETFROM:+0900
TZOFFSETTO:+0900
TZNAME:JST
DTSTART:20250101T000000
END:STANDARD
END:VTIMEZONE
BEGIN:VEVENT
DTSTART;TZID=Asia/Tokyo:20251024T183000
DTEND;TZID=Asia/Tokyo:20251024T203000
DTSTAMP:20260422T033207
CREATED:20251007T074532Z
LAST-MODIFIED:20251007T075238Z
UID:4362-1761330600-1761337800@ot-hyogo.or.jp
SUMMARY:「神戸ブロック勉強会（神戸東・阪神地区精神科）」締切10.23
DESCRIPTION:●勉強会名\n神戸ブロック勉強会（神戸東・阪神地区精神科） \n●テーマ\n「事例検討会」 \n●内容\n精神科の事例を通じてのグループワークをします。\nブロック関係なく、お誘いあわせの上、ご参加ください。 \n●日時\n2025年10月24日（金）\n時間：18：30～20：30 \n●会場\n向陽病院 \n●講師\nなし \n●定員\n20名 \n●会場整理費\n無料 \n●申し込み方法\nメールにて、以下の内容をお送りください。\n※タイトルは「東神戸・阪神地区精神科勉強会の申し込みについて」でお願いいたします。\n①氏名\n②所属\n③職種\n④経験年数 \n●申し込み先\n \n●問い合わせ先\nありまこうげんホスピタル\n山西慧治 \n●締め切り\n2025年10月23日（木）17：00
URL:https://ot-hyogo.or.jp/file/event/4362
LOCATION:向陽病院
CATEGORIES:兵庫県作業療法士会主催の研修
END:VEVENT
BEGIN:VEVENT
DTSTART;TZID=Asia/Tokyo:20251024T193000
DTEND;TZID=Asia/Tokyo:20251024T210000
DTSTAMP:20260422T033207
CREATED:20251007T074934Z
LAST-MODIFIED:20251007T075059Z
UID:4366-1761334200-1761339600@ot-hyogo.or.jp
SUMMARY:「神戸ブロック勉強会（小児分野）」締切10.23
DESCRIPTION:タイトル\n神戸ブロック勉強会（小児分野） \n内容\n重症心身障害児(者)の作業療法について考える\n〜ひだまりの実践を踏まえて〜 \n日時\n10月24日（金）　19：30～ 21：00（入室開始19:15〜） \n会場\nオンライン開催（zoom） \n講師\n中村　幸子　先生\n(神戸医療福祉センター　ひだまり) \n定員\n人数問わず \n費用\n無料 \n申込み方法\nGoogleフォームにて以下の内容をお送りください。\n①氏名　②所属　③職種　④経験年数　⑤メールアドレス \n申込み／問合せ\nhttps://docs.google.com/forms/d/1qZ-TwFAU_8Y2H5QULWytaH2K6U-uFywM91qikTttHGU/viewform?edit_requested=true \n締め切り\n10月23日（木）13時
URL:https://ot-hyogo.or.jp/file/event/4366
LOCATION:オンライン(Zoom)
CATEGORIES:兵庫県作業療法士会主催の研修
END:VEVENT
END:VCALENDAR