BEGIN:VCALENDAR
VERSION:2.0
PRODID:-//兵庫県作業療法士会　研修案内 - ECPv6.7.0//NONSGML v1.0//EN
CALSCALE:GREGORIAN
METHOD:PUBLISH
X-WR-CALNAME:兵庫県作業療法士会　研修案内
X-ORIGINAL-URL:https://ot-hyogo.or.jp/file
X-WR-CALDESC:兵庫県作業療法士会　研修案内 のイベント
REFRESH-INTERVAL;VALUE=DURATION:PT1H
X-Robots-Tag:noindex
X-PUBLISHED-TTL:PT1H
BEGIN:VTIMEZONE
TZID:Asia/Tokyo
BEGIN:STANDARD
TZOFFSETFROM:+0900
TZOFFSETTO:+0900
TZNAME:JST
DTSTART:20250101T000000
END:STANDARD
END:VTIMEZONE
BEGIN:VEVENT
DTSTART;TZID=Asia/Tokyo:20251127T190000
DTEND;TZID=Asia/Tokyo:20251127T210000
DTSTAMP:20260422T020708
CREATED:20250910T065253Z
LAST-MODIFIED:20251121T030924Z
UID:4258-1764270000-1764277200@ot-hyogo.or.jp
SUMMARY:582「精神分野作業療法委員会主催 第2回研修会」締切11.18
DESCRIPTION:11月21日（金）12時00分頃に研修に関する情報をPeatixから送信しました（以下参照）\n582 　精神分野作業療法委員会　第２回研修会「集団プログラムの工夫」（11/27）受付完了者へメールを送信しました \n上記でお知らせの締切日を11.19から11.18に修正しました（2025/10/30）\nタイトル\n「集団プログラムの工夫〜ひとり一人の主体的な参加につなげるために〜」\n精神分野作業療法委員会主催 第2回研修会 \n内　容\n今回の研修は、単なる集団プログラムの紹介ではありません。ひとり一人の主体的な参加につなげるための「事前の準備」や「仕掛け」などを紹介しながら講義していただく予定です。\n集団を治療的に実施するための「仕掛け」を一緒に学びましょう。\nぜひご参加ください。 \n日　時\n１１月２７日　１９：００ ～ ２１：００（受付 １８：４５～） \n会　場\nオンライン（Zoom）\n※受付完了者には研修日の３日前（平日のみ）までPeatixメッセージからミーティング情報を配信致します。 \n講　師\n辻 智代 先生(ひょうごこころの医療センター)\n入江 勇多 先生(向陽病院) \n定　員\n３０名 \n生涯教育ポイント\n☒　２P付与されます \n申込み条件と受講費\n  \n\n\n\n兵庫県士会員\n１，０００円\n\n\nOT協会及び他府県士会の両方に入会しているOT\n兵庫県士会員と同額\n\n\nOT協会のみ入会しているOT\n兵庫県士会員の倍額\n\n\nOT協会休会中のOT\n0円（生涯教育ポイント付与無）\n\n\n\nー\n※上記以外のOTは受講できません\n※有料の場合、すべての受講費に別途Peatix利用料が加算されます\n※申込条件がある場合、申込の時点でその会員資格を有する必要があります\n※条件を満たしていない方からの申し込みは事務局にてキャンセル手続きを自動的に行いますので予めご了承ください。\n（兵庫県士会員か否かの確認はマイページへのログインの可否で判断できます。不明な人はまずはマイページログインができるか試してください。） \n受講条件\nオンラインでの研修会に参加される方は、参加条件・準備事項・個人情報保護について以下の資料を必ずご確認ください。 \nオンライン研修会に参加される皆さまへ\nオンライン研修における研修情報および個人情報保護について \n締め切り\n１１月１8日（火）13時 \nその他\n事務局での自動キャンセル扱いとなった方には「ミーティング情報配信メッセージ」が届きません。\nまた自動キャンセル時に返金手続きも完了しています。 \n問い合わせ先\n \n申し込み受付\n受付は終了しました
URL:https://ot-hyogo.or.jp/file/event/4258
LOCATION:オンライン(Zoom)
CATEGORIES:兵庫県作業療法士会主催の研修
END:VEVENT
END:VCALENDAR