BEGIN:VCALENDAR
VERSION:2.0
PRODID:-//兵庫県作業療法士会　研修案内 - ECPv6.7.0//NONSGML v1.0//EN
CALSCALE:GREGORIAN
METHOD:PUBLISH
X-ORIGINAL-URL:https://ot-hyogo.or.jp/file
X-WR-CALDESC:兵庫県作業療法士会　研修案内 のイベント
REFRESH-INTERVAL;VALUE=DURATION:PT1H
X-Robots-Tag:noindex
X-PUBLISHED-TTL:PT1H
BEGIN:VTIMEZONE
TZID:Asia/Tokyo
BEGIN:STANDARD
TZOFFSETFROM:+0900
TZOFFSETTO:+0900
TZNAME:JST
DTSTART:20250101T000000
END:STANDARD
END:VTIMEZONE
BEGIN:VEVENT
DTSTART;TZID=Asia/Tokyo:20251210T190000
DTEND;TZID=Asia/Tokyo:20251210T210000
DTSTAMP:20260422T000851
CREATED:20251113T065238Z
LAST-MODIFIED:20251205T031619Z
UID:4498-1765393200-1765400400@ot-hyogo.or.jp
SUMMARY:598「橈骨遠位端骨折の治療手技やADL指導・疼痛アプローチ」締切12.2
DESCRIPTION:12月5日（金）12時00分頃に研修に関する情報をPeatixから送信しました（以下参照）\n598　淡路ブロック研修「第４回研修会　橈骨遠位端骨折の治療手技やADL指導・疼痛アプローチ」（12/10）受付完了者へメールを送信しました \nタイトル\n淡路ブロック第４回研修会　橈骨遠位端骨折の治療手技やADL指導・疼痛アプローチ \n内容\n橈骨遠位端骨折の治療やADL指導について知識を深める。疼痛や治療手技の技術を向上する。 \n日時\n12月10日（水曜日）　19：00 ～ 21：00（受付 18：30～） \n会場\n洲本伊月病院 \n講師\n菱沼　孝文 \n定　員\n30名\n※受付完了者には研修日の３日前（平日のみ）までPeatixメッセージから受講に関するお知らせを配信致します。 \n生涯教育ポイント\n☒　２P付与されます \n申込み条件と受講費\n\n\n\n兵庫県士会員\n１，０００円\n\n\nOT協会及び他府県士会の両方に入会しているOT\n兵庫県士会員と同額\n\n\nOT協会のみ入会しているOT\n兵庫県士会員の倍額\n\n\nOT協会休会中のOT\n0円（生涯教育ポイント付与無）\n\n\n他職種（OT以外の医療職・介護職など）\n兵庫県士会員の半額\n\n\n一般\n0円\n\n\n\nー\n※上記以外のOTは受講できません\n※有料の場合、すべての受講費に別途Peatix利用料が加算されます\n※申込条件がある場合、申込の時点でその会員資格を有する必要があります\n※条件を満たしていない方からの申し込みは事務局にてキャンセル手続きを自動的に行いますので予めご了承ください。\n（兵庫県士会員か否かの確認はマイページへのログインの可否で判断できます。不明な人はまずはマイページログインができるか試してください。） \n締め切り\n12月2日（火）13時 \nその他\n事務局での自動キャンセル扱いとなった方には「ミーティング情報配信メッセージ」が届きません。\nまた自動キャンセル時に返金手続きも完了しています \n問い合わせ先\n順心淡路病院　春木　駿佑\n \n申し込み受付\n申し込み受付終了致しました \n 
URL:https://ot-hyogo.or.jp/file/event/4498
LOCATION:洲本伊月病院
CATEGORIES:兵庫県作業療法士会主催の研修
END:VEVENT
END:VCALENDAR