BEGIN:VCALENDAR
VERSION:2.0
PRODID:-//兵庫県作業療法士会　研修案内 - ECPv6.7.0//NONSGML v1.0//EN
CALSCALE:GREGORIAN
METHOD:PUBLISH
X-WR-CALNAME:兵庫県作業療法士会　研修案内
X-ORIGINAL-URL:https://ot-hyogo.or.jp/file
X-WR-CALDESC:兵庫県作業療法士会　研修案内 のイベント
REFRESH-INTERVAL;VALUE=DURATION:PT1H
X-Robots-Tag:noindex
X-PUBLISHED-TTL:PT1H
BEGIN:VTIMEZONE
TZID:Asia/Tokyo
BEGIN:STANDARD
TZOFFSETFROM:+0900
TZOFFSETTO:+0900
TZNAME:JST
DTSTART:20250101T000000
END:STANDARD
END:VTIMEZONE
BEGIN:VEVENT
DTSTART;TZID=Asia/Tokyo:20251211T190000
DTEND;TZID=Asia/Tokyo:20251211T210000
DTSTAMP:20260422T000843
CREATED:20251104T114527Z
LAST-MODIFIED:20251208T033914Z
UID:4456-1765479600-1765486800@ot-hyogo.or.jp
SUMMARY:595　脳血管疾患に対する作業療法「弛緩型麻痺への介入」締切12.4
DESCRIPTION:12月8日（月）12時30分頃に研修に関する情報をPeatixから送信しました（以下参照）\n595　東播磨ブロック第３回研修会　「脳血管の作業療法」（12/11）受付完了者へメールを送信しました \nタイトル\n東播磨ブロック　第3回研修会 \n内　容\n脳血管疾患に対する作業療法「弛緩型麻痺への介入」 \n日　時\n12月11日（木）　１９：００ ～ ２１：００（受付 １８：0０～）受付　18:30～ \n会　場\nオンライン（Zoom）\n※受付完了者には研修日の３日前（平日のみ）までPeatixメッセージからミーティング情報を配信致します。 \n講　師\n宮本 直也 先生 \n定　員\n４０名 \n生涯教育ポイント\n☒　２P付与されます \n申込み条件と受講費\n  \n\n\n\n兵庫県士会員\n１，０００円\n\n\nOT協会及び他府県士会の両方に入会しているOT\n兵庫県士会員と同額\n\n\nOT協会のみ入会しているOT\n兵庫県士会員の倍額\n\n\nOT協会休会中のOT\n0円（生涯教育ポイント付与無）\n\n\n\nー \n※上記以外のOTは受講できません\n※有料の場合、すべての受講費に別途Peatix利用料が加算されます\n※申込条件がある場合、申込の時点でその会員資格を有する必要があります\n※条件を満たしていない方からの申し込みは事務局にてキャンセル手続きを自動的に行いますので予めご了承ください。\n（兵庫県士会員か否かの確認はマイページへのログインの可否で判断できます。不明な人はまずはマイページログインができるか試してください。） \n受講条件\nオンラインでの研修会に参加される方は、参加条件・準備事項・個人情報保護について以下の資料を必ずご確認ください。 \nオンライン研修会に参加される皆さまへ\nオンライン研修における研修情報および個人情報保護について \n締め切り\n１２月４日（木）13時 \nその他\n受付対象者に条件がある場合は記載してください\n事務局での自動キャンセル扱いとなった方には「ミーティング情報配信メッセージ」が届きません。\nまた自動キャンセル時に返金手続きも完了しています。 \n問い合わせ先\n井出麻衣 Mail: \n申し込み受付\n受付終了致しました。
URL:https://ot-hyogo.or.jp/file/event/4456
LOCATION:オンライン(Zoom)
CATEGORIES:兵庫県作業療法士会主催の研修
END:VEVENT
END:VCALENDAR