BEGIN:VCALENDAR
VERSION:2.0
PRODID:-//兵庫県作業療法士会　研修案内 - ECPv6.7.0//NONSGML v1.0//EN
CALSCALE:GREGORIAN
METHOD:PUBLISH
X-WR-CALNAME:兵庫県作業療法士会　研修案内
X-ORIGINAL-URL:https://ot-hyogo.or.jp/file
X-WR-CALDESC:兵庫県作業療法士会　研修案内 のイベント
REFRESH-INTERVAL;VALUE=DURATION:PT1H
X-Robots-Tag:noindex
X-PUBLISHED-TTL:PT1H
BEGIN:VTIMEZONE
TZID:Asia/Tokyo
BEGIN:STANDARD
TZOFFSETFROM:+0900
TZOFFSETTO:+0900
TZNAME:JST
DTSTART:20250101T000000
END:STANDARD
END:VTIMEZONE
BEGIN:VEVENT
DTSTART;TZID=Asia/Tokyo:20251214T130000
DTEND;TZID=Asia/Tokyo:20251214T170000
DTSTAMP:20260421T235931
CREATED:20251104T073324Z
LAST-MODIFIED:20251211T030314Z
UID:4448-1765717200-1765731600@ot-hyogo.or.jp
SUMMARY:594「地域貢献活動推進研修会 STEP3」締切12.8
DESCRIPTION:12月11日（木）12時00分頃に研修に関する情報をPeatixから送信しました（以下参照） \n594 地域ケア推進委員会 地域貢献活動推進研修会　ステップ3（12/14）受付完了者へメールを送信しました\n– \n　チラシのダウンロードはこちら \nタイトル\n地域ケア推進委員会 主催\n地域貢献活動推進研修会　STEP3 \n内容\n＊STEP2受講者対象（事業未経験者はOJT課題実施が必要）の研修会です。 \n地域支援事業における作業療法士の活躍が進んでおり、より一層地域への参画が求められています。\n回復期リハ病棟の施設基準に「地域貢献活動」が加わったように、地域リハと言っても、病院の作業療法士にも地域参画が必要となってきました。\n今回の研修会では、基本的な知識から実際の作業療法士の関り方を経験できるような内容で企画しています。\nまた、研修修了後にはすぐにでも事業参画していけるような繋がりを提供できるように検討中です。\n経験年数・領域を問わず、地域に関われる作業療法士を目指して、第一歩を踏み出しませんか？ \n日時\n12月14日（日曜日）　13:00　～　17:00（受付　12:45～） \n会場\nスペースアルファー三宮　大会議室（会議室No\,⑧⑨）\nhttps://spacealpha.jp/sannomiya/ \n講師\n地域ケア推進委員会の委員より \n定　員\n80名\n※受付完了者には研修日の３日前（平日のみ）までPeatixメッセージから受講に関するお知らせを配信致します。 \n生涯教育ポイント\n☒　２P付与されます \n申込み条件と受講費\n  \n\n\n\n兵庫県士会員\n１，０００円\n\n\n\nー \n※上記以外のOTは受講できません\n※有料の場合、すべての受講費に別途Peatix利用料が加算されます\n※申込条件がある場合、申込の時点でその会員資格を有する必要があります\n※条件を満たしていない方からの申し込みは事務局にてキャンセル手続きを自動的に行いますので予めご了承ください。\n（兵庫県士会員か否かの確認はマイページへのログインの可否で判断できます。不明な人はまずはマイページログインができるか試してください。） \n締め切り\n12月8日（月）13時 \nその他\n・STEP2を受講した方のみ（事業未経験者はOJT課題実施が必要）本研修会（STEP3）に申込が可能です。\n・受講資格のない方からの申し込みは事務局にて自動的に受付キャンセルの手続きを行います。\n・自動キャンセル扱いとなった場合、受講料は返金いたします。ただし返金手数料が生じる場合の手数料は返金できません。ご自身で受講資格があるかどうか必ず確認の上、申し込みください。 \n問い合わせ先\n一般社団法人　兵庫県作業療法士会　地域ケア推進委員会\n担当者　佐野 善章　  \n申し込み受付\n受け付けは終了しました。
URL:https://ot-hyogo.or.jp/file/event/4448
LOCATION:スペースアルファー三宮
CATEGORIES:兵庫県作業療法士会主催の研修
END:VEVENT
END:VCALENDAR