BEGIN:VCALENDAR
VERSION:2.0
PRODID:-//兵庫県作業療法士会　研修案内 - ECPv6.7.0//NONSGML v1.0//EN
CALSCALE:GREGORIAN
METHOD:PUBLISH
X-WR-CALNAME:兵庫県作業療法士会　研修案内
X-ORIGINAL-URL:https://ot-hyogo.or.jp/file
X-WR-CALDESC:兵庫県作業療法士会　研修案内 のイベント
REFRESH-INTERVAL;VALUE=DURATION:PT1H
X-Robots-Tag:noindex
X-PUBLISHED-TTL:PT1H
BEGIN:VTIMEZONE
TZID:Asia/Tokyo
BEGIN:STANDARD
TZOFFSETFROM:+0900
TZOFFSETTO:+0900
TZNAME:JST
DTSTART:20250101T000000
END:STANDARD
END:VTIMEZONE
BEGIN:VEVENT
DTSTART;TZID=Asia/Tokyo:20251220T190000
DTEND;TZID=Asia/Tokyo:20251220T203000
DTSTAMP:20260421T235920
CREATED:20251110T045756Z
LAST-MODIFIED:20251110T050231Z
UID:4475-1766257200-1766262600@ot-hyogo.or.jp
SUMMARY:第２回ブロック勉強会　「ABD（アクティブ・ブック・ダイアログ）で専門書を読む体験をしてみよう」
DESCRIPTION:●勉強会名\n第２回ブロック勉強会　「ABD（アクティブ・ブック・ダイアログ）で専門書を読む体験をしてみよう」 \n●内容\n皆さんは、ABD（アクティブ・ブック・ダイアログ）という新しい読書法をご存じでしょうか？　ABDとは、1冊の本を複数人で分けて読み、リレー方式でのプレゼンテーション、ディスカッションを行う読み方で、短時間で1冊の本を読み切れて、参加者とディスカッションを行うことで更に理解が深まる　という読書法です。今回、「嫌われる勇気　岸見一郎／古賀史健　緒」という本を題材に、ABDを体験していきたいと思います。\n※主に中播磨ブロック員が対象の勉強会となっておりますが、ブロック員でない方もご参加可能でございます。 \n●日時\n2025年12月20日（土）　19：00〜20：30（受付：18：30〜） \n●会場\nいつきリハビリテーションサービス\n野島　伴浩先生（いつきリハビリテーションサービス） \n●定員\n15名程度 \n●会場整理費\n無料 \n●申し込み方法\n当日会場にて受け付けいたしますので事前申し込みは不要です。 \n●問い合わせ先
URL:https://ot-hyogo.or.jp/file/event/4475
LOCATION:いつきリハビリテーションサービス
CATEGORIES:兵庫県作業療法士会主催の研修
END:VEVENT
END:VCALENDAR