BEGIN:VCALENDAR
VERSION:2.0
PRODID:-//兵庫県作業療法士会　研修案内 - ECPv6.7.0//NONSGML v1.0//EN
CALSCALE:GREGORIAN
METHOD:PUBLISH
X-ORIGINAL-URL:https://ot-hyogo.or.jp/file
X-WR-CALDESC:兵庫県作業療法士会　研修案内 のイベント
REFRESH-INTERVAL;VALUE=DURATION:PT1H
X-Robots-Tag:noindex
X-PUBLISHED-TTL:PT1H
BEGIN:VTIMEZONE
TZID:Asia/Tokyo
BEGIN:STANDARD
TZOFFSETFROM:+0900
TZOFFSETTO:+0900
TZNAME:JST
DTSTART:20260101T000000
END:STANDARD
END:VTIMEZONE
BEGIN:VEVENT
DTSTART;TZID=Asia/Tokyo:20260116T190000
DTEND;TZID=Asia/Tokyo:20260116T210000
DTSTAMP:20260421T222809
CREATED:20251009T094656Z
LAST-MODIFIED:20260113T041711Z
UID:4379-1768590000-1768597200@ot-hyogo.or.jp
SUMMARY:588「淡路ブロックＭＴＤＬＰ事例発表会」締切(発表)1.5 (聴講)1.8
DESCRIPTION:1月13日（火）12時30分頃に研修に関する情報をPeatixから送信しました（以下参照） \n588 淡路ブロックＭＴＤＬＰ事例発表会（1/16）受付完了者へメールを送信しました \nタイトル\n淡路ブロックＭＴＤＬＰ事例発表会 \n内容\nMTDLP基礎研修修了した皆様には、次のステップである実践者研修修了を目指し、自施設で実践を行い、事例発表会にて発表頂きたいと思います。多数の発表よろしくお願いします。また以後発表を予定されている方は聴講者として参加することをおすすめします。 \n2018年度より、発表者は事例発表後に協会の事例報告を行いＭＴＤＬＰ指導者を目指す方（Aコース）と事例発表を行いＭＴＤＬＰ研修修了を目指す方（Bコース）で発表シートを選択できるようになっております。 \n発表者は、「MTDLP事例発表会発表資料変更のおしらせ」「MTDLP事例発表における発表者の皆様へ」をよく読み、資料の作成および事前準備をお願いします。発表に関しては「MTDLP事例発表会に向けたチェックリスト」を必ず参考にして準備をお願いします。 \nMTDLP事例発表会発表資料変更のおしらせ \nMTDLP事例発表における発表者の皆様へ \nMTDLP事例発表会に向けたチェックリスト \n日時\n1月16日（金曜日）　19：00 ～ 21：00（受付 18：45～） \n会　場\nオンライン（Zoom）\n※受付完了者には研修日の３日前（平日のみ）までPeatixメッセージからミーティング情報を配信致します。 \n講　師\n村山　一朗 先生（東浦平成病院） \n定　員\n発表者　2名（生涯ポイント２ポイント）\n聴講者　10名（生涯ポイント２ポイント） \n受講費\n1\,000円（※別途Peatix利用料が加算されます） \n申込条件\n1）発表者・聴講者ともにOT協会員・都道府県士会の両方に入会していること\n2）発表者は、MTDLP基礎研修（平成28年度～現職者選択研修MTDLP）修了者であること\n※申込条件がある場合、申込の時点でその会員資格を有する必要があります\n※条件を満たしていない方からの申し込みは事務局にてキャンセル手続きを自動的に行いますので予めご了承ください。\n（兵庫県士会員か否かの確認はマイページへのログインの可否で判断できます。不明な人はまずはマイページログインができるか試してください。） \n受講条件\nオンラインでの研修会に参加される方は、参加条件・準備事項・個人情報保護について以下の資料を必ずご確認ください。 \nオンライン研修会に参加される皆さまへ \nオンライン研修における研修情報および個人情報保護について \n締め切り\n発表申し込み：1月5日（月）　13時\n聴講申し込み：1月8日（木）　13時\n事例発表資料締切：1月8日（木） \nその他\n・聴講者は、MTDLP研修の要件を満たしません。\n・オンラインでの開催となりますので、発表者の方は当日の資料印刷は必要ありません。\n・締め切り後、研修会担当者から、発表者への連絡が必要な場合は「マイページ 個人用メールアドレス」を使用させていただきます。ご了承下さい。 \n問い合わせ先\n聖隷淡路病院　瀧川未奈　 \nその他\n事務局での自動キャンセル扱いとなった方には「受講に関するお知らせ」が届きません。また自動キャンセル時に返金手続きも完了しています \n申し込み受付\n受付は終了しました
URL:https://ot-hyogo.or.jp/file/event/4379
LOCATION:オンライン(Zoom)
CATEGORIES:兵庫県作業療法士会主催の研修
END:VEVENT
BEGIN:VEVENT
DTSTART;TZID=Asia/Tokyo:20260116T190000
DTEND;TZID=Asia/Tokyo:20260116T210000
DTSTAMP:20260421T222809
CREATED:20251126T060919Z
LAST-MODIFIED:20260113T042236Z
UID:4572-1768590000-1768597200@ot-hyogo.or.jp
SUMMARY:603「気分障害の基礎と作業療法実践」締切1.8
DESCRIPTION:1月13日（火）13時15分頃に研修に関する情報をPeatixから送信しました（以下参照） \n603　阪神北南ブロック第２回研修会　「気分障害の基礎と作業療法実践」（1/16）受付完了者へメールを送信しました \nタイトル\n第2回阪神北南ブロック研修会　 「気分障害の基礎と作業療法実践」 \n内容\n・うつ病を中心に扱う予定です\n・身体障害分野、老年期障害分野等、精神障害を持つ人以外を日々の実践で対象にしている作業療法士にとってもわかりやすい内容になるよう心掛けます \n日時\n2026年1月16日（金曜日）　19：00 ～ 21：00（受付 18：30～） \n会場\n西宮アミティーベイコムホール　501号 \n講師\n胡　友恵先生（神戸大学大学院保健学科研究科・神戸大学医学部保健学科リハビリテーション科学助教） \n定　員\n40名\n※受付完了者には研修日の３日前（平日のみ）までPeatixメッセージから受講に関するお知らせを配信致します。 \n生涯教育ポイント\n☒　２P付与されます \n申込み条件と受講費\n  \n\n\n\n兵庫県士会員\n１，０００円\n\n\nOT協会及び他府県士会の両方に入会しているOT\n兵庫県士会員と同額\n\n\nOT協会のみ入会しているOT\n兵庫県士会員の倍額\n\n\n\nー\n※上記以外のOTは受講できません\n※有料の場合、すべての受講費に別途Peatix利用料が加算されます\n※申込条件がある場合、申込の時点でその会員資格を有する必要があります\n※条件を満たしていない方からの申し込みは事務局にてキャンセル手続きを自動的に行いますので予めご了承ください。\n（兵庫県士会員か否かの確認はマイページへのログインの可否で判断できます。不明な人はまずはマイページログインができるか試してください。） \n締め切り\n2026年1月8日（木）13時 \nその他\n事務局での自動キャンセル扱いとなった方には「ミーティング情報配信メッセージ」が届きません。\nまた自動キャンセル時に返金手続きも完了しています\n問い合わせ先：西宮協立リハビリテーション病院　高橋快　 \n申し込み受付\n受付は終了しました
URL:https://ot-hyogo.or.jp/file/event/4572
LOCATION:西宮アミティーベイコムホール
CATEGORIES:兵庫県作業療法士会主催の研修
END:VEVENT
BEGIN:VEVENT
DTSTART;TZID=Asia/Tokyo:20260116T190000
DTEND;TZID=Asia/Tokyo:20260116T210000
DTSTAMP:20260421T222809
CREATED:20251202T064933Z
LAST-MODIFIED:20260113T012612Z
UID:4584-1768590000-1768597200@ot-hyogo.or.jp
SUMMARY:604「神戸ブロック ＭＴＤＬＰ事例発表会について」締切(発表/聴講)1.8
DESCRIPTION:この研修は開催中止となりました \nお申込みいただいた方へ個別で事務局よりご案内をお送りしていますのでご確認ください。 \nタイトル\n神戸ブロック ＭＴＤＬＰ事例発表会 \n内容\nMTDLP基礎研修修了した皆様には、次のステップである実践者研修修了を目指し、自施設で実践を行い、事例発表会にて発表頂きたいと思います。多数の発表よろしくお願いします。また以後発表を予定されている方は聴講者として参加することをおすすめします。 \n2018年度より、発表者は事例発表後に協会の事例報告を行いＭＴＤＬＰ指導者を目指す方（Aコース）と事例発表を行いＭＴＤＬＰ研修修了を目指す方（Bコース）で発表シートを選択できるようになっております。 \n発表者は、「MTDLP事例発表会発表資料変更のおしらせ」「MTDLP事例発表における発表者の皆様へ」をよく読み、資料の作成および事前準備をお願いします。発表に関しては「MTDLP事例発表会に向けたチェックリスト」を必ず参考にして準備をお願いします。 \nMTDLP事例発表会発表資料変更のおしらせ \nMTDLP事例発表における発表者の皆様へ \nMTDLP事例発表会に向けたチェックリスト \n日時\n2026年1月16日（金曜日）19：00 ～ 21：00（受付 18：45～） \n会　場\nオンライン（Zoom）\n※受付完了者には研修日の３日前（平日のみ）までPeatixメッセージからミーティング情報を配信致します。 \n講　師\n柴田八衣子　先生　(兵庫県立リハビリテーション中央病院) \n定　員\n発表者　２名（生涯ポイント２ポイント）\n聴講者１５名（生涯ポイント２ポイント） \n受講費\n1\,000円（※別途Peatix利用料が加算されます） \n申込条件\n1）発表者・聴講者ともにOT協会員・都道府県士会の両方に入会していること\n2）発表者は、MTDLP基礎研修（平成28年度～現職者選択研修MTDLP）修了者であること\n※申込条件がある場合、申込の時点でその会員資格を有する必要があります\n※条件を満たしていない方からの申し込みは事務局にてキャンセル手続きを自動的に行いますので予めご了承ください。\n（兵庫県士会員か否かの確認はマイページへのログインの可否で判断できます。不明な人はまずはマイページログインができるか試してください。） \n受講条件\nオンラインでの研修会に参加される方は、参加条件・準備事項・個人情報保護について以下の資料を必ずご確認ください。 \nオンライン研修会に参加される皆さまへ \nオンライン研修における研修情報および個人情報保護について \n締め切り\n発表申し込み：2026年1月8日（木）　13時\n聴講申し込み：2026年1月8日（木）　13時\n事例発表資料締切：2026年1月8日（木） \nその他\n・聴講者は、MTDLP研修の要件を満たしません。\n・オンラインでの開催となりますので、発表者の方は当日の資料印刷は必要ありません。\n・締め切り後、研修会担当者から、発表者への連絡が必要な場合は「マイページ 個人用メールアドレス」を使用させていただきます。ご了承下さい。 \n問い合わせ先\n新須磨リハビリテーション病院　新山　耕平\n \nその他\n事務局での自動キャンセル扱いとなった方には「受講に関するお知らせ」が届きません。また自動キャンセル時に返金手続きも完了しています \n申し込み受付\n受付は終了しました
URL:https://ot-hyogo.or.jp/file/event/4584
LOCATION:オンライン(Zoom)
CATEGORIES:兵庫県作業療法士会主催の研修
END:VEVENT
BEGIN:VEVENT
DTSTART;TZID=Asia/Tokyo:20260116T193000
DTEND;TZID=Asia/Tokyo:20260116T210000
DTSTAMP:20260421T222809
CREATED:20251219T142350Z
LAST-MODIFIED:20251219T142545Z
UID:4649-1768591800-1768597200@ot-hyogo.or.jp
SUMMARY:「第8回 神戸ブロック勉強会（小児分野）」締切1.15
DESCRIPTION:タイトル\n第8回　神戸ブロック勉強会（小児分野） \n内容\n特別支援学校の作業療法相談ケース報告会① \n日時\n1月16日（金）　19：30～ 21：00（受付開始19:15〜） \n会場\nあすてっぷKOBE セミナー5（神戸市男女共同参画センター） \n講師\n若林　秀昭　先生\n(明石市立あおぞら園・きらきら施設長） \n定員\n人数問わず \n費用\n無料 \n申込み方法\nGoogleフォームにて以下の内容をお送りください。\n①氏名　②所属　③職種　④経験年数　⑤メールアドレス（対面での研修のため入力なしでも可能） \n申込み／問合せ\nhttps://docs.google.com/forms/d/1qZ-TwFAU_8Y2H5QULWytaH2K6U-uFywM91qikTttHGU/viewform?edit_requested=true \n締め切り\n1月15日（木）13時
URL:https://ot-hyogo.or.jp/file/event/4649
LOCATION:あすてっぷKOBE セミナー5
CATEGORIES:兵庫県作業療法士会主催の研修
END:VEVENT
END:VCALENDAR