BEGIN:VCALENDAR
VERSION:2.0
PRODID:-//兵庫県作業療法士会　研修案内 - ECPv6.7.0//NONSGML v1.0//EN
CALSCALE:GREGORIAN
METHOD:PUBLISH
X-ORIGINAL-URL:https://ot-hyogo.or.jp/file
X-WR-CALDESC:兵庫県作業療法士会　研修案内 のイベント
REFRESH-INTERVAL;VALUE=DURATION:PT1H
X-Robots-Tag:noindex
X-PUBLISHED-TTL:PT1H
BEGIN:VTIMEZONE
TZID:Asia/Tokyo
BEGIN:STANDARD
TZOFFSETFROM:+0900
TZOFFSETTO:+0900
TZNAME:JST
DTSTART:20260101T000000
END:STANDARD
END:VTIMEZONE
BEGIN:VEVENT
DTSTART;TZID=Asia/Tokyo:20260124T093000
DTEND;TZID=Asia/Tokyo:20260124T123000
DTSTAMP:20260421T222810
CREATED:20251029T054747Z
LAST-MODIFIED:20260121T035818Z
UID:4431-1769247000-1769257800@ot-hyogo.or.jp
SUMMARY:592「中播磨ブロック 現職者共通研修 事例検討・事例報告」締切(発表)12.15 (検討/聴講)1.9
DESCRIPTION:1月21日（水）12時00分頃に研修に関する情報をPeatixから送信しました（以下参照）\n592　中播磨ブロック現職者共通研修事例検討・事例報告（1/24）受付完了者へメールを送信しました  \nタイトル\n中播磨ブロック　現職者共通研修 事例検討・事例報告 \n日　時\n2026年1月24日（土）　9：30 ～ 12：30（受付 9：00～） \n会　場\n姫路医療専門学校（大講義室）\n※受付完了者には研修日の３日前（平日のみ）までPeatixメッセージから受講に関するお知らせを配信致します。 \n講　師\n未定 \n定　員\n発表者　30名　（生涯教育ポイント2P）\n検討者　制限なし　（生涯教育ポイント2P）\n聴講者　制限なし　（生涯教育ポイント非該当） \n受講費\n発表者及び検討者　1\,000円\n同時履修者　　　　2\,000円\n※別途Peatix利用料が加算されます\n※聴講者は受講費不要です \n申込条件\n発表者；兵庫県作業療法士会会員であること\n検討者；OT協会員であること\n※発表者・検討者は２０２４年度までにOT協会入会済の会員であること \n聴講者；特になし\n※申込条件がある場合、申込の時点でその会員資格を有する必要があります\n※条件を満たしていない方からの申し込みは事務局にてキャンセル手続きを自動的に行いますので予めご了承ください。（兵庫県士会員か否かの確認はマイページへのログインの可否で判断できます。不明な人はまずはマイページログインができるか試してください。） \n締め切り\n発表者　2025年12月15日（月）13時\n検討者　2026年1月9日（金）13時\n聴講者　2026年1月9日（金）13時 \n事例報告指導者について\n 発表者には受付時に「事例報告指導者の情報」を入力していただきます。氏名、OT協会会員番号、所属先を確認の上、申し込みをお願いします。\n 事例報告指導者は日本作業療法士協会会員かつ都道府県作業療法士会会員であり、生涯教育制度基礎研修修了者が条件となります\n 事例報告指導者が不在の場合、下記の問い合わせ先e-mailへその旨をご連絡ください。ブロックより事例報告指導者の紹介を致します。\n 事例報告指導者の報告会当日の出席につきましては、可能な限りご出席頂きますようお願いします。ご参加いただく場合は検討者または聴講者の申し込みをお願いします。 \n問い合わせ先\n中播磨ブロック　ブロック長　野島\n \nその他\n・本研修会は2024年度までの協会入会者を対象としております。2025年度以降の協会入会者につきましては受講できません。2025年度以降の協会入会者からの申込があった場合、事務局で自動キャンセルを行いますので予めご了承ください。 \n・事務局での自動キャンセル扱いとなった方には「受講に関するお知らせ」が届きません。また自動キャンセル時に返金手続きも完了しています。 \n『発表までの流れ』\n① 各発表資料提出について\n各発表資料を提出期限までに提出ください。\n発表資料とは、発表用レジュメ(Windows Word)及び発表用スライド(Windows PowerPoint)\nを指します。各提出日を厳守いただき、下記の問い合わせ先に送信ください。 \n●発表用レジュメの提出期限は2025年12月22日（月曜日）です。 \nレジュメは規定の形式が決まっています。Microsoft Wordで作成しPDFに変換をしてください。\n以下のページ(レジュメのフォーマットについて)から、規定形式を参照の上、１ページに収まるよう作成ください。\nレジュメ提出の際はPDF形式にて下記の問い合わせ先に送信してください。\n＊発表資料に支障がでる為、文字数、フォント、余白、ヘッダーやフッターの使用等すべての設定は変更禁止です。 \n●発表用スライドは発表当日にUSBでデータを持参してください。\nMicrosoft Power Pointで作成ください。\n発表時間7分 ＋ 質疑応答となります。尚、発表用スライドはアニメーションを使用しないようお願いします。 \n＊レジュメのファイル名は、会員番号.名前.所属にしてください。\n例）9999999.兵庫太郎.〇△□病院\n尚、提出先につきましては、下記の問い合わせ先になります。 \n問い合わせ先： \n– \n　発表用レジュメのフォーマットについて \n–– \n申し込み受付\n発表者・発表と検討同時履修者はコチラ\n受付終了致しました \n検討のみ・聴講者・事例報告指導者はコチラ\n受付終了致しました
URL:https://ot-hyogo.or.jp/file/event/4431
LOCATION:姫路医療専門学校
CATEGORIES:兵庫県作業療法士会主催の研修
END:VEVENT
END:VCALENDAR