BEGIN:VCALENDAR
VERSION:2.0
PRODID:-//兵庫県作業療法士会　研修案内 - ECPv6.7.0//NONSGML v1.0//EN
CALSCALE:GREGORIAN
METHOD:PUBLISH
X-ORIGINAL-URL:https://ot-hyogo.or.jp/file
X-WR-CALDESC:兵庫県作業療法士会　研修案内 のイベント
REFRESH-INTERVAL;VALUE=DURATION:PT1H
X-Robots-Tag:noindex
X-PUBLISHED-TTL:PT1H
BEGIN:VTIMEZONE
TZID:Asia/Tokyo
BEGIN:STANDARD
TZOFFSETFROM:+0900
TZOFFSETTO:+0900
TZNAME:JST
DTSTART:20260101T000000
END:STANDARD
END:VTIMEZONE
BEGIN:VEVENT
DTSTART;TZID=Asia/Tokyo:20260125T093000
DTEND;TZID=Asia/Tokyo:20260125T143000
DTSTAMP:20260421T222808
CREATED:20251215T070416Z
LAST-MODIFIED:20260119T041716Z
UID:4638-1769333400-1769351400@ot-hyogo.or.jp
SUMMARY:606「東播磨ブロック 現職者共通研修 事例検討・事例報告」締切(発表)1.9 (検討/聴講)1.20
DESCRIPTION:本研修は、中止が決定致しました。\nタイトル\n東播磨ブロック現職者共通研修 事例検討・事例報告 \n日　時\n2026年1月25日（日曜日）　９：３０ ～１４：３０（受付 ９：００～） \n会　場\n明石仁十病院 別棟2F 会議室\n※受付完了者には研修日の３日前（平日のみ）までPeatixメッセージから受講に関するお知らせを配信致します。 \n定　員\n発表者　１５名　（生涯教育ポイント２P）\n検討者　１５名　（生涯教育ポイント２P）\n聴講者　１０名　（生涯教育ポイント非該当） \n受講費\n発表者及び検討者　1\,000円\n同時履修者　　　　2\,000円\n※別途Peatix利用料が加算されます\n※聴講者は受講費不要です \n申込条件\n発表者；兵庫県作業療法士会会員であること\n検討者；OT協会員であること\n※発表者・検討者は２０２４年度までにOT協会入会済の会員であること\n聴講者；特になし\n※申込条件がある場合、申込の時点でその会員資格を有する必要があります。\n※条件を満たしていない方からの申し込みは事務局にてキャンセル手続きを自動的に行いますので予めご了承ください。\n（兵庫県士会員か否かの確認はマイページへのログインの可否で判断できます。不明な人はまずはマイページログインができるか試してください。） \n締め切り\n発表者　1月9日（金）13時\n検討者　1月20日（火）13時\n聴講者　1月20日（火）13時 \n事例報告指導者について\n・ 発表者には受付時に「事例報告指導者の情報」を入力していただきます。氏名、OT協会会員番号、所属先を確認の上、申し込みをお願いします。 \n・ 事例報告指導者は日本作業療法士協会会員かつ都道府県作業療法士会会員であり、生涯教育制度基礎研修修了者が条件となります。 \n・ 事例報告指導者が不在の場合、下記の問い合わせ先e-mailへその旨をご連絡ください。ブロックより事例報告指導者の紹介を致します。 \n・ 事例報告指導者の報告会当日の出席につきましては、可能な限りご出席頂きますようお願いします。ご参加いただく場合は検討者または聴講者の申し込みをお願いします。 \n問い合わせ先\n介護老人保健施設 恵泉　大垣　和也\n \nその他\n・本研修会は2024年度までの協会入会者を対象としております。2025年度以降の協会入会者につきましては受講できません。2025年度以降の協会入会者からの申込があった場合、事務局で自動キャンセルを行いますので予めご了承ください。 \n・事務局での自動キャンセル扱いとなった方には「受講に関するお知らせ」が届きません。また自動キャンセル時に返金手続きも完了しています。 \n申し込み受付\n発表者・発表と検討同時履修者はコチラ\n受け付けを終了しました\n–\n検討のみ・聴講者・事例報告指導者はコチラ\n中止の為、受け付けを終了しました
URL:https://ot-hyogo.or.jp/file/event/4638
LOCATION:明石仁十病院
CATEGORIES:兵庫県作業療法士会主催の研修
END:VEVENT
END:VCALENDAR