BEGIN:VCALENDAR
VERSION:2.0
PRODID:-//兵庫県作業療法士会　研修案内 - ECPv6.7.0//NONSGML v1.0//EN
CALSCALE:GREGORIAN
METHOD:PUBLISH
X-ORIGINAL-URL:https://ot-hyogo.or.jp/file
X-WR-CALDESC:兵庫県作業療法士会　研修案内 のイベント
REFRESH-INTERVAL;VALUE=DURATION:PT1H
X-Robots-Tag:noindex
X-PUBLISHED-TTL:PT1H
BEGIN:VTIMEZONE
TZID:Asia/Tokyo
BEGIN:STANDARD
TZOFFSETFROM:+0900
TZOFFSETTO:+0900
TZNAME:JST
DTSTART:20220101T000000
END:STANDARD
END:VTIMEZONE
BEGIN:VEVENT
DTSTART;TZID=Asia/Tokyo:20221106T090000
DTEND;TZID=Asia/Tokyo:20221106T163000
DTSTAMP:20260424T074521
CREATED:20220922T033247Z
LAST-MODIFIED:20230731T075955Z
UID:439-1667725200-1667752200@ot-hyogo.or.jp
SUMMARY:415「認知症臨床作業士育成研修会ステップⅡ」締切10.31
DESCRIPTION:テーマ\n認知症臨床作業療法士育成研修会ステップⅡ　～認知症作業療法の臨床を深める～ \n内容\n\n\n\n8:30~9:00\n受付\n\n\n9:00~9:40\n医療保険領域における認知症アプローチの実際と課題\n\n\n9:40~9:45\n休憩\n\n\n9:45~10:25\n介護保険領域における認知症アプローチの実際と課題\n\n\n10:25~10:30\n休憩\n\n\n10:30~12:00\n事例（GP）報告\n\n\n12:00~12:45\n昼休憩\n\n\n12:45~13:45\n事例検討\n\n\n13:45~13:50\n休憩\n\n\n13:50~14:20\n発表\n\n\n14:20~14:25\n休憩\n\n\n14:25~15:05\n地域支援関連の実際と課題　認知症初期集中支援\n\n\n15:05~15:10\n休憩\n\n\n15:10~15:50\n地域支援関連の実際と課題　介護保険外の取り組み\n\n\n15:50~16:10\nSTEP3オリエンテーション\n\n\n16:10~16:20\nまとめ・アンケート\n\n\n\n日時\n令和4年11月6日㈰　9:00～16:20 \n会場\nWEB開催\n※受付完了者に研修日の３日前（平日のみ）までにメールにてミーティングを配信します \n→11/2（水）12時00分頃にミーティング情報配信完了しました。（以下参照） \n【事務局より】415　認知症臨床作業療法士会育成研修会ステップⅡ（11/6）受講確定者へメールを送信しました \n講師\n認知症対策委員 \n定員\n30名 \n生涯教育ポイント\n☒　２P付与されます \n受講費\n1000円（銀行振り込みのみ対応） \n【振込みの際のご注意】\n「振込人名」の後に「ニン415　OT協会番号」を追加してください。\n（例：ヒョウゴタロウ　ニン415　12345）\n※振込人名後の「ニン415」で本研修の受講費として処理します。忘れずにご入力をお願いいたします。振込人名のみ場合は確認連絡が届く可能性があります。\n※振込時にお手元に残る振込明細書（記録）は研修会開始まで保管ください。\n※受講料の入金と下記申込ボタンからの申し込みが揃った時点で受付完了となります。\n－いずれか一方でも確認できない場合、申し込みは自動キャンセルとなります。 \n【振込先口座】→受付終了のため削除しました \n申込み条件\n☒　兵庫県士会員 \n受講条件\nオンラインでの研修会に参加される方は、参加条件・準備事項・個人情報保護について以下の資料を必ずご確認ください。 \nオンライン研修会に参加される皆さまへ \nオンライン研修における研修情報および個人情報保護について \n締め切り\n10月31日（月）　13時 \nその他\n過去にステップⅠを受講された方が対象です。\n当日に画面共有や提出をして頂きますので、GPとGP同意書又はGP文献引用編のご準備をお願いします。 \n問い合わせ先\n関西総合リハビリテーション専門学校　前谷一旗\n \n申し込み受付は終了しました
URL:https://ot-hyogo.or.jp/file/event/415%e3%80%8c%e8%aa%8d%e7%9f%a5%e7%97%87%e8%87%a8%e5%ba%8a%e4%bd%9c%e6%a5%ad%e5%a3%ab%e8%82%b2%e6%88%90%e7%a0%94%e4%bf%ae%e4%bc%9a%e3%82%b9%e3%83%86%e3%83%83%e3%83%97%e2%85%b1%e3%80%8d%e7%b7%a0
LOCATION:WEB
CATEGORIES:兵庫県作業療法士会主催の研修
END:VEVENT
BEGIN:VEVENT
DTSTART;TZID=Asia/Tokyo:20221111T190000
DTEND;TZID=Asia/Tokyo:20221111T210000
DTSTAMP:20260424T074521
CREATED:20221003T075850Z
LAST-MODIFIED:20221108T065938Z
UID:483-1668193200-1668200400@ot-hyogo.or.jp
SUMMARY:418「認知症のある方の生きる世界に触れる」締切11.02
DESCRIPTION:テーマ\n第2回阪神北南ブロック研修会\n認知症のある方の生きる世界に触れる \n内容\n認知症の生活障害についてのアセスメントとアプローチ \n日時\n2022年11月11日（金曜日）　19時〜21時（受付開始：18時45分） \n会場\nオンライン開催（ZOOM）\n※受付完了者に研修日の３日前（平日のみ）までにメールにてミーティングを配信します \n→11/8（火）12時00分頃にミーティング情報配信完了しました。（以下参照） \n→11/8（火）16時00分頃にミーティング情報メールを再送しました。後から届いたメールをご確認ください。 \n【事務局より】418　阪神北南ブロック第２回ブロック研修会（11/11）受講確定者へメールを送信しました \n\n講師\n鍛治　実　先生　（赤穂市立介護老人保健施設　老健あこう） \n定員\n30名程度 \n生涯教育ポイント\n☒　２P付与されます \n受講費\n1000円（銀行振り込みのみ対応）\n–\n【振込みの際のご注意】\n「振込人名」の後に「ハ418　OT協会番号」を追加してください。\n（例：ヒョウゴタロウ　ハ418　12345　）\n※振込人名後の「ハ418」で本研修の受講費として処理します。忘れずにご入力をお願いいたします。振込人名のみ場合は確認連絡が届く可能性があります。\n※振込時にお手元に残る振込明細書（記録）は研修会開始まで保管ください。\n※受講料の入金と下記申込ボタンからの申し込みが揃った時点で受付完了となります。\nーいずれか一方でも確認できない場合、申し込みは自動キャンセルとなります。\n–\n【振込先口座】→受付終了につき削除しました \n申込み条件\n☒　兵庫県士会員\n☒　兵庫県士会員以外（OT協会に在籍する他府県士会員） \n受講条件\nオンラインでの研修会に参加される方は、参加条件・準備事項・個人情報保護について以下の資料を必ずご確認ください。 \nオンライン研修会に参加される皆さまへ \nオンライン研修における研修情報および個人情報保護について \n締め切り\n2022年11月2日（13時まで） \n問い合わせ先\nひょうごこころの医療センター　作業療法士　名畑　太貴\n \n－ \n申し込み受付は終了しました
URL:https://ot-hyogo.or.jp/file/event/418%e3%80%8c%e8%aa%8d%e7%9f%a5%e7%97%87%e3%81%ae%e3%81%82%e3%82%8b%e6%96%b9%e3%81%ae%e7%94%9f%e3%81%8d%e3%82%8b%e4%b8%96%e7%95%8c%e3%81%ab%e8%a7%a6%e3%82%8c%e3%82%8b%e3%80%8d%e7%b7%a0%e5%88%8711-02
LOCATION:オンライン(Zoom)
CATEGORIES:兵庫県作業療法士会主催の研修
END:VEVENT
BEGIN:VEVENT
DTSTART;TZID=Asia/Tokyo:20221111T193000
DTEND;TZID=Asia/Tokyo:20221111T213000
DTSTAMP:20260424T074521
CREATED:20221007T084038Z
LAST-MODIFIED:20221108T040559Z
UID:493-1668195000-1668202200@ot-hyogo.or.jp
SUMMARY:420「肩関節の触診・治療」締切11.2
DESCRIPTION:テーマ\n神戸ブロック研修会　肩関節の触診・治療 \n内容\n肩関節の触診・治療 \n日時\n2022年11月11日(金)　19：30～21：30 \n会場\nオンライン(ZOOM)\n※受付完了者に研修日の３日前（平日のみ）までにメールにてミーティングを配信します \n→11/8（火）13時00分頃にミーティング情報配信完了しました。（以下参照） \n【事務局より】420　神戸ブロック研修会（11/11）受講確定者へメールを送信しました \n講師\n水島　健太郎先生　(大久保病院　理学療法士) \n定員\n80名 \n生涯教育ポイント\n☒　２P付与されます \n受講費\n2000円（銀行振り込みのみ対応） \n【振込みの際のご注意】\n「振込人名」の後に「コ420　OT協会番号」を追加してください。\n（例：ヒョウゴタロウ　コ420　12345）\n※振込人名後の「コ420」で本研修の受講費として処理します。忘れずにご入力をお願いいたします。振込人名のみ場合は確認連絡が届く可能性があります。\n※振込時にお手元に残る振込明細書（記録）は研修会開始まで保管ください。\n※受講料の入金と下記申込ボタンからの申し込みが揃った時点で受付完了となります。\nーいずれか一方でも確認できない場合、申し込みは自動キャンセルとなります。 \n【振込先口座】→受付終了のため削除しました \n申込み条件\n☒　兵庫県士会員 \n受講条件\nオンラインでの研修会に参加される方は、参加条件・準備事項・個人情報保護について以下の資料を必ずご確認ください。 \nオンライン研修会に参加される皆さまへ \nオンライン研修における研修情報および個人情報保護について \n締め切り\n11月2日(水)13時 \n問い合わせ先\n名谷病院　吉留　実悠\n \n申し込み受付は終了しました
URL:https://ot-hyogo.or.jp/file/event/420%e3%80%8c%e8%82%a9%e9%96%a2%e7%af%80%e3%81%ae%e8%a7%a6%e8%a8%ba%e3%83%bb%e6%b2%bb%e7%99%82%e3%80%8d%e7%b7%a0%e5%88%8711-2
LOCATION:オンライン(Zoom)
CATEGORIES:兵庫県作業療法士会主催の研修
END:VEVENT
BEGIN:VEVENT
DTSTART;TZID=Asia/Tokyo:20221118T190000
DTEND;TZID=Asia/Tokyo:20221118T210000
DTSTAMP:20260424T074521
CREATED:20220928T111025Z
LAST-MODIFIED:20221115T030708Z
UID:454-1668798000-1668805200@ot-hyogo.or.jp
SUMMARY:416「社会生活を見据えたプログラムをつくる」締切11.10
DESCRIPTION:研修案内のダウンロードはこちら \nテーマ\n丹波・北播磨ブロック＆精神分野作業療法委員会共催\n第一回人材育成研修会\n「社会生活を見据えたプログラムをつくる」 \n内容\n精神分野だけでなく、様々な分野で実践できるプログラムを考える研修です。\n分野を問わず、地域社会とつながるOTプログラムを考えたい作業療法士が対象です。 \n日時\n２０２２年１１月１８日（金）１９：００～２１：００ \n会場\nオンライン開催\n※受付完了者に研修日の３日前（平日のみ）までにメールにてミーティングを配信します \n→11/15（火）12時00分頃にミーティング情報配信完了しました。（以下参照） \n【事務局より】416　丹波北播磨ブロック＆精神分野作業療法委員会共催研修会（11/18）受講確定者へメールを送信しました \n講師\n宮崎宏興（ＮＰＯ法人いねいぶる） \n定員\n４０名 \n生涯教育ポイント\n☒　２P付与されます \n受講費\n（銀行振り込みのみ対応）\n兵庫県士会員　1\,000円\n兵庫県士会員以外（OT協会に在籍する他府県士会員）　1\,000円\n日本OT協会・他府県士会に在籍していないOT　2\,000円 \n【振込みの際のご注意】\n「振込人名」の後に「セ416　OT協会番号」を追加してください。\n（例：ヒョウゴタロウ　セ416　12345　協会番号のないOTは　セ416　のみを追加）\n※振込人名後の「セ416」で本研修の受講費として処理します。忘れずにご入力をお願いいたします。振込人名のみ場合は確認連絡が届く可能性があります。\n※振込時にお手元に残る振込明細書（記録）は研修会開始まで保管ください。\n※受講料の入金と下記申込ボタンからの申し込みが揃った時点で受付完了となります。\nーいずれか一方でも確認できない場合、申し込みは自動キャンセルとなります。 \n【振込先口座】\n金融機関：三井住友銀行　普通口座　北須磨支店　5206374\n名義人 ：一般社団法人兵庫県作業療法士会 \n申込み条件\n☒　兵庫県士会員\n☒　兵庫県士会員以外（OT協会に在籍する他府県士会員）\n☒　その他（日本OT協会・他府県士会に在籍していないOT） \n受講条件\nオンラインでの研修会に参加される方は、参加条件・準備事項・個人情報保護について以下の資料を必ずご確認ください。 \nオンライン研修会に参加される皆さまへ \nオンライン研修における研修情報および個人情報保護について \n締め切り\n１１月１０日（木）１３時まで \n問い合わせ先\n精神分野作業療法委員会　(森川)\n \n－ \n申し込み受付は終了しました
URL:https://ot-hyogo.or.jp/file/event/416%e3%80%8c%e7%a4%be%e4%bc%9a%e7%94%9f%e6%b4%bb%e3%82%92%e8%a6%8b%e6%8d%ae%e3%81%88%e3%81%9f%e3%83%97%e3%83%ad%e3%82%b0%e3%83%a9%e3%83%a0%e3%82%92%e3%81%a4%e3%81%8f%e3%82%8b%e3%80%8d%e7%b7%a0
LOCATION:オンライン(Zoom)
CATEGORIES:兵庫県作業療法士会主催の研修
END:VEVENT
BEGIN:VEVENT
DTSTART;TZID=Asia/Tokyo:20221124T190000
DTEND;TZID=Asia/Tokyo:20221124T190000
DTSTAMP:20260424T074521
CREATED:20221017T065602Z
LAST-MODIFIED:20221114T005733Z
UID:500-1669316400-1669316400@ot-hyogo.or.jp
SUMMARY:【日程延期】421「地域チームの作り方 ～ 何を知るか？知らせるか？ ～」締切11.17
DESCRIPTION:この研修は日程延期となりました\nテーマ\n東播磨ブロック主催　第3回ブロック研修会\n「地域チームの作り方 ～ 何を知るか？知らせるか？ ～」 \n内容\n・精神科病院内，病院外（地域）でのチームの作り方について \n・病院勤務，就労支援施設の立ち上げを経て、今考える事 \nの上記の2点についてお話して頂き、それをふまえて入院患者様を地域に繋げる際に実際に起こっている事や地域での現状を参加者・講師で共有できたらと思います。 \n日時\n令和4年11月24日（木）19:00 ～（受付18:45～） \n会場\nWeb開催（ zoom使用 ）\n※受付完了者に研修日の３日前（平日のみ）までにメールにてミーティングを配信します \n講師\n関西青少年サナトリューム　馬場 麻里子先生 \n定員\n30名 \n生涯教育ポイント\n☒　２P付与されます \n受講費\n1000円（銀行振り込みのみ対応）\n【振込みの際のご注意】\n「振込人名」の後に「ヒ421　OT協会番号」を追加してください。\n（例：ヒョウゴタロウ　ヒ421　12345）\n※振込人名後の「ヒ421」で本研修の受講費として処理します。忘れずにご入力をお願いいたします。振込人名のみ場合は確認連絡が届く可能性があります。\n※振込時にお手元に残る振込明細書（記録）は研修会開始まで保管ください。\n※受講料の入金と下記申込ボタンからの申し込みが揃った時点で受付完了となります。\nーいずれか一方でも確認できない場合、申し込みは自動キャンセルとなります。 \n【振込先口座】\n金融機関：三井住友銀行　普通口座　北須磨支店　5206374\n名義人 ：一般社団法人兵庫県作業療法士会 \n申込み条件\n☒　兵庫県士会員\n☒　兵庫県士会員以外（OT協会に在籍する他府県士会員） \n受講条件\nオンラインでの研修会に参加される方は、参加条件・準備事項・個人情報保護について以下の資料を必ずご確認ください。 \nオンライン研修会に参加される皆さまへ \nオンライン研修における研修情報および個人情報保護について \n締め切り\n2022年11月 17日（ 木 ） 13:00締め切り \n問い合わせ先\n大谷将之\n \nこの研修は日程延期となりました\n 
URL:https://ot-hyogo.or.jp/file/event/421%e3%80%8c%e5%9c%b0%e5%9f%9f%e3%83%81%e3%83%bc%e3%83%a0%e3%81%ae%e4%bd%9c%e3%82%8a%e6%96%b9-%ef%bd%9e-%e4%bd%95%e3%82%92%e7%9f%a5%e3%82%8b%e3%81%8b%ef%bc%9f%e7%9f%a5%e3%82%89%e3%81%9b%e3%82%8b
LOCATION:オンライン(Zoom)
CATEGORIES:兵庫県作業療法士会主催の研修
END:VEVENT
BEGIN:VEVENT
DTSTART;TZID=Asia/Tokyo:20221127T093000
DTEND;TZID=Asia/Tokyo:20221127T123000
DTSTAMP:20260424T074521
CREATED:20221107T050209Z
LAST-MODIFIED:20221107T082358Z
UID:643-1669541400-1669552200@ot-hyogo.or.jp
SUMMARY:ケアマネジャー＆リハ専門職ジョイント研修会
DESCRIPTION:チラシのダウンロードはコチラから\n–
URL:https://ot-hyogo.or.jp/file/event/%e3%82%b1%e3%82%a2%e3%83%9e%e3%83%8d%e3%82%b8%e3%83%a3%e3%83%bc%ef%bc%86%e3%83%aa%e3%83%8f%e5%b0%82%e9%96%80%e8%81%b7%e3%82%b8%e3%83%a7%e3%82%a4%e3%83%b3%e3%83%88%e7%a0%94%e4%bf%ae%e4%bc%9a
LOCATION:会場参加 と Web 参加 による ハイブリッド開催
CATEGORIES:兵庫県作業療法士会主催の研修
END:VEVENT
END:VCALENDAR