BEGIN:VCALENDAR
VERSION:2.0
PRODID:-//兵庫県作業療法士会　研修案内 - ECPv6.7.0//NONSGML v1.0//EN
CALSCALE:GREGORIAN
METHOD:PUBLISH
X-WR-CALNAME:兵庫県作業療法士会　研修案内
X-ORIGINAL-URL:https://ot-hyogo.or.jp/file
X-WR-CALDESC:兵庫県作業療法士会　研修案内 のイベント
REFRESH-INTERVAL;VALUE=DURATION:PT1H
X-Robots-Tag:noindex
X-PUBLISHED-TTL:PT1H
BEGIN:VTIMEZONE
TZID:Asia/Tokyo
BEGIN:STANDARD
TZOFFSETFROM:+0900
TZOFFSETTO:+0900
TZNAME:JST
DTSTART:20230101T000000
END:STANDARD
END:VTIMEZONE
BEGIN:VEVENT
DTSTART;TZID=Asia/Tokyo:20230421T194000
DTEND;TZID=Asia/Tokyo:20230421T210000
DTSTAMP:20260424T002329
CREATED:20230403T053814Z
LAST-MODIFIED:20230403T053814Z
UID:1227-1682106000-1682110800@ot-hyogo.or.jp
SUMMARY:神戸ブロック勉強会（小児分野）締切4.20
DESCRIPTION:テーマ\n「小児施設情報交換会」 \n内容\n発表：兵庫県内の小児施設、OT在籍小児施設の情報発信 \n参加者同士での施設紹介会 \n日時\n2023年4月21日（金）\n19:40～21:00　 （19:30受付開始） \n場所（ツール）\nオンライン（zoomで開催） \n発表者\n公益財団法人ひょうご子どもと家庭福祉財団　井上　舞\n施設紹介時は参加者（場所や対象の紹介など） \n会場整理費\n無料 \n申し込み方法\nメールにて、以下の内容をお送りください。\n①氏名\n②所属\n③職種\n④経験年数 \n申し込み先\n\n（代表：井上） \n〆切\n2023年4月20日（木）17:00\n〆切後、申し込みいただいたメールアドレスへzoomの案内を送らせていただきます。
URL:https://ot-hyogo.or.jp/file/event/%e7%a5%9e%e6%88%b8%e3%83%96%e3%83%ad%e3%83%83%e3%82%af%e5%8b%89%e5%bc%b7%e4%bc%9a%ef%bc%88%e5%b0%8f%e5%85%90%e5%88%86%e9%87%8e%ef%bc%89%e7%b7%a0%e5%88%874-20
LOCATION:オンライン(Zoom)
CATEGORIES:兵庫県作業療法士会主催の研修
END:VEVENT
END:VCALENDAR